{"text_format":"3","workbook":"xlsx","n_sheets":14,"sheets":["交付規程様式(地域センター)⇒","様式第１_交付申請書","別紙１_実施計画書","別紙２_経費内訳","様式第１０_完了実績報告書","別紙１_実施報告書","別紙２_経費所要額積算調書","PDCAシート様式⇒","手順書","【事業開始時】事業全体","【実施期間中】個別事業におけるPDCAシート","【事業終了時】事業全体","（参考）普及啓発テーマ・訴求手法","【管理者用】"],"not_rendered":{"macros":1,"defined_names":13,"comments":3},"read":"whole","date_system":"1900"}

{"sheet":"交付規程様式(地域センター)⇒","index":0,"n_rows":17,"n_cols":3,"rows_kept":17,"merged":[[0,0,0,7],[2,1,2,7],[3,1,3,7],[4,1,4,7],[5,1,5,7],[6,1,6,7],[7,1,7,7],[8,0,8,7],[9,0,9,7]]}
["交付規程様式等"]
[]
["様式第１","交付申請書（第５条関係）"]
[null,"別紙１　実施計画書"]
[null,"別紙２　経費内訳"]
["様式第１０","完了実績報告書（第１１条関係）"]
[null,"別紙１　実施報告書"]
[null,"別紙２　経費所要額精算調書"]
[]
["PDCAシート様式等"]
[]
[1,"PDCAシート手順書"]
[2,"事業全体の概要"]
[null,"2-1","事業開始当初記入"]
[null,"2-2","事業終了時記入"]
[3,"個別事業におけるPDCAシート"]
["（参考）","普及啓発テーマ・訴求手法"]

{"sheet":"様式第１_交付申請書","index":1,"n_rows":58,"n_cols":23,"rows_kept":58,"merged":[[1,2,1,22],[3,16,3,21],[4,16,4,17],[6,2,6,11],[7,2,7,11],[10,8,10,11],[10,13,11,19],[12,8,12,11],[12,13,12,19],[13,8,13,11],[13,13,13,15],[13,17,13,19],[15,2,15,22],[16,2,16,22],[17,2,17,22],[19,2,19,22],[21,2,21,22],[23,2,23,22],[25,2,25,22],[27,2,27,7],[27,12,27,16],[28,12,28,16],[30,2,30,22],[32,2,32,22],[34,2,34,22],[36,10,36,11],[38,2,38,22],[43,2,43,3],[43,4,44,22],[45,4,56,22],[57,4,58,22]]}
[]
[null,null,"様式第１（第５条関係）"]
[]
[{"$nulls":22},"号"]
[{"$nulls":16},2019,null,"年",null,"月",null,"日"]
[]
[null,null,"一般社団法人地球温暖化防止全国ネット"]
[null,null,"　理事長　殿"]
[]
[]
[null,null,"　　　　　　　　　　　          　申請者　住　　　　所",{"$nulls":3},"申請者",null,"住所"]
[]
[{"$nulls":8},"氏名又は名称"]
[{"$nulls":8},"代表者の職・氏名",{"$nulls":7},"・",{"$nulls":4},"印"]
[]
[null,null,"２０１９年度（平成３１年度）二酸化炭素排出抑制対策事業費等補助金"]
[null,null,"（地域における地球温暖化防止活動促進事業）"]
[null,null,"交付申請書"]
[]
[null,null,"　２０１９年度（平成３１年度）二酸化炭素排出抑制対策事業費等補助金（地域における地球温暖化防止活動促進事業）交付規程第５条の規定（以下「交付規程」という。）により上記補助金の交付について下記のとおり申請します。\n　なお、交付決定を受けて補助事業を実施する際には、補助金等に係る予算の執行の適正化に関する法律（昭和３０年法律第１７９号）、補助金等に係る予算の執行の適正化に関する法律施行令（昭和３０年政令第２５５号）及び交付規程の定めるところに従います。"]
[]
[null,null,"記"]
[]
[null,null,"１　補助事業の目的及び内容"]
[]
[null,null,"      　別紙１　実施計画書のとおり"]
[]
[null,null,"２　補助金交付申請額　　　　　　　　　　　　　　　　　　",{"$nulls":8},"金",{"$nulls":5},"円"]
[null,null,"　　（うち消費税及び地方消費税相当額  　　　　　　　　",{"$nulls":14},"円）"]
[]
[null,null,"３　補助事業に要する経費"]
[]
[null,null,"      　別紙２　経費内訳のとおり"]
[]
[null,null,"５　補助事業の開始及び完了予定年月日"]
[]
[{"$nulls":4},"交付決定の日",{"$nulls":3},"～",{"$nulls":3},"年",null,"月",null,"日"]
[]
[null,null,"６　その他参考資料"]
[]
[]
[]
[]
[null,null,"注１",null,"交付規程第３条第３項の規定に基づき共同で申請する場合は、代表事業者が申請すること。"]
[]
[null,null,"　２",null,"「５　その他参考資料」として、申請者の組織概要、経理状況説明書（直近の２決算期に関する貸借対照表及び損益計算書（申請時に、法人の設立から１会計年度を経過していない場合には、申請年度の事業計画及び収支予算、法人の設立から１会計年度を経過し、かつ、２会計年度を経過していない場合には、直近の１決算期に関する貸借対照表及び損益計算書））及び定款（申請者が個人企業の場合は、印鑑証明書の原本及び住民票の原本（いずれも発行後３ヶ月以内のもの））を添付すること（申請者が、法律に基づき設立の認可等を行う行政機関から、その認可等を受け、又は当該行政機関の合議制の機関における設立の認可等が適当である旨の文書を受領している者である場合は、設立の認可等を受け、又は設立の認可等が適当であるとされた法人の事業計画及び収支予算の案並びに定款の案を添付すること。ただし、これらの案が作成されていない場合には、添付を要しない。）。"]
{"$rows_empty":11}
[null,null,"　３",null,"別紙１又は別紙２において記載の補助事業に関する見積書・各種計算書、法律に基づく登録に係る通知の写し等を添付すること。"]

{"sheet":"別紙１_実施計画書","index":2,"n_rows":744,"n_cols":47,"rows_kept":744,"merged":[[2,2,2,24],[4,1,4,2],[4,3,4,28],[5,1,5,2],[5,3,5,28],[6,1,6,2],[6,3,6,28],[7,1,18,2],[7,3,7,28],[8,4,8,18],[8,19,8,28],[9,4,9,8],[9,10,9,18],[9,19,9,21],[9,22,9,28],[10,4,10,8],[10,9,10,18],[11,4,11,8],[11,9,11,18],[12,3,12,28],[13,19,13,28],[14,4,14,8],[14,9,14,18],[14,19,18,28],[15,4,15,8],[15,9,15,18],[16,4,16,8],[16,9,16,18],[17,4,17,8],[17,9,17,18],[18,4,18,8],[18,9,18,18],[19,1,19,28],[20,1,31,28],[22,43,23,43],[22,44,23,44],[22,45,23,45],[32,1,32,3],[32,4,32,25],[33,1,33,28],[34,1,34,28],[35,1,35,28],[36,2,36,3],[38,2,41,3],[39,4,39,5],[39,6,39,7],[39,8,39,9],[39,10,39,11],[39,12,39,13],[39,14,39,15],[39,16,39,17],[39,20,39,21],[39,22,39,23],[39,24,39,25],[40,4,40,5],[40,6,40,7],[40,8,40,9],[40,10,40,11],[40,12,40,13],[40,14,40,15],[40,20,40,21],[40,22,40,23],[40,24,40,25],[41,4,41,5],[41,6,41,7],[41,8,41,9],[41,10,41,11],[41,12,41,13],[41,14,41,15],[41,16,41,17],[41,18,41,19],[41,20,41,21],[41,22,41,23],[41,24,41,25],[42,2,45,3],[43,20,43,27],[44,20,44,27],[46,2,46,3],[46,14,46,17],[47,2,47,3],[48,2,52,3],[49,4,49,5],[49,16,49,17],[50,4,50,5],[50,16,50,17],[51,4,51,5],[51,16,51,17],[52,4,52,5],[52,16,52,17],[53,2,53,3],[54,2,54,3],[55,2,56,3],[57,2,57,3],[58,4,58,14],[59,8,59,9],[59,10,59,12],[60,4,60,7],[60,8,60,9],[60,10,60,12],[66,2,66,3],[67,2,68,3],[67,4,67,7],[68,17,68,20],[69,2,75,3],[70,4,70,20],[71,4,71,7],[71,8,71,11],[71,12,71,15],[71,16,71,20],[78,2,78,3],[80,2,83,3],[81,4,81,5],[81,6,81,7],[81,8,81,9],[81,10,81,11],[81,12,81,13],[81,14,81,15],[81,16,81,17],[81,18,81,19],[81,20,81,21],[81,22,81,23],[81,24,81,25],[82,4,82,5],[82,6,82,7],[82,8,82,9],[82,10,82,11],[82,12,82,13],[82,14,82,15],[82,16,82,17],[82,18,82,19],[83,4,83,5],[84,2,87,3],[88,2,88,3],[88,14,88,17],[88,18,88,27],[89,2,89,3],[90,2,94,3],[90,4,90,5],[90,16,90,17],[91,4,91,5],[91,16,91,17],[92,4,92,5],[92,16,92,17],[93,4,93,5],[93,16,93,17],[94,4,94,5],[94,16,94,17],[95,2,95,3],[95,4,95,27],[96,2,96,3],[96,4,96,27],[97,4,97,27],[98,4,98,27],[99,2,99,3],[99,4,99,27],[100,2,107,3],[100,4,100,14],[101,4,101,7],[101,8,101,9],[101,10,101,12],[105,4,105,7],[105,8,105,9],[105,10,105,12],[106,8,106,9],[106,10,106,12],[108,2,108,3],[109,2,110,3],[111,2,117,3],[112,4,112,20],[113,4,113,7],[113,8,113,11],[113,12,113,15],[113,16,113,20],[118,2,118,25],[119,2,119,3],[121,2,124,3],[122,4,122,5],[122,6,122,7],[122,8,122,9],[122,10,122,11],[122,12,122,13],[122,14,122,15],[122,16,122,17],[122,18,122,19],[122,20,122,21],[123,4,123,5],[123,6,123,7],[123,8,123,9],[123,10,123,11],[123,12,123,13],[123,14,123,15],[123,16,123,17],[123,18,123,19],[124,4,124,5],[124,6,124,7],[124,8,124,9],[124,10,124,11],[124,12,124,13],[124,14,124,15],[124,16,124,17],[124,18,124,19],[125,2,128,3],[129,2,129,3],[130,2,130,3],[131,2,135,3],[132,4,132,5],[132,16,132,17],[135,16,135,17],[136,2,136,3],[137,2,137,3],[138,2,139,3],[140,2,140,3],[141,2,148,3],[149,2,149,3],[150,2,151,3],[159,2,159,25],[160,2,160,3],[162,2,165,3],[163,4,163,5],[163,6,163,7],[163,8,163,9],[163,10,163,11],[163,12,163,13],[163,14,163,15],[163,16,163,17],[164,4,164,5],[164,6,164,7],[164,8,164,9],[164,10,164,11],[164,12,164,13],[164,14,164,15],[164,16,164,17],[165,4,165,5],[165,6,165,7],[165,8,165,9],[165,10,165,11],[166,2,169,3],[170,2,170,3],[171,2,171,3],[172,2,176,3],[175,4,175,5],[175,16,175,17],[176,16,176,17],[177,2,177,3],[178,2,178,3],[179,2,180,3],[181,2,181,3],[182,2,189,3],[190,2,190,3],[191,2,192,3],[192,10,192,13],[192,17,192,20],[200,2,200,25],[201,2,201,3],[203,2,206,3],[204,4,204,5],[204,6,204,7],[204,8,204,9],[204,10,204,11],[204,12,204,13],[204,14,204,15],[204,16,204,17],[205,4,205,5],[205,6,205,7],[205,8,205,9],[205,10,205,11],[205,12,205,13],[205,14,205,15],[205,16,205,17],[205,22,205,23],[207,2,210,3],[211,2,211,3],[211,4,211,13],[211,18,211,27],[212,2,212,3],[212,4,212,27],[213,2,217,3],[213,4,213,5],[213,6,213,15],[213,16,213,17],[214,4,214,5],[214,6,214,15],[214,16,214,17],[215,4,215,5],[215,6,215,15],[215,16,215,17],[216,4,216,5],[216,6,216,15],[216,16,216,17],[217,16,217,17],[218,2,218,3],[219,2,219,3],[220,2,221,3],[222,2,222,3],[223,2,230,3],[230,8,230,27],[232,2,233,3],[234,2,240,3],[237,4,237,7],[237,8,237,11],[237,12,237,15],[237,16,237,20],[237,21,237,27],[238,6,238,26],[239,4,239,7],[239,9,239,11],[240,4,240,7],[240,9,240,11],[241,2,241,25],[242,2,242,3],[242,4,242,27],[243,4,243,27],[244,2,247,3],[245,4,245,5],[245,6,245,7],[245,8,245,9],[245,10,245,11],[245,12,245,13],[245,14,245,15],[245,16,245,17],[245,18,245,19],[246,4,246,5],[246,6,246,7],[246,8,246,9],[246,10,246,11],[246,12,246,13],[246,14,246,15],[246,16,246,17],[246,18,246,19],[247,4,247,5],[247,6,247,7],[247,8,247,9],[247,10,247,11],[247,12,247,13],[247,14,247,15],[247,16,247,17],[247,18,247,19],[248,2,251,3],[249,4,249,11],[252,2,252,3],[252,14,252,17],[253,2,253,3],[254,2,258,3],[254,4,254,5],[254,16,254,17],[254,18,254,27],[255,4,255,5],[255,16,255,17],[255,18,255,27],[256,4,256,5],[256,16,256,17],[256,18,256,27],[257,4,257,5],[257,16,257,17],[257,18,257,27],[258,4,258,5],[258,6,258,15],[258,16,258,17],[258,18,258,27],[259,2,259,3],[259,4,259,27],[260,2,260,3],[260,4,260,27],[261,2,262,3],[261,4,261,27],[262,4,262,27],[263,2,263,3],[263,4,263,27],[264,2,271,3],[264,4,264,14],[264,15,264,27],[265,4,265,7],[265,8,265,9],[265,10,265,12],[266,4,266,7],[266,8,266,9],[266,10,266,12],[267,4,267,7],[268,4,268,14],[269,4,269,7],[269,8,269,9],[269,10,269,12],[270,4,270,7],[270,8,270,9],[270,10,270,12],[271,4,271,7],[275,2,281,3],[278,4,278,7],[282,2,282,25],[289,4,289,27],[290,4,290,11],[292,4,292,11],[292,12,292,19],[293,2,293,3],[293,14,293,17],[293,18,293,27],[294,2,294,3],[295,2,299,3],[295,4,295,5],[295,16,295,17],[296,4,296,5],[296,16,296,17],[297,4,297,5],[297,16,297,17],[298,4,298,5],[298,16,298,17],[299,4,299,5],[299,16,299,17],[300,2,300,3],[300,4,300,27],[301,2,301,3],[301,4,301,27],[302,2,303,3],[302,4,302,27],[304,2,304,3],[305,2,312,3],[306,4,306,7],[307,4,307,7],[307,8,307,9],[314,4,314,7],[314,10,314,13],[314,17,314,20],[315,10,315,13],[315,17,315,20],[317,21,318,27],[319,21,319,27],[320,6,320,26],[323,2,323,25],[324,2,324,3],[324,4,324,27],[326,2,329,3],[327,4,327,5],[327,6,327,7],[327,8,327,9],[327,10,327,11],[327,12,327,13],[327,14,327,15],[327,16,327,17],[327,18,327,19],[327,20,327,21],[327,22,327,23],[327,24,327,25],[328,4,328,5],[328,6,328,7],[328,22,328,23],[328,24,328,25],[329,12,329,13],[329,14,329,15],[329,16,329,17],[329,18,329,19],[329,20,329,21],[329,22,329,23],[329,24,329,25],[330,2,333,3],[331,20,331,27],[332,20,332,27],[333,4,333,11],[333,12,333,19],[333,20,333,27],[334,2,334,3],[334,4,334,13],[334,14,334,17],[334,18,334,27],[335,2,335,3],[336,2,340,3],[336,4,336,5],[336,16,336,17],[336,18,336,27],[337,4,337,5],[337,16,337,17],[337,18,337,27],[338,4,338,5],[338,16,338,17],[338,18,338,27],[339,4,339,5],[339,6,339,15],[339,16,339,17],[339,18,339,27],[340,6,340,15],[340,18,340,27],[341,2,341,3],[342,2,342,3],[343,2,344,3],[345,2,345,3],[346,2,353,3],[347,10,347,12],[348,4,348,7],[348,8,348,9],[348,10,348,12],[349,4,349,7],[351,8,351,9],[351,10,351,12],[352,8,352,9],[352,10,352,12],[355,4,355,7],[355,10,355,13],[355,17,355,20],[356,4,356,7],[356,10,356,13],[356,17,356,20],[368,8,368,9],[368,10,368,11],[368,12,368,13],[368,14,368,15],[368,16,368,17],[368,18,368,19],[368,20,368,21],[368,22,368,23],[368,24,368,25],[369,4,369,5],[369,6,369,7],[369,8,369,9],[369,10,369,11],[369,12,369,13],[369,14,369,15],[369,16,369,17],[369,18,369,19],[369,20,369,21],[369,22,369,23],[369,24,369,25],[370,4,370,5],[370,6,370,7],[370,8,370,9],[370,10,370,11],[370,12,370,13],[370,14,370,15],[370,16,370,17],[370,18,370,19],[370,20,370,21],[370,22,370,23],[370,24,370,25],[371,2,374,3],[372,20,372,27],[373,20,373,27],[374,12,374,19],[374,20,374,27],[375,2,375,3],[375,14,375,17],[376,2,376,3],[377,2,381,3],[377,4,377,5],[377,16,377,17],[378,4,378,5],[378,16,378,17],[379,4,379,5],[379,6,379,15],[379,16,379,17],[380,4,380,5],[380,16,380,17],[380,18,380,27],[381,4,381,5],[381,16,381,17],[381,18,381,27],[382,2,382,3],[382,4,382,27],[383,2,383,3],[383,4,383,27],[384,2,385,3],[384,4,384,27],[385,4,385,27],[386,2,386,3],[386,4,386,27],[387,2,394,3],[387,15,387,27],[389,4,389,7],[389,8,389,9],[389,10,389,12],[390,4,390,7],[390,8,390,27],[391,4,391,14],[391,15,391,27],[392,8,392,9],[392,10,392,12],[393,8,393,9],[393,10,393,12],[394,8,394,27],[395,4,395,27],[396,4,396,7],[396,10,396,13],[396,17,396,20],[397,4,397,7],[397,10,397,13],[397,17,397,20],[405,2,405,25],[406,2,406,3],[408,2,411,3],[409,4,409,5],[409,6,409,7],[409,8,409,9],[409,10,409,11],[409,12,409,13],[409,14,409,15],[409,16,409,17],[409,18,409,19],[409,20,409,21],[410,4,410,5],[410,6,410,7],[410,8,410,9],[410,10,410,11],[410,12,410,13],[410,14,410,15],[410,16,410,17],[410,18,410,19],[410,20,410,21],[410,22,410,23],[410,24,410,25],[411,4,411,5],[411,6,411,7],[411,8,411,9],[411,10,411,11],[411,12,411,13],[411,14,411,15],[411,16,411,17],[411,18,411,19],[411,20,411,21],[411,22,411,23],[411,24,411,25],[412,2,415,3],[413,20,413,27],[415,12,415,19],[416,2,416,3],[417,2,417,3],[418,2,422,3],[418,6,418,15],[419,18,419,27],[420,18,420,27],[421,18,421,27],[422,18,422,27],[423,2,423,3],[423,4,423,27],[424,2,424,3],[425,2,426,3],[427,2,427,3],[428,2,435,3],[433,8,433,9],[433,10,433,12],[434,8,434,9],[434,10,434,12],[436,2,436,3],[437,10,437,13],[437,17,437,20],[438,4,438,7],[438,10,438,13],[438,17,438,20],[439,2,445,3],[446,2,446,25],[447,2,447,3],[449,2,452,3],[450,4,450,5],[450,6,450,7],[450,8,450,9],[450,10,450,11],[450,12,450,13],[450,14,450,15],[450,16,450,17],[450,18,450,19],[450,20,450,21],[451,8,451,9],[451,10,451,11],[451,12,451,13],[451,16,451,17],[451,18,451,19],[451,20,451,21],[451,22,451,23],[451,24,451,25],[452,10,452,11],[452,12,452,13],[452,14,452,15],[452,16,452,17],[452,18,452,19],[453,4,453,27],[454,20,454,27],[455,20,455,27],[456,20,456,27],[457,2,457,3],[457,4,457,13],[457,18,457,27],[458,2,458,3],[458,4,458,27],[459,2,463,3],[459,4,459,5],[459,16,459,17],[460,4,460,5],[460,16,460,17],[461,4,461,5],[461,16,461,17],[462,4,462,5],[462,16,462,17],[463,6,463,15],[463,16,463,17],[464,2,464,3],[464,4,464,27],[465,2,465,3],[465,4,465,27],[466,2,467,3],[466,4,466,27],[467,4,467,27],[468,2,468,3],[468,4,468,27],[469,2,476,3],[469,15,469,27],[471,10,471,12],[472,4,472,7],[472,8,472,27],[473,4,473,14],[473,15,473,27],[474,4,474,7],[474,8,474,9],[474,10,474,12],[475,4,475,7],[475,8,475,9],[475,10,475,12],[476,4,476,7],[476,8,476,27],[477,2,477,3],[477,4,477,27],[478,4,478,7],[478,10,478,13],[478,17,478,20],[479,4,479,7],[479,10,479,13],[479,17,479,20],[480,4,480,27],[481,4,481,20],[481,21,482,27],[482,4,482,7],[483,21,483,27],[484,6,484,26],[485,4,485,7],[486,4,486,7],[486,9,486,11],[487,2,487,25],[488,4,488,27],[492,14,492,15],[493,4,493,5],[493,6,493,7],[493,8,493,9],[493,18,493,19],[493,20,493,21],[493,22,493,23],[493,24,493,25],[496,4,496,11],[496,20,496,27],[497,20,497,27],[504,16,504,17],[505,4,505,27],[506,4,506,27],[508,4,508,27],[509,2,509,3],[509,4,509,27],[510,2,517,3],[510,4,510,14],[511,4,511,7],[511,8,511,9],[511,10,511,12],[512,4,512,7],[512,8,512,9],[512,10,512,12],[513,4,513,7],[515,4,515,7],[515,8,515,9],[515,10,515,12],[516,4,516,7],[516,8,516,9],[516,10,516,12],[517,4,517,7],[517,8,517,27],[518,2,518,3],[518,4,518,27],[519,4,519,7],[519,10,519,13],[519,17,519,20],[520,4,520,7],[520,10,520,13],[520,17,520,20],[522,4,522,20],[523,4,523,7],[523,8,523,11],[523,12,523,15],[523,16,523,20],[524,4,524,7],[524,8,524,11],[524,12,524,15],[524,16,524,20],[528,2,528,25],[532,4,532,5],[532,6,532,7],[532,8,532,9],[532,10,532,11],[532,12,532,13],[532,14,532,15],[532,16,532,17],[532,18,532,19],[532,20,532,21],[532,22,532,23],[532,24,532,25],[533,6,533,7],[533,8,533,9],[533,10,533,11],[533,12,533,13],[533,14,533,15],[534,12,534,13],[534,14,534,15],[534,16,534,17],[534,18,534,19],[534,20,534,21],[534,22,534,23],[534,24,534,25],[535,4,535,27],[539,2,539,3],[539,4,539,13],[539,14,539,17],[539,18,539,27],[540,2,540,3],[541,2,545,3],[541,4,541,5],[541,16,541,17],[542,4,542,5],[542,16,542,17],[543,4,543,5],[543,16,543,17],[544,4,544,5],[544,16,544,17],[545,4,545,5],[545,16,545,17],[546,2,546,3],[546,4,546,27],[547,2,547,3],[547,4,547,27],[548,2,549,3],[548,4,548,27],[549,4,549,27],[550,2,550,3],[550,4,550,27],[551,2,558,3],[551,4,551,14],[551,15,551,27],[552,4,552,7],[552,8,552,9],[552,10,552,12],[553,4,553,7],[553,8,553,9],[553,10,553,12],[554,4,554,7],[554,8,554,27],[555,4,555,14],[555,15,555,27],[556,4,556,7],[556,8,556,9],[556,10,556,12],[557,4,557,7],[557,8,557,9],[557,10,557,12],[558,4,558,7],[558,8,558,27],[559,2,559,3],[569,2,569,25],[570,2,570,3],[572,2,575,3],[576,2,579,3],[580,2,580,3],[581,2,581,3],[582,2,586,3],[587,2,587,3],[588,2,588,3],[589,2,590,3],[591,2,591,3],[592,2,599,3],[592,4,592,14],[593,8,593,9],[593,10,593,12],[594,4,594,7],[594,8,594,9],[594,10,594,12],[595,4,595,7],[601,4,601,7],[610,2,610,25],[611,2,611,3],[613,2,616,3],[614,4,614,5],[614,6,614,7],[614,8,614,9],[614,10,614,11],[614,12,614,13],[615,4,615,5],[615,6,615,7],[616,4,616,5],[616,6,616,7],[616,8,616,9],[616,10,616,11],[616,12,616,13],[616,14,616,15],[616,16,616,17],[616,18,616,19],[616,20,616,21],[616,22,616,23],[616,24,616,25],[617,2,620,3],[617,4,617,27],[620,4,620,11],[620,12,620,19],[621,2,621,3],[621,4,621,13],[621,14,621,17],[621,18,621,27],[622,2,622,3],[622,4,622,27],[623,2,627,3],[623,4,623,5],[623,6,623,15],[623,16,623,17],[623,18,623,27],[624,4,624,5],[624,6,624,15],[624,16,624,17],[624,18,624,27],[625,4,625,5],[625,6,625,15],[625,16,625,17],[626,4,626,5],[626,6,626,15],[626,16,626,17],[627,4,627,5],[628,2,628,3],[628,4,628,27],[629,2,629,3],[629,4,629,27],[630,2,631,3],[630,4,630,27],[631,4,631,27],[632,2,632,3],[633,2,640,3],[633,4,633,14],[634,4,634,7],[634,8,634,9],[634,10,634,12],[635,4,635,7],[635,8,635,9],[635,10,635,12],[636,4,636,7],[637,4,637,14],[637,15,637,27],[638,8,638,9],[638,10,638,12],[639,4,639,7],[639,8,639,9],[639,10,639,12],[640,4,640,7],[640,8,640,27],[641,2,641,3],[642,10,642,13],[642,17,642,20],[643,4,643,7],[643,10,643,13],[643,17,643,20],[644,2,650,3],[645,4,645,20],[646,4,646,7],[646,8,646,11],[646,12,646,15],[646,16,646,20],[647,4,647,7],[647,8,647,11],[647,12,647,15],[647,16,647,20],[649,4,649,7],[651,2,651,25],[684,1,684,28],[685,1,685,28],[687,1,687,28],[689,2,689,5],[689,6,689,9],[690,2,695,5],[690,6,695,25],[699,2,700,2],[699,3,699,5],[699,6,699,9],[700,3,700,5],[700,6,700,9],[701,2,706,5],[701,6,706,25],[709,2,709,5],[709,6,709,9],[710,2,710,5],[710,6,710,9],[711,2,716,5],[711,6,716,25],[717,1,717,28],[718,1,718,28],[719,1,719,28],[720,1,724,28],[725,1,725,28],[726,1,726,28],[727,1,727,28],[728,1,731,28],[732,1,732,28],[733,1,733,28],[734,1,737,28],[738,1,738,28],[739,1,739,28]],"merged_total":2139,"flags":["merged_cut"]}
[]
[null,null,"別紙１"]
[null,null,"地域における地球温暖化防止活動促進事業実施計画書"]
[]
[null,"事業名",null,"地域における地球温暖化防止活動促進事業"]
[null,"事業実施の団体名",null,{"$f":"様式第１_交付申請書!N13","v":0}]
[null,"地域センター名"]
[null,"事業実施の担当者",null,"事業実施の代表者"]
[{"$nulls":3},"氏名","事業者名・役職名",{"$nulls":14},"所在地"]
[{"$nulls":3},{"$f":"様式第１_交付申請書!R14","v":0},{"$f":"様式第１_交付申請書!N13","v":0},{"$nulls":4},"・",{"$f":"様式第１_交付申請書!N14","v":0},{"$nulls":8},"郵便番号"]
[{"$nulls":3},"電話番号","FAX番号",{"$nulls":4},"E-mailアドレス",{"$nulls":9},{"$f":"IF(様式第１_交付申請書!N11=\"\",\"\",様式第１_交付申請書!N11)","v":""}]
[]
[{"$nulls":3},"事業実施の担当者（事業の窓口となる方）"]
[{"$nulls":3},"氏名","事業者名・部署名・役職名",{"$nulls":14},"備　　考"]
[{"$nulls":4},"事業者名",{"$nulls":4},{"$f":"様式第１_交付申請書!N13","v":0}]
[{"$nulls":4},"部署名"]
[{"$nulls":4},"役職名"]
[{"$nulls":3},"電話番号","FAX番号",{"$nulls":4},"E-mailアドレス"]
[]
[null,"＜事業の目的＞"]
[{"$nulls":30},"＜全体＞"]
[]
[{"$nulls":30},"①","②","③","④","⑤","⑥","⑦","⑧","⑨","⑩","⑪","⑫",null,"a)","b)","c)"]
[{"$nulls":30},"省ｴﾈ機器","省ｴﾈ住宅","ｴｺｶｰ","ｸｰﾙﾋﾞｽﾞ","ｳｫｰﾑﾋﾞｽﾞ","照明の\n高効率利用","ｴｺﾄﾞﾗｲﾌﾞ","ｶｰｼｪｱ","公共交通\n機関の利用","再配達防止","シェアエコ","地球温暖化"]
[{"$nulls":30},{"$f":"COUNTIFS(AE$40:AE$617,1)+COUNTIFS(AE$40:AE$617,TRUE)","v":0},0,0,0,0,0,0,0,0,0,{"$f":"COUNTIFS(AO$40:AO$617,1)+COUNTIFS(AO$40:AO$617,TRUE)","v":0},{"$f":"COUNTIFS(AP$40:AP$617,1)+COUNTIFS(AP$40:AP$617,TRUE)","v":0},null,{"$f":"COUNTIFS(AR$40:AR$621,1)+COUNTIFS(AR$40:AR$621,TRUE)","v":0},{"$f":"COUNTIFS(AS$40:AS$621,1)+COUNTIFS(AS$40:AS$621,TRUE)","v":0},{"$f":"COUNTIFS(AT$40:AT$621,1)+COUNTIFS(AT$40:AT$621,TRUE)","v":0}]
{"$rows_empty":7}
[null,"＜事業の内容＞",null,null,"（地球温暖化対策の推進に関する法律第38条との関連）"]
[]
[null,"①【地球温暖化対策等（COOL CHOICE含む）についての広報・啓発活動】（第38条第2項第1号前段）"]
[]
[null,null,"項目",null,"内容"]
[null,null,"事業1","事業名"]
[null,null,"普及啓発テーマ",null,"※公募要領　別表第１　で対象とする間接補助事業の内容に合致していること。\n※該当するテーマすべてをチェックしてください。"]
[{"$nulls":4},"①",null,"②",null,"③",null,"④",null,"⑤",null,"⑥",null,"⑦",null,"⑧",null,"⑨",null,"⑩",null,"⑪",null,"⑫",{"$nulls":3},"①","②","③","④","⑤","⑥","⑦","⑧","⑨","⑩","⑪","⑫"]
[{"$nulls":4},"省ｴﾈ機器",null,"省ｴﾈ住宅",null,"ｴｺｶｰ",null,"ｸｰﾙﾋﾞｽﾞ",null,"ｳｫｰﾑﾋﾞｽﾞ",null,"照明の\n高効率利用",null,"ｴｺﾄﾞﾗｲﾌﾞ",null,"ｶｰｼｪｱ",null,"公共交通\n機関の利用",null,"再配達防止",null,"シェアエコ",null,"地球温暖化",{"$nulls":3},"省ｴﾈ機器","省ｴﾈ住宅","ｴｺｶｰ","ｸｰﾙﾋﾞｽﾞ","ｳｫｰﾑﾋﾞｽﾞ","照明の\n高効率利用","ｴｺﾄﾞﾗｲﾌﾞ","ｶｰｼｪｱ","公共交通\n機関の利用","再配達防止","シェアエコ","地球温暖化"]
[{"$nulls":30},false,false,false,false,false,false,false,false,false,false,false,false,{"$f":"COUNTIFS($AE$42:$AP$42,\"TRUE\")","v":0}]
[null,null,"訴求手法",null,"※訴求手法については、該当する欄にチェックしてください。"]
[{"$nulls":4},"a) 情報発信型（受動型）",{"$nulls":7},"b) 情報発信型（能動型）",{"$nulls":7},"c) 双方向体験交流型"]
[{"$nulls":4},"ラジオ、新聞・広報紙等",{"$nulls":7},"講演会・パネル展示等",{"$nulls":7},"試乗・体験会、省ｴﾈ診断等",{"$nulls":22},"a)","b)","c)"]
[{"$nulls":43},false,false,false,{"$f":"COUNTIFS($AR$621:$AT$621,\"TRUE\")","v":0}]
[null,null,"実施期間",{"$nulls":11},"～"]
[null,null,"（備考）"]
[null,null,"実施日\n（※同一事業内で、\n同一の内容・場所において\n複数日実施する場合）",null,1,{"$nulls":11},6]
[{"$nulls":4},2,{"$nulls":11},7]
[{"$nulls":4},3,{"$nulls":11},8]
[{"$nulls":4},4,{"$nulls":11},9]
[{"$nulls":4},5,{"$nulls":11},10]
[null,null,"事業の概要"]
[null,null,"指定自治体等との連携"]
[null,null,"効果的な実施の\nための工夫",null,"※訴求テーマ及び訴求対象に応じた適切なメッセージ、時期設定の考え方や訴求対象にアプローチするための工夫等を記入してください。"]
[]
[null,null,"主な訴求対象"]
[null,null,"目標アウトプット\n（リーチ数）\n（想定及び実績）",null,"カテゴリ①（プルダウン選択）⇒"]
[{"$nulls":4},"昨年度実績",{"$nulls":3},"計",null,{"v":0,"d":"0名"}]
[{"$nulls":4},"想定",{"$nulls":3},"計",null,{"v":0,"d":"0名"}]
[{"$nulls":4},"算出根拠"]
[{"$nulls":4},"カテゴリ②（プルダウン選択）⇒"]
[{"$nulls":4},"昨年度実績",{"$nulls":3},"計",null,{"v":0,"d":"0名"}]
[{"$nulls":4},"想定",{"$nulls":3},"計",null,{"v":0,"d":"0名"}]
[{"$nulls":4},"算出根拠"]
[null,null,"目標アウトカム（想定及び実績）"]
[null,null,"賛同数（想定及び実績）",null,"昨年度実績",{"$nulls":3},"団体",null,{"v":0,"d":"0団体"},{"$nulls":4},"、個人",null,{"v":0,"d":"0名"}]
[{"$nulls":4},"想定",{"$nulls":3},"団体",null,{"v":0,"d":"0団体"},{"$nulls":4},"、個人",null,{"v":0,"d":"0名"}]
[null,null,"効果検証\n（アンケート）予定",null,"※アンケートの実施予定をプルダウンより選択してください。"]
[{"$nulls":4},"公募要領に規定のアンケート",{"$nulls":16},"貴事業者独自のアンケート"]
[{"$nulls":4},"省エネ機器",{"$nulls":3},"省エネ住宅",{"$nulls":3},"エコドライブ",{"$nulls":3},"低炭素物流（宅配便の再配達防止）"]
[{"$nulls":4},"- 選択 -",{"$nulls":3},"- 選択 -",{"$nulls":3},"- 選択 -",{"$nulls":3},"- 選択 -",{"$nulls":4},"- 選択 -"]
[{"$nulls":4},"内容（",{"$nulls":22},"）"]
[{"$nulls":4},"昨年度実績",{"$nulls":3},"計",0,null,null,"枚",null,"※複数ある場合は、平均アンケート回収数"]
[{"$nulls":4},"目標回収数",{"$nulls":3},"計",0,null,null,"枚",null,"※複数ある場合は、平均アンケート回収数"]
[]
[]
[null,null,"項目",null,"内容"]
[null,null,"事業2","事業名"]
[null,null,"普及啓発テーマ",null,"※公募要領　別表第１　で対象とする間接補助事業の内容に合致していること。\n※該当するテーマすべてをチェックしてください。"]
[{"$nulls":4},"①",null,"②",null,"③",null,"④",null,"⑤",null,"⑥",null,"⑦",null,"⑧",null,"⑨",null,"⑩",null,"⑪",null,"⑫",{"$nulls":3},"①","②","③","④","⑤","⑥","⑦","⑧","⑨","⑩","⑪","⑫"]
[{"$nulls":4},"省ｴﾈ機器",null,"省ｴﾈ住宅",null,"ｴｺｶｰ",null,"ｸｰﾙﾋﾞｽﾞ",null,"ｳｫｰﾑﾋﾞｽﾞ",null,"照明の\n高効率利用",null,"ｴｺﾄﾞﾗｲﾌﾞ",null,"ｶｰｼｪｱ",null,"公共交通\n機関の利用",null,"再配達防止",null,"シェアエコ",null,"地球温暖化",{"$nulls":3},"省ｴﾈ機器","省ｴﾈ住宅","ｴｺｶｰ","ｸｰﾙﾋﾞｽﾞ","ｳｫｰﾑﾋﾞｽﾞ","照明の\n高効率利用","ｴｺﾄﾞﾗｲﾌﾞ","ｶｰｼｪｱ","公共交通\n機関の利用","再配達防止","シェアエコ","地球温暖化"]
[{"$nulls":30},false,false,false,false,false,false,false,false,false,false,false,false,{"$f":"COUNTIFS($AE$84:$AP$84,\"TRUE\")","v":0}]
[null,null,"訴求手法",null,"※訴求手法については、該当する欄にチェックしてください。"]
[{"$nulls":4},"a) 情報発信型（受動型）",{"$nulls":7},"b) 情報発信型（能動型）",{"$nulls":7},"c) 双方向体験交流型"]
[{"$nulls":4},"ラジオ、新聞・広報紙等",{"$nulls":7},"講演会・パネル展示等",{"$nulls":7},"試乗・体験会、省ｴﾈ診断等",{"$nulls":22},"a)","b)","c)"]
[{"$nulls":43},false,false,false,{"$f":"COUNTIFS($AR$621:$AT$621,\"TRUE\")","v":0}]
[null,null,"実施期間",{"$nulls":11},"~"]
[null,null,"（備考）"]
[null,null,"実施日\n（※同一事業内で、\n同一の内容・場所において\n複数日実施する場合）",null,1,{"$nulls":11},6]
[{"$nulls":4},2,{"$nulls":11},7]
[{"$nulls":4},3,{"$nulls":11},8]
[{"$nulls":4},4,{"$nulls":11},9]
[{"$nulls":4},5,{"$nulls":11},10]
[null,null,"事業の概要"]
[null,null,"指定自治体等との連携"]
[null,null,"効果的な実施の\nための工夫",null,"※訴求テーマ及び訴求対象に応じた適切なメッセージ、時期設定の考え方や訴求対象にアプローチするための工夫等を記入してください。"]
[]
[null,null,"主な訴求対象"]
[null,null,"目標アウトプット\n（リーチ数）\n（想定及び実績）",null,"カテゴリ①（プルダウン選択）⇒"]
[{"$nulls":4},"昨年度実績",{"$nulls":3},"計",null,{"v":0,"d":"0名"}]
[{"$nulls":4},"想定",{"$nulls":3},"計",null,{"v":0,"d":"0名"}]
[{"$nulls":4},"算出根拠"]
[{"$nulls":4},"カテゴリ②（プルダウン選択）⇒"]
[{"$nulls":4},"昨年度実績",{"$nulls":3},"計",null,{"v":0,"d":"0名"}]
[{"$nulls":4},"想定",{"$nulls":3},"計",null,{"v":0,"d":"0名"}]
[{"$nulls":4},"算出根拠"]
[null,null,"目標アウトカム（想定及び実績）"]
[null,null,"賛同数（想定及び実績）",null,"昨年度実績",{"$nulls":3},"団体",null,{"v":0,"d":"0団体"},{"$nulls":4},"、個人",null,{"v":0,"d":"0名"}]
[{"$nulls":4},"想定",{"$nulls":3},"団体",null,{"v":0,"d":"0団体"},{"$nulls":4},"、個人",null,{"v":0,"d":"0名"}]
[null,null,"効果検証\n（アンケート）予定",null,"※アンケートの実施予定をプルダウンより選択してください。"]
[{"$nulls":4},"公募要領に規定のアンケート",{"$nulls":16},"貴事業者独自のアンケート"]
[{"$nulls":4},"省エネ機器",{"$nulls":3},"省エネ住宅",{"$nulls":3},"エコドライブ",{"$nulls":3},"低炭素物流（宅配便の再配達防止）"]
[{"$nulls":4},"- 選択 -",{"$nulls":3},"- 選択 -",{"$nulls":3},"- 選択 -",{"$nulls":3},"- 選択 -",{"$nulls":4},"- 選択 -"]
[{"$nulls":4},"内容（",{"$nulls":22},"）"]
[{"$nulls":4},"昨年度実績",{"$nulls":3},"計",0,null,null,"枚",null,"※複数ある場合は、平均アンケート回収数"]
[{"$nulls":4},"目標回収数",{"$nulls":3},"計",0,null,null,"枚",null,"※複数ある場合は、平均アンケート回収数"]
[]
[null,null,"項目",null,"内容"]
[null,null,"事業3","事業名"]
[null,null,"普及啓発テーマ",null,"※公募要領　別表第１　で対象とする間接補助事業の内容に合致していること。\n※該当するテーマすべてをチェックしてください。"]
[{"$nulls":4},"①",null,"②",null,"③",null,"④",null,"⑤",null,"⑥",null,"⑦",null,"⑧",null,"⑨",null,"⑩",null,"⑪",null,"⑫",{"$nulls":3},"①","②","③","④","⑤","⑥","⑦","⑧","⑨","⑩","⑪","⑫"]
[{"$nulls":4},"省ｴﾈ機器",null,"省ｴﾈ住宅",null,"ｴｺｶｰ",null,"ｸｰﾙﾋﾞｽﾞ",null,"ｳｫｰﾑﾋﾞｽﾞ",null,"照明の\n高効率利用",null,"ｴｺﾄﾞﾗｲﾌﾞ",null,"ｶｰｼｪｱ",null,"公共交通\n機関の利用",null,"再配達防止",null,"シェアエコ",null,"地球温暖化",{"$nulls":3},"省ｴﾈ機器","省ｴﾈ住宅","ｴｺｶｰ","ｸｰﾙﾋﾞｽﾞ","ｳｫｰﾑﾋﾞｽﾞ","照明の\n高効率利用","ｴｺﾄﾞﾗｲﾌﾞ","ｶｰｼｪｱ","公共交通\n機関の利用","再配達防止","シェアエコ","地球温暖化"]
[{"$nulls":30},false,false,false,false,false,false,false,false,false,false,false,false,{"$f":"COUNTIFS($AE$125:$AP$125,\"TRUE\")","v":0}]
[null,null,"訴求手法",null,"※訴求手法については、該当する欄にチェックしてください。"]
[{"$nulls":4},"a) 情報発信型（受動型）",{"$nulls":7},"b) 情報発信型（能動型）",{"$nulls":7},"c) 双方向体験交流型"]
[{"$nulls":4},"ラジオ、新聞・広報紙等",{"$nulls":7},"講演会・パネル展示等",{"$nulls":7},"試乗・体験会、省ｴﾈ診断等",{"$nulls":22},"a)","b)","c)"]
[{"$nulls":43},false,false,false,{"$f":"COUNTIFS($AR$621:$AT$621,\"TRUE\")","v":0}]
[null,null,"実施期間",{"$nulls":11},"～"]
[null,null,"（備考）"]
[null,null,"実施日\n（※同一事業内で、\n同一の内容・場所において\n複数日実施する場合）",null,1,{"$nulls":11},6]
[{"$nulls":4},2,{"$nulls":11},7]
[{"$nulls":4},3,{"$nulls":11},8]
[{"$nulls":4},4,{"$nulls":11},9]
[{"$nulls":4},5,{"$nulls":11},10]
[null,null,"事業の概要"]
[null,null,"指定自治体等との連携"]
[null,null,"効果的な実施の\nための工夫",null,"※訴求テーマ及び訴求対象に応じた適切なメッセージ、時期設定の考え方や訴求対象にアプローチするための工夫等を記入してください。"]
[]
[null,null,"主な訴求対象"]
[null,null,"目標アウトプット\n（リーチ数）\n（想定及び実績）",null,"カテゴリ①（プルダウン選択）⇒"]
[{"$nulls":4},"昨年度実績",{"$nulls":3},"計",null,{"v":0,"d":"0名"}]
[{"$nulls":4},"想定",{"$nulls":3},"計",null,{"v":0,"d":"0名"}]
[{"$nulls":4},"算出根拠"]
[{"$nulls":4},"カテゴリ②（プルダウン選択）⇒"]
[{"$nulls":4},"昨年度実績",{"$nulls":3},"計",null,{"v":0,"d":"0名"}]
[{"$nulls":4},"想定",{"$nulls":3},"計",null,{"v":0,"d":"0名"}]
[{"$nulls":4},"算出根拠"]
[null,null,"目標アウトカム（想定及び実績）"]
[null,null,"賛同数（想定及び実績）",null,"昨年度実績",{"$nulls":3},"団体",null,{"v":0,"d":"0団体"},{"$nulls":4},"、個人",null,{"v":0,"d":"0名"}]
[{"$nulls":4},"想定",{"$nulls":3},"団体",null,{"v":0,"d":"0団体"},{"$nulls":4},"、個人",null,{"v":0,"d":"0名"}]
[null,null,"効果検証\n（アンケート）予定",null,"※アンケートの実施予定をプルダウンより選択してください。"]
[{"$nulls":4},"公募要領に規定のアンケート",{"$nulls":16},"貴事業者独自のアンケート"]
[{"$nulls":4},"省エネ機器",{"$nulls":3},"省エネ住宅",{"$nulls":3},"エコドライブ",{"$nulls":3},"低炭素物流（宅配便の再配達防止）"]
[{"$nulls":4},"- 選択 -",{"$nulls":3},"- 選択 -",{"$nulls":3},"- 選択 -",{"$nulls":3},"- 選択 -",{"$nulls":4},"- 選択 -"]
[{"$nulls":4},"内容（",{"$nulls":22},"）"]
[{"$nulls":4},"昨年度実績",{"$nulls":3},"計",0,null,null,"枚",null,"※複数ある場合は、平均アンケート回収数"]
[{"$nulls":4},"目標回収数",{"$nulls":3},"計",0,null,null,"枚",null,"※複数ある場合は、平均アンケート回収数"]
[]
[null,null,"項目",null,"内容"]
[null,null,"事業4","事業名"]
[null,null,"普及啓発テーマ",null,"※公募要領　別表第１　で対象とする間接補助事業の内容に合致していること。\n※該当するテーマすべてをチェックしてください。"]
[{"$nulls":4},"①",null,"②",null,"③",null,"④",null,"⑤",null,"⑥",null,"⑦",null,"⑧",null,"⑨",null,"⑩",null,"⑪",null,"⑫",{"$nulls":3},"①","②","③","④","⑤","⑥","⑦","⑧","⑨","⑩","⑪","⑫"]
[{"$nulls":4},"省ｴﾈ機器",null,"省ｴﾈ住宅",null,"ｴｺｶｰ",null,"ｸｰﾙﾋﾞｽﾞ",null,"ｳｫｰﾑﾋﾞｽﾞ",null,"照明の\n高効率利用",null,"ｴｺﾄﾞﾗｲﾌﾞ",null,"ｶｰｼｪｱ",null,"公共交通\n機関の利用",null,"再配達防止",null,"シェアエコ",null,"地球温暖化",{"$nulls":3},"省ｴﾈ機器","省ｴﾈ住宅","ｴｺｶｰ","ｸｰﾙﾋﾞｽﾞ","ｳｫｰﾑﾋﾞｽﾞ","照明の\n高効率利用","ｴｺﾄﾞﾗｲﾌﾞ","ｶｰｼｪｱ","公共交通\n機関の利用","再配達防止","シェアエコ","地球温暖化"]
[{"$nulls":30},false,false,false,false,false,false,false,false,false,false,false,false,{"$f":"COUNTIFS($AE$166:$AP$166,\"TRUE\")","v":0}]
[null,null,"訴求手法",null,"※訴求手法については、該当する欄にチェックしてください。"]
[{"$nulls":4},"a) 情報発信型（受動型）",{"$nulls":7},"b) 情報発信型（能動型）",{"$nulls":7},"c) 双方向体験交流型"]
[{"$nulls":4},"ラジオ、新聞・広報紙等",{"$nulls":7},"講演会・パネル展示等",{"$nulls":7},"試乗・体験会、省ｴﾈ診断等",{"$nulls":22},"a)","b)","c)"]
[{"$nulls":43},false,false,false,{"$f":"COUNTIFS($AR$621:$AT$621,\"TRUE\")","v":0}]
[null,null,"実施期間",{"$nulls":11},"～"]
[null,null,"（備考）"]
[null,null,"実施日\n（※同一事業内で、\n同一の内容・場所において\n複数日実施する場合）",null,1,{"$nulls":11},6]
[{"$nulls":4},2,{"$nulls":11},7]
[{"$nulls":4},3,{"$nulls":11},8]
[{"$nulls":4},4,{"$nulls":11},9]
[{"$nulls":4},5,{"$nulls":11},10]
[null,null,"事業の概要"]
[null,null,"指定自治体等との連携"]
[null,null,"効果的な実施の\nための工夫",null,"※訴求テーマ及び訴求対象に応じた適切なメッセージ、時期設定の考え方や訴求対象にアプローチするための工夫等を記入してください。"]
[]
[null,null,"主な訴求対象"]
[null,null,"目標アウトプット\n（リーチ数）\n（想定及び実績）",null,"カテゴリ①（プルダウン選択）⇒"]
[{"$nulls":4},"昨年度実績",{"$nulls":3},"計",null,{"v":0,"d":"0名"}]
[{"$nulls":4},"想定",{"$nulls":3},"計",null,{"v":0,"d":"0名"}]
[{"$nulls":4},"算出根拠"]
[{"$nulls":4},"カテゴリ②（プルダウン選択）⇒"]
[{"$nulls":4},"昨年度実績",{"$nulls":3},"計",null,{"v":0,"d":"0名"}]
[{"$nulls":4},"想定",{"$nulls":3},"計",null,{"v":0,"d":"0名"}]
[{"$nulls":4},"算出根拠"]
[null,null,"目標アウトカム（想定及び実績）"]
[null,null,"賛同数（想定及び実績）",null,"昨年度実績",{"$nulls":3},"団体",null,{"v":0,"d":"0団体"},{"$nulls":4},"、個人",null,{"v":0,"d":"0名"}]
[{"$nulls":4},"想定",{"$nulls":3},"団体",null,{"v":0,"d":"0団体"},{"$nulls":4},"、個人",null,{"v":0,"d":"0名"}]
[null,null,"効果検証\n（アンケート）予定",null,"※アンケートの実施予定をプルダウンより選択してください。"]
[{"$nulls":4},"公募要領に規定のアンケート",{"$nulls":16},"貴事業者独自のアンケート"]
[{"$nulls":4},"省エネ機器",{"$nulls":3},"省エネ住宅",{"$nulls":3},"エコドライブ",{"$nulls":3},"低炭素物流（宅配便の再配達防止）"]
[{"$nulls":4},"- 選択 -",{"$nulls":3},"- 選択 -",{"$nulls":3},"- 選択 -",{"$nulls":3},"- 選択 -",{"$nulls":4},"- 選択 -"]
[{"$nulls":4},"内容（",{"$nulls":22},"）"]
[{"$nulls":4},"昨年度実績",{"$nulls":3},"計",0,null,null,"枚",null,"※複数ある場合は、平均アンケート回収数"]
[{"$nulls":4},"目標回収数",{"$nulls":3},"計",0,null,null,"枚",null,"※複数ある場合は、平均アンケート回収数"]
[]
[null,null,"項目",null,"内容"]
[null,null,"事業5","事業名"]
[null,null,"普及啓発テーマ",null,"※公募要領　別表第１　で対象とする間接補助事業の内容に合致していること。\n※該当するテーマすべてをチェックしてください。"]
[{"$nulls":4},"①",null,"②",null,"③",null,"④",null,"⑤",null,"⑥",null,"⑦",null,"⑧",null,"⑨",null,"⑩",null,"⑪",null,"⑫",{"$nulls":3},"①","②","③","④","⑤","⑥","⑦","⑧","⑨","⑩","⑪","⑫"]
[{"$nulls":4},"省ｴﾈ機器",null,"省ｴﾈ住宅",null,"ｴｺｶｰ",null,"ｸｰﾙﾋﾞｽﾞ",null,"ｳｫｰﾑﾋﾞｽﾞ",null,"照明の\n高効率利用",null,"ｴｺﾄﾞﾗｲﾌﾞ",null,"ｶｰｼｪｱ",null,"公共交通\n機関の利用",null,"再配達防止",null,"シェアエコ",null,"地球温暖化",{"$nulls":3},"省ｴﾈ機器","省ｴﾈ住宅","ｴｺｶｰ","ｸｰﾙﾋﾞｽﾞ","ｳｫｰﾑﾋﾞｽﾞ","照明の\n高効率利用","ｴｺﾄﾞﾗｲﾌﾞ","ｶｰｼｪｱ","公共交通\n機関の利用","再配達防止","シェアエコ","地球温暖化"]
[{"$nulls":30},false,false,false,false,false,false,false,false,false,false,false,false,{"$f":"COUNTIFS($AE$207:$AP$207,\"TRUE\")","v":0}]
[null,null,"訴求手法",null,"※訴求手法については、該当する欄にチェックしてください。"]
[{"$nulls":4},"a) 情報発信型（受動型）",{"$nulls":7},"b) 情報発信型（能動型）",{"$nulls":7},"c) 双方向体験交流型"]
[{"$nulls":4},"ラジオ、新聞・広報紙等",{"$nulls":7},"講演会・パネル展示等",{"$nulls":7},"試乗・体験会、省ｴﾈ診断等",{"$nulls":22},"a)","b)","c)"]
[{"$nulls":43},false,false,false,{"$f":"COUNTIFS($AR$621:$AT$621,\"TRUE\")","v":0}]
[null,null,"実施期間",{"$nulls":11},"～"]
[null,null,"（備考）"]
[null,null,"実施日\n（※同一事業内で、\n同一の内容・場所において\n複数日実施する場合）",null,1,{"$nulls":11},6]
[{"$nulls":4},2,{"$nulls":11},7]
[{"$nulls":4},3,{"$nulls":11},8]
[{"$nulls":4},4,{"$nulls":11},9]
[{"$nulls":4},5,{"$nulls":11},10]
[null,null,"事業の概要"]
[null,null,"指定自治体等との連携"]
[null,null,"効果的な実施の\nための工夫",null,"※訴求テーマ及び訴求対象に応じた適切なメッセージ、時期設定の考え方や訴求対象にアプローチするための工夫等を記入してください。"]
[]
[null,null,"主な訴求対象"]
[null,null,"目標アウトプット\n（リーチ数）\n（想定及び実績）",null,"カテゴリ①（プルダウン選択）⇒"]
[{"$nulls":4},"昨年度実績",{"$nulls":3},"計",null,{"v":0,"d":"0名"}]
[{"$nulls":4},"想定",{"$nulls":3},"計",null,{"v":0,"d":"0名"}]
[{"$nulls":4},"算出根拠"]
[{"$nulls":4},"カテゴリ②（プルダウン選択）⇒"]
[{"$nulls":4},"昨年度実績",{"$nulls":3},"計",null,{"v":0,"d":"0名"}]
[{"$nulls":4},"想定",{"$nulls":3},"計",null,{"v":0,"d":"0名"}]
[{"$nulls":4},"算出根拠"]
[null,null,"目標アウトカム（想定及び実績）"]
[null,null,"賛同数（想定及び実績）",null,"昨年度実績",{"$nulls":3},"団体",null,{"v":0,"d":"0団体"},{"$nulls":4},"、個人",null,{"v":0,"d":"0名"}]
[{"$nulls":4},"想定",{"$nulls":3},"団体",null,{"v":0,"d":"0団体"},{"$nulls":4},"、個人",null,{"v":0,"d":"0名"}]
[null,null,"効果検証\n（アンケート）予定",null,"※アンケートの実施予定をプルダウンより選択してください。"]
[{"$nulls":4},"公募要領に規定のアンケート",{"$nulls":16},"貴事業者独自のアンケート"]
[{"$nulls":4},"省エネ機器",{"$nulls":3},"省エネ住宅",{"$nulls":3},"エコドライブ",{"$nulls":3},"低炭素物流（宅配便の再配達防止）"]
[{"$nulls":4},"- 選択 -",{"$nulls":3},"- 選択 -",{"$nulls":3},"- 選択 -",{"$nulls":3},"- 選択 -",{"$nulls":4},"- 選択 -"]
[{"$nulls":4},"内容（",{"$nulls":22},"）"]
[{"$nulls":4},"昨年度実績",{"$nulls":3},"計",0,null,null,"枚",null,"※複数ある場合は、平均アンケート回収数"]
[{"$nulls":4},"目標回収数",{"$nulls":3},"計",0,null,null,"枚",null,"※複数ある場合は、平均アンケート回収数"]
[]
[null,null,"項目",null,"内容"]
[null,null,"事業6","事業名"]
[null,null,"普及啓発テーマ",null,"※公募要領　別表第１　で対象とする間接補助事業の内容に合致していること。\n※該当するテーマすべてをチェックしてください。"]
[{"$nulls":4},"①",null,"②",null,"③",null,"④",null,"⑤",null,"⑥",null,"⑦",null,"⑧",null,"⑨",null,"⑩",null,"⑪",null,"⑫",{"$nulls":3},"①","②","③","④","⑤","⑥","⑦","⑧","⑨","⑩","⑪","⑫"]
[{"$nulls":4},"省ｴﾈ機器",null,"省ｴﾈ住宅",null,"ｴｺｶｰ",null,"ｸｰﾙﾋﾞｽﾞ",null,"ｳｫｰﾑﾋﾞｽﾞ",null,"照明の\n高効率利用",null,"ｴｺﾄﾞﾗｲﾌﾞ",null,"ｶｰｼｪｱ",null,"公共交通\n機関の利用",null,"再配達防止",null,"シェアエコ",null,"地球温暖化",{"$nulls":3},"省ｴﾈ機器","省ｴﾈ住宅","ｴｺｶｰ","ｸｰﾙﾋﾞｽﾞ","ｳｫｰﾑﾋﾞｽﾞ","照明の\n高効率利用","ｴｺﾄﾞﾗｲﾌﾞ","ｶｰｼｪｱ","公共交通\n機関の利用","再配達防止","シェアエコ","地球温暖化"]
[{"$nulls":30},false,false,false,false,false,false,false,false,false,false,false,false,{"$f":"COUNTIFS($AE$248:$AP$248,\"TRUE\")","v":0}]
[null,null,"訴求手法",null,"※訴求手法については、該当する欄にチェックしてください。"]
[{"$nulls":4},"a) 情報発信型（受動型）",{"$nulls":7},"b) 情報発信型（能動型）",{"$nulls":7},"c) 双方向体験交流型"]
[{"$nulls":4},"ラジオ、新聞・広報紙等",{"$nulls":7},"講演会・パネル展示等",{"$nulls":7},"試乗・体験会、省ｴﾈ診断等",{"$nulls":22},"a)","b)","c)"]
[{"$nulls":43},false,false,false,{"$f":"COUNTIFS($AR$621:$AT$621,\"TRUE\")","v":0}]
[null,null,"実施期間",{"$nulls":11},"～"]
[null,null,"（備考）"]
[null,null,"実施日\n（※同一事業内で、\n同一の内容・場所において\n複数日実施する場合）",null,1,{"$nulls":11},6]
[{"$nulls":4},2,{"$nulls":11},7]
[{"$nulls":4},3,{"$nulls":11},8]
[{"$nulls":4},4,{"$nulls":11},9]
[{"$nulls":4},5,{"$nulls":11},10]
[null,null,"事業の概要"]
[null,null,"指定自治体等との連携"]
[null,null,"効果的な実施の\nための工夫",null,"※訴求テーマ及び訴求対象に応じた適切なメッセージ、時期設定の考え方や訴求対象にアプローチするための工夫等を記入してください。"]
[]
[null,null,"主な訴求対象"]
[null,null,"目標アウトプット\n（リーチ数）\n（想定及び実績）",null,"カテゴリ①（プルダウン選択）⇒"]
[{"$nulls":4},"昨年度実績",{"$nulls":3},"計",null,{"v":0,"d":"0名"}]
[{"$nulls":4},"想定",{"$nulls":3},"計",null,{"v":0,"d":"0名"}]
[{"$nulls":4},"算出根拠"]
[{"$nulls":4},"カテゴリ②（プルダウン選択）⇒"]
[{"$nulls":4},"昨年度実績",{"$nulls":3},"計",null,{"v":0,"d":"0名"}]
[{"$nulls":4},"想定",{"$nulls":3},"計",null,{"v":0,"d":"0名"}]
[{"$nulls":4},"算出根拠"]
[null,null,"目標アウトカム（想定及び実績）"]
[null,null,"賛同数（想定及び実績）",null,"昨年度実績",{"$nulls":3},"団体",null,{"v":0,"d":"0団体"},{"$nulls":4},"、個人",null,{"v":0,"d":"0名"}]
[{"$nulls":4},"想定",{"$nulls":3},"団体",null,{"v":0,"d":"0団体"},{"$nulls":4},"、個人",null,{"v":0,"d":"0名"}]
[null,null,"効果検証\n（アンケート）予定",null,"※アンケートの実施予定をプルダウンより選択してください。"]
[{"$nulls":4},"公募要領に規定のアンケート",{"$nulls":16},"貴事業者独自のアンケート"]
[{"$nulls":4},"省エネ機器",{"$nulls":3},"省エネ住宅",{"$nulls":3},"エコドライブ",{"$nulls":3},"低炭素物流（宅配便の再配達防止）"]
[{"$nulls":4},"- 選択 -",{"$nulls":3},"- 選択 -",{"$nulls":3},"- 選択 -",{"$nulls":3},"- 選択 -",{"$nulls":4},"- 選択 -"]
[{"$nulls":4},"内容（",{"$nulls":22},"）"]
[{"$nulls":4},"昨年度実績",{"$nulls":3},"計",0,null,null,"枚",null,"※複数ある場合は、平均アンケート回収数"]
[{"$nulls":4},"目標回収数",{"$nulls":3},"計",0,null,null,"枚",null,"※複数ある場合は、平均アンケート回収数"]
[]
[null,null,"項目",null,"内容"]
[null,null,"事業7","事業名"]
[null,null,"普及啓発テーマ",null,"※公募要領　別表第１　で対象とする間接補助事業の内容に合致していること。\n※該当するテーマすべてをチェックしてください。"]
[{"$nulls":4},"①",null,"②",null,"③",null,"④",null,"⑤",null,"⑥",null,"⑦",null,"⑧",null,"⑨",null,"⑩",null,"⑪",null,"⑫",{"$nulls":3},"①","②","③","④","⑤","⑥","⑦","⑧","⑨","⑩","⑪","⑫"]
[{"$nulls":4},"省ｴﾈ機器",null,"省ｴﾈ住宅",null,"ｴｺｶｰ",null,"ｸｰﾙﾋﾞｽﾞ",null,"ｳｫｰﾑﾋﾞｽﾞ",null,"照明の\n高効率利用",null,"ｴｺﾄﾞﾗｲﾌﾞ",null,"ｶｰｼｪｱ",null,"公共交通\n機関の利用",null,"再配達防止",null,"シェアエコ",null,"地球温暖化",{"$nulls":3},"省ｴﾈ機器","省ｴﾈ住宅","ｴｺｶｰ","ｸｰﾙﾋﾞｽﾞ","ｳｫｰﾑﾋﾞｽﾞ","照明の\n高効率利用","ｴｺﾄﾞﾗｲﾌﾞ","ｶｰｼｪｱ","公共交通\n機関の利用","再配達防止","シェアエコ","地球温暖化"]
[{"$nulls":30},false,false,false,false,false,false,false,false,false,false,false,false,{"$f":"COUNTIFS($AE$289:$AP$289,\"TRUE\")","v":0}]
[null,null,"訴求手法",null,"※訴求手法については、該当する欄にチェックしてください。"]
[{"$nulls":4},"a) 情報発信型（受動型）",{"$nulls":7},"b) 情報発信型（能動型）",{"$nulls":7},"c) 双方向体験交流型"]
[{"$nulls":4},"ラジオ、新聞・広報紙等",{"$nulls":7},"講演会・パネル展示等",{"$nulls":7},"試乗・体験会、省ｴﾈ診断等",{"$nulls":22},"a)","b)","c)"]
[{"$nulls":43},false,false,false,{"$f":"COUNTIFS($AR$621:$AT$621,\"TRUE\")","v":0}]
[null,null,"実施期間",{"$nulls":11},"～"]
[null,null,"（備考）"]
[null,null,"実施日\n（※同一事業内で、\n同一の内容・場所において\n複数日実施する場合）",null,1,{"$nulls":11},6]
[{"$nulls":4},2,{"$nulls":11},7]
[{"$nulls":4},3,{"$nulls":11},8]
[{"$nulls":4},4,{"$nulls":11},9]
[{"$nulls":4},5,{"$nulls":11},10]
[null,null,"事業の概要"]
[null,null,"指定自治体等との連携"]
[null,null,"効果的な実施の\nための工夫",null,"※訴求テーマ及び訴求対象に応じた適切なメッセージ、時期設定の考え方や訴求対象にアプローチするための工夫等を記入してください。"]
[]
[null,null,"主な訴求対象"]
[null,null,"目標アウトプット\n（リーチ数）\n（想定及び実績）",null,"カテゴリ①（プルダウン選択）⇒"]
[{"$nulls":4},"昨年度実績",{"$nulls":3},"計",null,{"v":0,"d":"0名"}]
[{"$nulls":4},"想定",{"$nulls":3},"計",null,{"v":0,"d":"0名"}]
[{"$nulls":4},"算出根拠"]
[{"$nulls":4},"カテゴリ②（プルダウン選択）⇒"]
[{"$nulls":4},"昨年度実績",{"$nulls":3},"計",null,{"v":0,"d":"0名"}]
[{"$nulls":4},"想定",{"$nulls":3},"計",null,{"v":0,"d":"0名"}]
[{"$nulls":4},"算出根拠"]
[null,null,"目標アウトカム（想定及び実績）"]
[null,null,"賛同数（想定及び実績）",null,"昨年度実績",{"$nulls":3},"団体",null,{"v":0,"d":"0団体"},{"$nulls":4},"、個人",null,{"v":0,"d":"0名"}]
[{"$nulls":4},"想定",{"$nulls":3},"団体",null,{"v":0,"d":"0団体"},{"$nulls":4},"、個人",null,{"v":0,"d":"0名"}]
[null,null,"効果検証\n（アンケート）予定",null,"※アンケートの実施予定をプルダウンより選択してください。"]
[{"$nulls":4},"公募要領に規定のアンケート",{"$nulls":16},"貴事業者独自のアンケート"]
[{"$nulls":4},"省エネ機器",{"$nulls":3},"省エネ住宅",{"$nulls":3},"エコドライブ",{"$nulls":3},"低炭素物流（宅配便の再配達防止）"]
[{"$nulls":4},"- 選択 -",{"$nulls":3},"- 選択 -",{"$nulls":3},"- 選択 -",{"$nulls":3},"- 選択 -",{"$nulls":4},"- 選択 -"]
[{"$nulls":4},"内容（",{"$nulls":22},"）"]
[{"$nulls":4},"昨年度実績",{"$nulls":3},"計",0,null,null,"枚",null,"※複数ある場合は、平均アンケート回収数"]
[{"$nulls":4},"目標回収数",{"$nulls":3},"計",0,null,null,"枚",null,"※複数ある場合は、平均アンケート回収数"]
[]
[null,null,"項目",null,"内容"]
[null,null,"事業8","事業名"]
[null,null,"普及啓発テーマ",null,"※公募要領　別表第１　で対象とする間接補助事業の内容に合致していること。\n※該当するテーマすべてをチェックしてください。"]
[{"$nulls":4},"①",null,"②",null,"③",null,"④",null,"⑤",null,"⑥",null,"⑦",null,"⑧",null,"⑨",null,"⑩",null,"⑪",null,"⑫",{"$nulls":3},"①","②","③","④","⑤","⑥","⑦","⑧","⑨","⑩","⑪","⑫"]
[{"$nulls":4},"省ｴﾈ機器",null,"省ｴﾈ住宅",null,"ｴｺｶｰ",null,"ｸｰﾙﾋﾞｽﾞ",null,"ｳｫｰﾑﾋﾞｽﾞ",null,"照明の\n高効率利用",null,"ｴｺﾄﾞﾗｲﾌﾞ",null,"ｶｰｼｪｱ",null,"公共交通\n機関の利用",null,"再配達防止",null,"シェアエコ",null,"地球温暖化",{"$nulls":3},"省ｴﾈ機器","省ｴﾈ住宅","ｴｺｶｰ","ｸｰﾙﾋﾞｽﾞ","ｳｫｰﾑﾋﾞｽﾞ","照明の\n高効率利用","ｴｺﾄﾞﾗｲﾌﾞ","ｶｰｼｪｱ","公共交通\n機関の利用","再配達防止","シェアエコ","地球温暖化"]
[{"$nulls":30},false,false,false,false,false,false,false,false,false,false,false,false,{"$f":"COUNTIFS($AE$330:$AP$330,\"TRUE\")","v":0}]
[null,null,"訴求手法",null,"※訴求手法については、該当する欄にチェックしてください。"]
[{"$nulls":4},"a) 情報発信型（受動型）",{"$nulls":7},"b) 情報発信型（能動型）",{"$nulls":7},"c) 双方向体験交流型"]
[{"$nulls":4},"ラジオ、新聞・広報紙等",{"$nulls":7},"講演会・パネル展示等",{"$nulls":7},"試乗・体験会、省ｴﾈ診断等",{"$nulls":22},"a)","b)","c)"]
[{"$nulls":43},false,false,false,{"$f":"COUNTIFS($AR$621:$AT$621,\"TRUE\")","v":0}]
[null,null,"実施期間",{"$nulls":11},"～"]
[null,null,"（備考）"]
[null,null,"実施日\n（※同一事業内で、\n同一の内容・場所において\n複数日実施する場合）",null,1,{"$nulls":11},6]
[{"$nulls":4},2,{"$nulls":11},7]
[{"$nulls":4},3,{"$nulls":11},8]
[{"$nulls":4},4,{"$nulls":11},9]
[{"$nulls":4},5,{"$nulls":11},10]
[null,null,"事業の概要"]
[null,null,"指定自治体等との連携"]
[null,null,"効果的な実施の\nための工夫",null,"※訴求テーマ及び訴求対象に応じた適切なメッセージ、時期設定の考え方や訴求対象にアプローチするための工夫等を記入してください。"]
[]
[null,null,"主な訴求対象"]
[null,null,"目標アウトプット\n（リーチ数）\n（想定及び実績）",null,"カテゴリ①（プルダウン選択）⇒"]
[{"$nulls":4},"昨年度実績",{"$nulls":3},"計",null,{"v":0,"d":"0名"}]
[{"$nulls":4},"想定",{"$nulls":3},"計",null,{"v":0,"d":"0名"}]
[{"$nulls":4},"算出根拠"]
[{"$nulls":4},"カテゴリ②（プルダウン選択）⇒"]
[{"$nulls":4},"昨年度実績",{"$nulls":3},"計",null,{"v":0,"d":"0名"}]
[{"$nulls":4},"想定",{"$nulls":3},"計",null,{"v":0,"d":"0名"}]
[{"$nulls":4},"算出根拠"]
[null,null,"目標アウトカム（想定及び実績）"]
[null,null,"賛同数（想定及び実績）",null,"昨年度実績",{"$nulls":3},"団体",null,{"v":0,"d":"0団体"},{"$nulls":4},"、個人",null,{"v":0,"d":"0名"}]
[{"$nulls":4},"想定",{"$nulls":3},"団体",null,{"v":0,"d":"0団体"},{"$nulls":4},"、個人",null,{"v":0,"d":"0名"}]
[null,null,"効果検証\n（アンケート）予定",null,"※アンケートの実施予定をプルダウンより選択してください。"]
[{"$nulls":4},"公募要領に規定のアンケート",{"$nulls":16},"貴事業者独自のアンケート"]
[{"$nulls":4},"省エネ機器",{"$nulls":3},"省エネ住宅",{"$nulls":3},"エコドライブ",{"$nulls":3},"低炭素物流（宅配便の再配達防止）"]
[{"$nulls":4},"- 選択 -",{"$nulls":3},"- 選択 -",{"$nulls":3},"- 選択 -",{"$nulls":3},"- 選択 -",{"$nulls":4},"- 選択 -"]
[{"$nulls":4},"内容（",{"$nulls":22},"）"]
[{"$nulls":4},"昨年度実績",{"$nulls":3},"計",0,null,null,"枚",null,"※複数ある場合は、平均アンケート回収数"]
[{"$nulls":4},"目標回収数",{"$nulls":3},"計",0,null,null,"枚",null,"※複数ある場合は、平均アンケート回収数"]
[]
[null,null,"項目",null,"内容"]
[null,null,"事業9","事業名"]
[null,null,"普及啓発テーマ",null,"※公募要領　別表第１　で対象とする間接補助事業の内容に合致していること。\n※該当するテーマすべてをチェックしてください。"]
[{"$nulls":4},"①",null,"②",null,"③",null,"④",null,"⑤",null,"⑥",null,"⑦",null,"⑧",null,"⑨",null,"⑩",null,"⑪",null,"⑫",{"$nulls":3},"①","②","③","④","⑤","⑥","⑦","⑧","⑨","⑩","⑪","⑫"]
[{"$nulls":4},"省ｴﾈ機器",null,"省ｴﾈ住宅",null,"ｴｺｶｰ",null,"ｸｰﾙﾋﾞｽﾞ",null,"ｳｫｰﾑﾋﾞｽﾞ",null,"照明の\n高効率利用",null,"ｴｺﾄﾞﾗｲﾌﾞ",null,"ｶｰｼｪｱ",null,"公共交通\n機関の利用",null,"再配達防止",null,"シェアエコ",null,"地球温暖化",{"$nulls":3},"省ｴﾈ機器","省ｴﾈ住宅","ｴｺｶｰ","ｸｰﾙﾋﾞｽﾞ","ｳｫｰﾑﾋﾞｽﾞ","照明の\n高効率利用","ｴｺﾄﾞﾗｲﾌﾞ","ｶｰｼｪｱ","公共交通\n機関の利用","再配達防止","シェアエコ","地球温暖化"]
[{"$nulls":30},false,false,false,false,false,false,false,false,false,false,false,false,{"$f":"COUNTIFS($AE$371:$AP$371,\"TRUE\")","v":0}]
[null,null,"訴求手法",null,"※訴求手法については、該当する欄にチェックしてください。"]
[{"$nulls":4},"a) 情報発信型（受動型）",{"$nulls":7},"b) 情報発信型（能動型）",{"$nulls":7},"c) 双方向体験交流型"]
[{"$nulls":4},"ラジオ、新聞・広報紙等",{"$nulls":7},"講演会・パネル展示等",{"$nulls":7},"試乗・体験会、省ｴﾈ診断等",{"$nulls":22},"a)","b)","c)"]
[{"$nulls":43},false,false,false,{"$f":"COUNTIFS($AR$621:$AT$621,\"TRUE\")","v":0}]
[null,null,"実施期間",{"$nulls":11},"～"]
[null,null,"（備考）"]
[null,null,"実施日\n（※同一事業内で、\n同一の内容・場所において\n複数日実施する場合）",null,1,{"$nulls":11},6]
[{"$nulls":4},2,{"$nulls":11},7]
[{"$nulls":4},3,{"$nulls":11},8]
[{"$nulls":4},4,{"$nulls":11},9]
[{"$nulls":4},5,{"$nulls":11},10]
[null,null,"事業の概要"]
[null,null,"指定自治体等との連携"]
[null,null,"効果的な実施の\nための工夫",null,"※訴求テーマ及び訴求対象に応じた適切なメッセージ、時期設定の考え方や訴求対象にアプローチするための工夫等を記入してください。"]
[]
[null,null,"主な訴求対象"]
[null,null,"目標アウトプット\n（リーチ数）\n（想定及び実績）",null,"カテゴリ①（プルダウン選択）⇒"]
[{"$nulls":4},"昨年度実績",{"$nulls":3},"計",null,{"v":0,"d":"0名"}]
[{"$nulls":4},"想定",{"$nulls":3},"計",null,{"v":0,"d":"0名"}]
[{"$nulls":4},"算出根拠"]
[{"$nulls":4},"カテゴリ②（プルダウン選択）⇒"]
[{"$nulls":4},"昨年度実績",{"$nulls":3},"計",null,{"v":0,"d":"0名"}]
[{"$nulls":4},"想定",{"$nulls":3},"計",null,{"v":0,"d":"0名"}]
[{"$nulls":4},"算出根拠"]
[null,null,"目標アウトカム（想定及び実績）"]
[null,null,"賛同数（想定及び実績）",null,"昨年度実績",{"$nulls":3},"団体",null,{"v":0,"d":"0団体"},{"$nulls":4},"、個人",null,{"v":0,"d":"0名"}]
[{"$nulls":4},"想定",{"$nulls":3},"団体",null,{"v":0,"d":"0団体"},{"$nulls":4},"、個人",null,{"v":0,"d":"0名"}]
[null,null,"効果検証\n（アンケート）予定",null,"※アンケートの実施予定をプルダウンより選択してください。"]
[{"$nulls":4},"公募要領に規定のアンケート",{"$nulls":16},"貴事業者独自のアンケート"]
[{"$nulls":4},"省エネ機器",{"$nulls":3},"省エネ住宅",{"$nulls":3},"エコドライブ",{"$nulls":3},"低炭素物流（宅配便の再配達防止）"]
[{"$nulls":4},"- 選択 -",{"$nulls":3},"- 選択 -",{"$nulls":3},"- 選択 -",{"$nulls":3},"- 選択 -",{"$nulls":4},"- 選択 -"]
[{"$nulls":4},"内容（",{"$nulls":22},"）"]
[{"$nulls":4},"昨年度実績",{"$nulls":3},"計",0,null,null,"枚",null,"※複数ある場合は、平均アンケート回収数"]
[{"$nulls":4},"目標回収数",{"$nulls":3},"計",0,null,null,"枚",null,"※複数ある場合は、平均アンケート回収数"]
[]
[null,null,"項目",null,"内容"]
[null,null,"事業10","事業名"]
[null,null,"普及啓発テーマ",null,"※公募要領　別表第１　で対象とする間接補助事業の内容に合致していること。\n※該当するテーマすべてをチェックしてください。"]
[{"$nulls":4},"①",null,"②",null,"③",null,"④",null,"⑤",null,"⑥",null,"⑦",null,"⑧",null,"⑨",null,"⑩",null,"⑪",null,"⑫",{"$nulls":3},"①","②","③","④","⑤","⑥","⑦","⑧","⑨","⑩","⑪","⑫"]
[{"$nulls":4},"省ｴﾈ機器",null,"省ｴﾈ住宅",null,"ｴｺｶｰ",null,"ｸｰﾙﾋﾞｽﾞ",null,"ｳｫｰﾑﾋﾞｽﾞ",null,"照明の\n高効率利用",null,"ｴｺﾄﾞﾗｲﾌﾞ",null,"ｶｰｼｪｱ",null,"公共交通\n機関の利用",null,"再配達防止",null,"シェアエコ",null,"地球温暖化",{"$nulls":3},"省ｴﾈ機器","省ｴﾈ住宅","ｴｺｶｰ","ｸｰﾙﾋﾞｽﾞ","ｳｫｰﾑﾋﾞｽﾞ","照明の\n高効率利用","ｴｺﾄﾞﾗｲﾌﾞ","ｶｰｼｪｱ","公共交通\n機関の利用","再配達防止","シェアエコ","地球温暖化"]
[{"$nulls":30},false,false,false,false,false,false,false,false,false,false,false,false,{"$f":"COUNTIFS($AE$412:$AP$412,\"TRUE\")","v":0}]
[null,null,"訴求手法",null,"※訴求手法については、該当する欄にチェックしてください。"]
[{"$nulls":4},"a) 情報発信型（受動型）",{"$nulls":7},"b) 情報発信型（能動型）",{"$nulls":7},"c) 双方向体験交流型"]
[{"$nulls":4},"ラジオ、新聞・広報紙等",{"$nulls":7},"講演会・パネル展示等",{"$nulls":7},"試乗・体験会、省ｴﾈ診断等",{"$nulls":22},"a)","b)","c)"]
[{"$nulls":43},false,false,false,{"$f":"COUNTIFS($AR$621:$AT$621,\"TRUE\")","v":0}]
[null,null,"実施期間",{"$nulls":11},"～"]
[null,null,"（備考）"]
[null,null,"実施日\n（※同一事業内で、\n同一の内容・場所において\n複数日実施する場合）",null,1,{"$nulls":11},6]
[{"$nulls":4},2,{"$nulls":11},7]
[{"$nulls":4},3,{"$nulls":11},8]
[{"$nulls":4},4,{"$nulls":11},9]
[{"$nulls":4},5,{"$nulls":11},10]
[null,null,"事業の概要"]
[null,null,"指定自治体等との連携"]
[null,null,"効果的な実施の\nための工夫",null,"※訴求テーマ及び訴求対象に応じた適切なメッセージ、時期設定の考え方や訴求対象にアプローチするための工夫等を記入してください。"]
[]
[null,null,"主な訴求対象"]
[null,null,"目標アウトプット\n（リーチ数）\n（想定及び実績）",null,"カテゴリ①（プルダウン選択）⇒"]
[{"$nulls":4},"昨年度実績",{"$nulls":3},"計",null,{"v":0,"d":"0名"}]
[{"$nulls":4},"想定",{"$nulls":3},"計",null,{"v":0,"d":"0名"}]
[{"$nulls":4},"算出根拠"]
[{"$nulls":4},"カテゴリ②（プルダウン選択）⇒"]
[{"$nulls":4},"昨年度実績",{"$nulls":3},"計",null,{"v":0,"d":"0名"}]
[{"$nulls":4},"想定",{"$nulls":3},"計",null,{"v":0,"d":"0名"}]
[{"$nulls":4},"算出根拠"]
[null,null,"目標アウトカム（想定及び実績）"]
[null,null,"賛同数（想定及び実績）",null,"昨年度実績",{"$nulls":3},"団体",null,{"v":0,"d":"0団体"},{"$nulls":4},"、個人",null,{"v":0,"d":"0名"}]
[{"$nulls":4},"想定",{"$nulls":3},"団体",null,{"v":0,"d":"0団体"},{"$nulls":4},"、個人",null,{"v":0,"d":"0名"}]
[null,null,"効果検証\n（アンケート）予定",null,"※アンケートの実施予定をプルダウンより選択してください。"]
[{"$nulls":4},"公募要領に規定のアンケート",{"$nulls":16},"貴事業者独自のアンケート"]
[{"$nulls":4},"省エネ機器",{"$nulls":3},"省エネ住宅",{"$nulls":3},"エコドライブ",{"$nulls":3},"低炭素物流（宅配便の再配達防止）"]
[{"$nulls":4},"- 選択 -",{"$nulls":3},"- 選択 -",{"$nulls":3},"- 選択 -",{"$nulls":3},"- 選択 -",{"$nulls":4},"- 選択 -"]
[{"$nulls":4},"内容（",{"$nulls":22},"）"]
[{"$nulls":4},"昨年度実績",{"$nulls":3},"計",0,null,null,"枚",null,"※複数ある場合は、平均アンケート回収数"]
[{"$nulls":4},"目標回収数",{"$nulls":3},"計",0,null,null,"枚",null,"※複数ある場合は、平均アンケート回収数"]
[]
[null,null,"項目",null,"内容"]
[null,null,"事業11","事業名"]
[null,null,"普及啓発テーマ",null,"※公募要領　別表第１　で対象とする間接補助事業の内容に合致していること。\n※該当するテーマすべてをチェックしてください。"]
[{"$nulls":4},"①",null,"②",null,"③",null,"④",null,"⑤",null,"⑥",null,"⑦",null,"⑧",null,"⑨",null,"⑩",null,"⑪",null,"⑫",{"$nulls":3},"①","②","③","④","⑤","⑥","⑦","⑧","⑨","⑩","⑪","⑫"]
[{"$nulls":4},"省ｴﾈ機器",null,"省ｴﾈ住宅",null,"ｴｺｶｰ",null,"ｸｰﾙﾋﾞｽﾞ",null,"ｳｫｰﾑﾋﾞｽﾞ",null,"照明の\n高効率利用",null,"ｴｺﾄﾞﾗｲﾌﾞ",null,"ｶｰｼｪｱ",null,"公共交通\n機関の利用",null,"再配達防止",null,"シェアエコ",null,"地球温暖化",{"$nulls":3},"省ｴﾈ機器","省ｴﾈ住宅","ｴｺｶｰ","ｸｰﾙﾋﾞｽﾞ","ｳｫｰﾑﾋﾞｽﾞ","照明の\n高効率利用","ｴｺﾄﾞﾗｲﾌﾞ","ｶｰｼｪｱ","公共交通\n機関の利用","再配達防止","シェアエコ","地球温暖化"]
[{"$nulls":30},false,false,false,false,false,false,false,false,false,false,false,false,{"$f":"COUNTIFS($AE$453:$AP$453,\"TRUE\")","v":0}]
[null,null,"訴求手法",null,"※訴求手法については、該当する欄にチェックしてください。"]
[{"$nulls":4},"a) 情報発信型（受動型）",{"$nulls":7},"b) 情報発信型（能動型）",{"$nulls":7},"c) 双方向体験交流型"]
[{"$nulls":4},"ラジオ、新聞・広報紙等",{"$nulls":7},"講演会・パネル展示等",{"$nulls":7},"試乗・体験会、省ｴﾈ診断等",{"$nulls":22},"a)","b)","c)"]
[{"$nulls":43},false,false,false,{"$f":"COUNTIFS($AR$621:$AT$621,\"TRUE\")","v":0}]
[null,null,"実施期間",{"$nulls":11},"～"]
[null,null,"（備考）"]
[null,null,"実施日\n（※同一事業内で、\n同一の内容・場所において\n複数日実施する場合）",null,1,{"$nulls":11},6]
[{"$nulls":4},2,{"$nulls":11},7]
[{"$nulls":4},3,{"$nulls":11},8]
[{"$nulls":4},4,{"$nulls":11},9]
[{"$nulls":4},5,{"$nulls":11},10]
[null,null,"事業の概要"]
[null,null,"指定自治体等との連携"]
[null,null,"効果的な実施の\nための工夫",null,"※訴求テーマ及び訴求対象に応じた適切なメッセージ、時期設定の考え方や訴求対象にアプローチするための工夫等を記入してください。"]
[]
[null,null,"主な訴求対象"]
[null,null,"目標アウトプット\n（リーチ数）\n（想定及び実績）",null,"カテゴリ①（プルダウン選択）⇒"]
[{"$nulls":4},"昨年度実績",{"$nulls":3},"計",null,{"v":0,"d":"0名"}]
[{"$nulls":4},"想定",{"$nulls":3},"計",null,{"v":0,"d":"0名"}]
[{"$nulls":4},"算出根拠"]
[{"$nulls":4},"カテゴリ②（プルダウン選択）⇒"]
[{"$nulls":4},"昨年度実績",{"$nulls":3},"計",null,{"v":0,"d":"0名"}]
[{"$nulls":4},"想定",{"$nulls":3},"計",null,{"v":0,"d":"0名"}]
[{"$nulls":4},"算出根拠"]
[null,null,"目標アウトカム（想定及び実績）"]
[null,null,"賛同数（想定及び実績）",null,"昨年度実績",{"$nulls":3},"団体",null,{"v":0,"d":"0団体"},{"$nulls":4},"、個人",null,{"v":0,"d":"0名"}]
[{"$nulls":4},"想定",{"$nulls":3},"団体",null,{"v":0,"d":"0団体"},{"$nulls":4},"、個人",null,{"v":0,"d":"0名"}]
[null,null,"効果検証\n（アンケート）予定",null,"※アンケートの実施予定をプルダウンより選択してください。"]
[{"$nulls":4},"公募要領に規定のアンケート",{"$nulls":16},"貴事業者独自のアンケート"]
[{"$nulls":4},"省エネ機器",{"$nulls":3},"省エネ住宅",{"$nulls":3},"エコドライブ",{"$nulls":3},"低炭素物流（宅配便の再配達防止）"]
[{"$nulls":4},"- 選択 -",{"$nulls":3},"- 選択 -",{"$nulls":3},"- 選択 -",{"$nulls":3},"- 選択 -",{"$nulls":4},"- 選択 -"]
[{"$nulls":4},"内容（",{"$nulls":22},"）"]
[{"$nulls":4},"昨年度実績",{"$nulls":3},"計",0,null,null,"枚",null,"※複数ある場合は、平均アンケート回収数"]
[{"$nulls":4},"目標回収数",{"$nulls":3},"計",0,null,null,"枚",null,"※複数ある場合は、平均アンケート回収数"]
[]
[null,null,"項目",null,"内容"]
[null,null,"事業12","事業名"]
[null,null,"普及啓発テーマ",null,"※公募要領　別表第１　で対象とする間接補助事業の内容に合致していること。\n※該当するテーマすべてをチェックしてください。"]
[{"$nulls":4},"①",null,"②",null,"③",null,"④",null,"⑤",null,"⑥",null,"⑦",null,"⑧",null,"⑨",null,"⑩",null,"⑪",null,"⑫",{"$nulls":3},"①","②","③","④","⑤","⑥","⑦","⑧","⑨","⑩","⑪","⑫"]
[{"$nulls":4},"省ｴﾈ機器",null,"省ｴﾈ住宅",null,"ｴｺｶｰ",null,"ｸｰﾙﾋﾞｽﾞ",null,"ｳｫｰﾑﾋﾞｽﾞ",null,"照明の\n高効率利用",null,"ｴｺﾄﾞﾗｲﾌﾞ",null,"ｶｰｼｪｱ",null,"公共交通\n機関の利用",null,"再配達防止",null,"シェアエコ",null,"地球温暖化",{"$nulls":3},"省ｴﾈ機器","省ｴﾈ住宅","ｴｺｶｰ","ｸｰﾙﾋﾞｽﾞ","ｳｫｰﾑﾋﾞｽﾞ","照明の\n高効率利用","ｴｺﾄﾞﾗｲﾌﾞ","ｶｰｼｪｱ","公共交通\n機関の利用","再配達防止","シェアエコ","地球温暖化"]
[{"$nulls":30},false,false,false,false,false,false,false,false,false,false,false,false,{"$f":"COUNTIFS($AE$494:$AP$494,\"TRUE\")","v":0}]
[null,null,"訴求手法",null,"※訴求手法については、該当する欄にチェックしてください。"]
[{"$nulls":4},"a) 情報発信型（受動型）",{"$nulls":7},"b) 情報発信型（能動型）",{"$nulls":7},"c) 双方向体験交流型"]
[{"$nulls":4},"ラジオ、新聞・広報紙等",{"$nulls":7},"講演会・パネル展示等",{"$nulls":7},"試乗・体験会、省ｴﾈ診断等",{"$nulls":22},"a)","b)","c)"]
[{"$nulls":43},false,false,false,{"$f":"COUNTIFS($AR$621:$AT$621,\"TRUE\")","v":0}]
[null,null,"実施期間",{"$nulls":11},"～"]
[null,null,"（備考）"]
[null,null,"実施日\n（※同一事業内で、\n同一の内容・場所において\n複数日実施する場合）",null,1,{"$nulls":11},6]
[{"$nulls":4},2,{"$nulls":11},7]
[{"$nulls":4},3,{"$nulls":11},8]
[{"$nulls":4},4,{"$nulls":11},9]
[{"$nulls":4},5,{"$nulls":11},10]
[null,null,"事業の概要"]
[null,null,"指定自治体等との連携"]
[null,null,"効果的な実施の\nための工夫",null,"※訴求テーマ及び訴求対象に応じた適切なメッセージ、時期設定の考え方や訴求対象にアプローチするための工夫等を記入してください。"]
[]
[null,null,"主な訴求対象"]
[null,null,"目標アウトプット\n（リーチ数）\n（想定及び実績）",null,"カテゴリ①（プルダウン選択）⇒"]
[{"$nulls":4},"昨年度実績",{"$nulls":3},"計",null,{"v":0,"d":"0名"}]
[{"$nulls":4},"想定",{"$nulls":3},"計",null,{"v":0,"d":"0名"}]
[{"$nulls":4},"算出根拠"]
[{"$nulls":4},"カテゴリ②（プルダウン選択）⇒"]
[{"$nulls":4},"昨年度実績",{"$nulls":3},"計",null,{"v":0,"d":"0名"}]
[{"$nulls":4},"想定",{"$nulls":3},"計",null,{"v":0,"d":"0名"}]
[{"$nulls":4},"算出根拠"]
[null,null,"目標アウトカム（想定及び実績）"]
[null,null,"賛同数（想定及び実績）",null,"昨年度実績",{"$nulls":3},"団体",null,{"v":0,"d":"0団体"},{"$nulls":4},"、個人",null,{"v":0,"d":"0名"}]
[{"$nulls":4},"想定",{"$nulls":3},"団体",null,{"v":0,"d":"0団体"},{"$nulls":4},"、個人",null,{"v":0,"d":"0名"}]
[null,null,"効果検証\n（アンケート）予定",null,"※アンケートの実施予定をプルダウンより選択してください。"]
[{"$nulls":4},"公募要領に規定のアンケート",{"$nulls":16},"貴事業者独自のアンケート"]
[{"$nulls":4},"省エネ機器",{"$nulls":3},"省エネ住宅",{"$nulls":3},"エコドライブ",{"$nulls":3},"低炭素物流（宅配便の再配達防止）"]
[{"$nulls":4},"- 選択 -",{"$nulls":3},"- 選択 -",{"$nulls":3},"- 選択 -",{"$nulls":3},"- 選択 -",{"$nulls":4},"- 選択 -"]
[{"$nulls":4},"内容（",{"$nulls":22},"）"]
[{"$nulls":4},"昨年度実績",{"$nulls":3},"計",0,null,null,"枚",null,"※複数ある場合は、平均アンケート回収数"]
[{"$nulls":4},"目標回収数",{"$nulls":3},"計",0,null,null,"枚",null,"※複数ある場合は、平均アンケート回収数"]
[]
[null,null,"項目",null,"内容"]
[null,null,"事業13","事業名"]
[null,null,"普及啓発テーマ",null,"※公募要領　別表第１　で対象とする間接補助事業の内容に合致していること。\n※該当するテーマすべてをチェックしてください。"]
[{"$nulls":4},"①",null,"②",null,"③",null,"④",null,"⑤",null,"⑥",null,"⑦",null,"⑧",null,"⑨",null,"⑩",null,"⑪",null,"⑫",{"$nulls":3},"①","②","③","④","⑤","⑥","⑦","⑧","⑨","⑩","⑪","⑫"]
[{"$nulls":4},"省ｴﾈ機器",null,"省ｴﾈ住宅",null,"ｴｺｶｰ",null,"ｸｰﾙﾋﾞｽﾞ",null,"ｳｫｰﾑﾋﾞｽﾞ",null,"照明の\n高効率利用",null,"ｴｺﾄﾞﾗｲﾌﾞ",null,"ｶｰｼｪｱ",null,"公共交通\n機関の利用",null,"再配達防止",null,"シェアエコ",null,"地球温暖化",{"$nulls":3},"省ｴﾈ機器","省ｴﾈ住宅","ｴｺｶｰ","ｸｰﾙﾋﾞｽﾞ","ｳｫｰﾑﾋﾞｽﾞ","照明の\n高効率利用","ｴｺﾄﾞﾗｲﾌﾞ","ｶｰｼｪｱ","公共交通\n機関の利用","再配達防止","シェアエコ","地球温暖化"]
[{"$nulls":30},false,false,false,false,false,false,false,false,false,false,false,false,{"$f":"COUNTIFS($AE$535:$AP$535,\"TRUE\")","v":0}]
[null,null,"訴求手法",null,"※訴求手法については、該当する欄にチェックしてください。"]
[{"$nulls":4},"a) 情報発信型（受動型）",{"$nulls":7},"b) 情報発信型（能動型）",{"$nulls":7},"c) 双方向体験交流型"]
[{"$nulls":4},"ラジオ、新聞・広報紙等",{"$nulls":7},"講演会・パネル展示等",{"$nulls":7},"試乗・体験会、省ｴﾈ診断等",{"$nulls":22},"a)","b)","c)"]
[{"$nulls":43},false,false,false,{"$f":"COUNTIFS($AR$621:$AT$621,\"TRUE\")","v":0}]
[null,null,"実施期間",{"$nulls":11},"～"]
[null,null,"（備考）"]
[null,null,"実施日\n（※同一事業内で、\n同一の内容・場所において\n複数日実施する場合）",null,1,{"$nulls":11},6]
[{"$nulls":4},2,{"$nulls":11},7]
[{"$nulls":4},3,{"$nulls":11},8]
[{"$nulls":4},4,{"$nulls":11},9]
[{"$nulls":4},5,{"$nulls":11},10]
[null,null,"事業の概要"]
[null,null,"指定自治体等との連携"]
[null,null,"効果的な実施の\nための工夫",null,"※訴求テーマ及び訴求対象に応じた適切なメッセージ、時期設定の考え方や訴求対象にアプローチするための工夫等を記入してください。"]
[]
[null,null,"主な訴求対象"]
[null,null,"目標アウトプット\n（リーチ数）\n（想定及び実績）",null,"カテゴリ①（プルダウン選択）⇒"]
[{"$nulls":4},"昨年度実績",{"$nulls":3},"計",null,{"v":0,"d":"0名"}]
[{"$nulls":4},"想定",{"$nulls":3},"計",null,{"v":0,"d":"0名"}]
[{"$nulls":4},"算出根拠"]
[{"$nulls":4},"カテゴリ②（プルダウン選択）⇒"]
[{"$nulls":4},"昨年度実績",{"$nulls":3},"計",null,{"v":0,"d":"0名"}]
[{"$nulls":4},"想定",{"$nulls":3},"計",null,{"v":0,"d":"0名"}]
[{"$nulls":4},"算出根拠"]
[null,null,"目標アウトカム（想定及び実績）"]
[null,null,"賛同数（想定及び実績）",null,"昨年度実績",{"$nulls":3},"団体",null,{"v":0,"d":"0団体"},{"$nulls":4},"、個人",null,{"v":0,"d":"0名"}]
[{"$nulls":4},"想定",{"$nulls":3},"団体",null,{"v":0,"d":"0団体"},{"$nulls":4},"、個人",null,{"v":0,"d":"0名"}]
[null,null,"効果検証\n（アンケート）予定",null,"※アンケートの実施予定をプルダウンより選択してください。"]
[{"$nulls":4},"公募要領に規定のアンケート",{"$nulls":16},"貴事業者独自のアンケート"]
[{"$nulls":4},"省エネ機器",{"$nulls":3},"省エネ住宅",{"$nulls":3},"エコドライブ",{"$nulls":3},"低炭素物流（宅配便の再配達防止）"]
[{"$nulls":4},"- 選択 -",{"$nulls":3},"- 選択 -",{"$nulls":3},"- 選択 -",{"$nulls":3},"- 選択 -",{"$nulls":4},"- 選択 -"]
[{"$nulls":4},"内容（",{"$nulls":22},"）"]
[{"$nulls":4},"昨年度実績",{"$nulls":3},"計",0,null,null,"枚",null,"※複数ある場合は、平均アンケート回収数"]
[{"$nulls":4},"目標回収数",{"$nulls":3},"計",0,null,null,"枚",null,"※複数ある場合は、平均アンケート回収数"]
[]
[null,null,"項目",null,"内容"]
[null,null,"事業14","事業名"]
[null,null,"普及啓発テーマ",null,"※公募要領　別表第１　で対象とする間接補助事業の内容に合致していること。\n※該当するテーマすべてをチェックしてください。"]
[{"$nulls":4},"①",null,"②",null,"③",null,"④",null,"⑤",null,"⑥",null,"⑦",null,"⑧",null,"⑨",null,"⑩",null,"⑪",null,"⑫",{"$nulls":3},"①","②","③","④","⑤","⑥","⑦","⑧","⑨","⑩","⑪","⑫"]
[{"$nulls":4},"省ｴﾈ機器",null,"省ｴﾈ住宅",null,"ｴｺｶｰ",null,"ｸｰﾙﾋﾞｽﾞ",null,"ｳｫｰﾑﾋﾞｽﾞ",null,"照明の\n高効率利用",null,"ｴｺﾄﾞﾗｲﾌﾞ",null,"ｶｰｼｪｱ",null,"公共交通\n機関の利用",null,"再配達防止",null,"シェアエコ",null,"地球温暖化",{"$nulls":3},"省ｴﾈ機器","省ｴﾈ住宅","ｴｺｶｰ","ｸｰﾙﾋﾞｽﾞ","ｳｫｰﾑﾋﾞｽﾞ","照明の\n高効率利用","ｴｺﾄﾞﾗｲﾌﾞ","ｶｰｼｪｱ","公共交通\n機関の利用","再配達防止","シェアエコ","地球温暖化"]
[{"$nulls":30},false,false,false,false,false,false,false,false,false,false,false,false,{"$f":"COUNTIFS($AE$576:$AP$576,\"TRUE\")","v":0}]
[null,null,"訴求手法",null,"※訴求手法については、該当する欄にチェックしてください。"]
[{"$nulls":4},"a) 情報発信型（受動型）",{"$nulls":7},"b) 情報発信型（能動型）",{"$nulls":7},"c) 双方向体験交流型"]
[{"$nulls":4},"ラジオ、新聞・広報紙等",{"$nulls":7},"講演会・パネル展示等",{"$nulls":7},"試乗・体験会、省ｴﾈ診断等",{"$nulls":22},"a)","b)","c)"]
[{"$nulls":43},false,false,false,{"$f":"COUNTIFS($AR$621:$AT$621,\"TRUE\")","v":0}]
[null,null,"実施期間",{"$nulls":11},"～"]
[null,null,"（備考）"]
[null,null,"実施日\n（※同一事業内で、\n同一の内容・場所において\n複数日実施する場合）",null,1,{"$nulls":11},6]
[{"$nulls":4},2,{"$nulls":11},7]
[{"$nulls":4},3,{"$nulls":11},8]
[{"$nulls":4},4,{"$nulls":11},9]
[{"$nulls":4},5,{"$nulls":11},10]
[null,null,"事業の概要"]
[null,null,"指定自治体等との連携"]
[null,null,"効果的な実施の\nための工夫",null,"※訴求テーマ及び訴求対象に応じた適切なメッセージ、時期設定の考え方や訴求対象にアプローチするための工夫等を記入してください。"]
[]
[null,null,"主な訴求対象"]
[null,null,"目標アウトプット\n（リーチ数）\n（想定及び実績）",null,"カテゴリ①（プルダウン選択）⇒"]
[{"$nulls":4},"昨年度実績",{"$nulls":3},"計",null,{"v":0,"d":"0名"}]
[{"$nulls":4},"想定",{"$nulls":3},"計",null,{"v":0,"d":"0名"}]
[{"$nulls":4},"算出根拠"]
[{"$nulls":4},"カテゴリ②（プルダウン選択）⇒"]
[{"$nulls":4},"昨年度実績",{"$nulls":3},"計",null,{"v":0,"d":"0名"}]
[{"$nulls":4},"想定",{"$nulls":3},"計",null,{"v":0,"d":"0名"}]
[{"$nulls":4},"算出根拠"]
[null,null,"目標アウトカム（想定及び実績）"]
[null,null,"賛同数（想定及び実績）",null,"昨年度実績",{"$nulls":3},"団体",null,{"v":0,"d":"0団体"},{"$nulls":4},"、個人",null,{"v":0,"d":"0名"}]
[{"$nulls":4},"想定",{"$nulls":3},"団体",null,{"v":0,"d":"0団体"},{"$nulls":4},"、個人",null,{"v":0,"d":"0名"}]
[null,null,"効果検証\n（アンケート）予定",null,"※アンケートの実施予定をプルダウンより選択してください。"]
[{"$nulls":4},"公募要領に規定のアンケート",{"$nulls":16},"貴事業者独自のアンケート"]
[{"$nulls":4},"省エネ機器",{"$nulls":3},"省エネ住宅",{"$nulls":3},"エコドライブ",{"$nulls":3},"低炭素物流（宅配便の再配達防止）"]
[{"$nulls":4},"- 選択 -",{"$nulls":3},"- 選択 -",{"$nulls":3},"- 選択 -",{"$nulls":3},"- 選択 -",{"$nulls":4},"- 選択 -"]
[{"$nulls":4},"内容（",{"$nulls":22},"）"]
[{"$nulls":4},"昨年度実績",{"$nulls":3},"計",0,null,null,"枚",null,"※複数ある場合は、平均アンケート回収数"]
[{"$nulls":4},"目標回収数",{"$nulls":3},"計",0,null,null,"枚",null,"※複数ある場合は、平均アンケート回収数"]
[]
[null,null,"項目",null,"内容"]
[null,null,"事業15","事業名"]
[null,null,"普及啓発テーマ",null,"※公募要領　別表第１　で対象とする間接補助事業の内容に合致していること。\n※該当するテーマすべてをチェックしてください。"]
[{"$nulls":4},"①",null,"②",null,"③",null,"④",null,"⑤",null,"⑥",null,"⑦",null,"⑧",null,"⑨",null,"⑩",null,"⑪",null,"⑫",{"$nulls":3},"①","②","③","④","⑤","⑥","⑦","⑧","⑨","⑩","⑪","⑫"]
[{"$nulls":4},"省ｴﾈ機器",null,"省ｴﾈ住宅",null,"ｴｺｶｰ",null,"ｸｰﾙﾋﾞｽﾞ",null,"ｳｫｰﾑﾋﾞｽﾞ",null,"照明の\n高効率利用",null,"ｴｺﾄﾞﾗｲﾌﾞ",null,"ｶｰｼｪｱ",null,"公共交通\n機関の利用",null,"再配達防止",null,"シェアエコ",null,"地球温暖化",{"$nulls":3},"省ｴﾈ機器","省ｴﾈ住宅","ｴｺｶｰ","ｸｰﾙﾋﾞｽﾞ","ｳｫｰﾑﾋﾞｽﾞ","照明の\n高効率利用","ｴｺﾄﾞﾗｲﾌﾞ","ｶｰｼｪｱ","公共交通\n機関の利用","再配達防止","シェアエコ","地球温暖化"]
[{"$nulls":30},false,false,false,false,false,false,false,false,false,false,false,false,{"$f":"COUNTIFS($AE$617:$AP$617,\"TRUE\")","v":0}]
[null,null,"訴求手法",null,"※訴求手法については、該当する欄にチェックしてください。"]
[{"$nulls":4},"a) 情報発信型（受動型）",{"$nulls":7},"b) 情報発信型（能動型）",{"$nulls":7},"c) 双方向体験交流型"]
[{"$nulls":4},"ラジオ、新聞・広報紙等",{"$nulls":7},"講演会・パネル展示等",{"$nulls":7},"試乗・体験会、省ｴﾈ診断等",{"$nulls":22},"a)","b)","c)"]
[{"$nulls":43},false,false,false,{"$f":"COUNTIFS($AR$621:$AT$621,\"TRUE\")","v":0}]
[null,null,"実施期間",{"$nulls":11},"～"]
[null,null,"（備考）"]
[null,null,"実施日\n（※同一事業内で、\n同一の内容・場所において\n複数日実施する場合）",null,1,{"$nulls":11},6]
[{"$nulls":4},2,{"$nulls":11},7]
[{"$nulls":4},3,{"$nulls":11},8]
[{"$nulls":4},4,{"$nulls":11},9]
[{"$nulls":4},5,{"$nulls":11},10]
[null,null,"事業の概要"]
[null,null,"指定自治体等との連携"]
[null,null,"効果的な実施の\nための工夫",null,"※訴求テーマ及び訴求対象に応じた適切なメッセージ、時期設定の考え方や訴求対象にアプローチするための工夫等を記入してください。"]
[]
[null,null,"主な訴求対象"]
[null,null,"目標アウトプット\n（リーチ数）\n（想定及び実績）",null,"カテゴリ①（プルダウン選択）⇒"]
[{"$nulls":4},"昨年度実績",{"$nulls":3},"計",null,{"v":0,"d":"0名"}]
[{"$nulls":4},"想定",{"$nulls":3},"計",null,{"v":0,"d":"0名"}]
[{"$nulls":4},"算出根拠"]
[{"$nulls":4},"カテゴリ②（プルダウン選択）⇒"]
[{"$nulls":4},"昨年度実績",{"$nulls":3},"計",null,{"v":0,"d":"0名"}]
[{"$nulls":4},"想定",{"$nulls":3},"計",null,{"v":0,"d":"0名"}]
[{"$nulls":4},"算出根拠"]
[null,null,"目標アウトカム（想定及び実績）"]
[null,null,"賛同数（想定及び実績）",null,"昨年度実績",{"$nulls":3},"団体",null,{"v":0,"d":"0団体"},{"$nulls":4},"、個人",null,{"v":0,"d":"0名"}]
[{"$nulls":4},"想定",{"$nulls":3},"団体",null,{"v":0,"d":"0団体"},{"$nulls":4},"、個人",null,{"v":0,"d":"0名"}]
[null,null,"効果検証\n（アンケート）予定",null,"※アンケートの実施予定をプルダウンより選択してください。"]
[{"$nulls":4},"公募要領に規定のアンケート",{"$nulls":16},"貴事業者独自のアンケート"]
[{"$nulls":4},"省エネ機器",{"$nulls":3},"省エネ住宅",{"$nulls":3},"エコドライブ",{"$nulls":3},"低炭素物流（宅配便の再配達防止）"]
[{"$nulls":4},"- 選択 -",{"$nulls":3},"- 選択 -",{"$nulls":3},"- 選択 -",{"$nulls":3},"- 選択 -",{"$nulls":4},"- 選択 -"]
[{"$nulls":4},"内容（",{"$nulls":22},"）"]
[{"$nulls":4},"昨年度実績",{"$nulls":3},"計",0,null,null,"枚",null,"※複数ある場合は、平均アンケート回収数"]
[{"$nulls":4},"目標回収数",{"$nulls":3},"計",0,null,null,"枚",null,"※複数ある場合は、平均アンケート回収数"]
[]
[]
[null,"②【地域地球温暖化防止活動推進員、活動団体等の支援】（第38条第2項第1号後段）"]
[]
[]
[]
[]
[]
[null,"③【日常生活に関する温室効果ガス排出抑制措置等についての相談対応、助言】（第38条第2項第2号）"]
[]
[]
[]
[]
[]
[null,"④ 【地域の温室効果ガス排出に関する実態調査（調査協力含む）、情報収集・分析、成果の発信】"]
[null,"（第38条第2項第3号、第4号）"]
[]
[]
[]
[]
[]
[null,"⑤【指定団体等への施策の協力】（第38条第2項第5号）"]
[]
[]
[]
[]
[]
[null,"⑥【附帯する事業】（第38条第2項第6号）"]
[]
[]
[]
[]
[]
[null,"＜事業の効果＞"]
[null,"※事業をどのような目標をもって取組むか、具体的な目標を設定しその算出方法や実施方法等を示す。"]
[]
[null,"【事業効果の目標】"]
[null,null,"A) エネルギー起源CO2排出削減量："]
[null,null,"エネルギー起源CO2排出削減量",{"$nulls":7},"（t-CO2）"]
[null,null,"測定方法\n（計算式、根拠資料等）"]
[]
[]
[]
[]
[]
[null,null,"※CO2排出削減量を、どの業務（①～⑤）でどのような方法により算出するかを記入する。"]
[]
[null,null,"B) 事業全体におけるCOOL CHOICE賛同数："]
[null,null,"賛同数\n目標","賛同団体",null,null,{"$f":"SUM(K69,K111,K152,K193,K234,K275,K316,K357,K398,K439,K480,K521,K562,K603,K644)","v":0},{"$nulls":3},"（社）"]
[{"$nulls":3},"賛同者数（個人）",null,null,{"$f":"SUM(R69,R111,R152,R193,R234,R275,R316,R357,R398,R439,R480,R521,R562,R603,R644)","v":0},{"$nulls":3},"（人）"]
[null,null,"測定方法\n（計算式、根拠資料等）"]
[]
[]
[]
[]
[]
[]
[null,null,"C) 事業全体における普及啓発の規模（リーチ数）："]
[null,null,"規模（リーチ数）",{"$nulls":3},0,{"$nulls":3},"（人）"]
[null,null,"アンケート回収数",{"$nulls":3},0,{"$nulls":3},"（人）"]
[null,null,"測定方法\n（計算式、根拠資料等）"]
[]
[]
[]
[]
[]
[]
[null,"＜事業の実施体制＞"]
[null,"※補助事業の実施体制について、補助事業者内の事業実施・経理等の体制及び外部関係者との協力・連携の\n内容・体制を記入する（別紙添付でも可）。"]
[]
[]
[]
[]
[]
[null,"＜事業実施に関連する事項＞"]
[null,"【他の補助金との関係】"]
[null,"※他の国の補助金等への応募状況等を記入する。"]
[]
[]
[]
[]
[null,"【指定自治体事業からの予定業務】"]
[null,"※本年度指定自治体から受託あるいは交付決定を受けた又は予定している事業の概要と金額について記入する。"]
[]
[]
[]
[]
[null,"＜事業実施スケジュール＞"]
[null,"※事業の実施スケジュールを記入する。\n※実施スケジュールは別紙を添付してもよい。\n"]
[]
[]
[null,null,"注１　記入欄が少ない場合は、本様式を引き伸ばして使用する。"]
[null,null,"注２　※付のコメントは記入時に削除して提出する。"]

{"sheet":"別紙２_経費内訳","index":3,"n_rows":33,"n_cols":21,"rows_kept":33,"merged":[[1,1,1,23],[2,1,2,23],[4,1,8,3],[4,5,4,8],[4,10,4,13],[4,15,4,18],[4,20,4,23],[5,4,5,8],[5,9,5,13],[5,14,5,18],[5,19,5,23],[6,5,6,8],[6,10,6,13],[6,15,6,18],[6,20,6,23],[7,4,7,8],[7,9,7,13],[7,14,7,18],[7,19,7,23],[8,4,8,8],[8,9,8,13],[8,14,8,18],[8,19,8,23],[9,1,9,23],[10,1,10,7],[10,8,10,12],[10,13,10,23],[11,8,11,12],[11,13,11,23],[12,8,12,12],[12,13,12,23],[13,8,13,12],[13,13,13,23],[14,8,14,12],[14,13,14,23],[15,8,15,12],[15,13,15,23],[16,8,16,12],[16,13,16,23],[17,8,17,12],[17,13,17,23],[18,8,18,12],[18,13,18,23],[19,8,19,12],[19,13,19,23],[20,8,20,12],[20,13,20,23],[21,8,21,12],[21,13,21,23],[22,8,22,12],[22,13,22,23],[23,8,23,12],[23,13,23,23],[24,8,24,12],[24,13,24,23],[25,8,25,12],[25,13,25,23],[26,8,26,12],[26,13,26,23],[27,8,27,12],[27,13,27,23],[28,8,28,12],[28,13,28,23],[29,8,29,12],[29,13,29,23],[30,8,30,12],[30,13,30,23],[31,1,31,7],[31,8,31,12],[31,13,31,23],[32,1,32,23]]}
[]
[null,"別紙２"]
[null,"地域における地球温暖化防止活動促進事業に要する経費内訳"]
[]
[null,"所要経費",null,null,"(1)","総事業費",{"$nulls":3},"(2)","寄付金その他の収入",{"$nulls":3},"(3)","差引額\n(1)－(2)",{"$nulls":3},"(4)","補助対象経費支出予定額"]
[{"$nulls":4},{"v":0,"d":"0円"},{"$nulls":4},{"v":0,"d":"0円"},{"$nulls":4},{"$f":"E6-J6","v":{"v":0,"d":"0円"}},{"$nulls":4},{"v":0,"d":"0円"}]
[{"$nulls":4},"(5)","基準額",{"$nulls":3},"(6)","選定額",{"$nulls":3},"(7)","補助基本額",{"$nulls":3},"(8)","補助金所要額"]
[{"$nulls":9},"(4)と(5)を比較して少ない方の額",{"$nulls":4},"(3)と(6)を比較して少ない方の額",{"$nulls":4},"(7)の額\n(千円未満切捨)"]
[{"$nulls":4},{"v":0,"d":"0円"},{"$nulls":4},{"$f":"IF(T6>E9,E9,T6)","v":{"v":0,"d":"0円"}},{"$nulls":4},{"$f":"IF(O6>J9,J9,O6)","v":{"v":0,"d":"0円"}},{"$nulls":4},{"$f":"ROUNDDOWN(O9,--3)","v":{"v":0,"d":"0円"}}]
[null,"補助対象経費支出予定額内訳"]
[null,"経費区分・費目",{"$nulls":6},"金　　額",{"$nulls":4},"積　　算　　内　　訳"]
[null,"（記載例）"]
[null,"人件費",{"$nulls":6},{"v":0,"d":"0円"}]
[]
[null,"業務費"]
[null,null,"・賃金",{"$nulls":5},{"v":0,"d":"0円"}]
[null,null,"・諸謝金",{"$nulls":5},{"v":0,"d":"0円"}]
[null,null,"・旅費",{"$nulls":5},{"v":0,"d":"0円"}]
{"$rows_empty":13}
[null,"合　　計",{"$nulls":6},{"$f":"SUM(I12:I31)","v":{"v":0,"d":"0円"}}]
[null,"注　本内訳に、見積書又は計算書等を添付する。"]

{"sheet":"様式第１０_完了実績報告書","index":4,"n_rows":47,"n_cols":23,"rows_kept":47,"merged":[[1,2,1,22],[3,16,3,21],[4,16,4,17],[6,2,6,11],[7,2,7,11],[10,8,10,11],[10,13,11,19],[12,8,12,11],[12,13,12,19],[13,8,13,11],[13,13,13,15],[13,17,13,19],[15,2,15,22],[16,2,16,22],[17,2,17,22],[19,2,19,22],[21,2,21,22],[23,2,23,22],[25,5,25,9],[25,12,25,13],[25,19,25,21],[26,12,26,16],[28,2,28,22],[30,2,30,22],[32,2,32,22],[34,2,34,22],[36,2,36,22],[38,4,38,5],[38,14,38,15],[40,2,40,22],[42,3,42,4],[43,3,43,4],[44,3,44,4],[46,3,47,22]]}
[]
[null,null,"様式第１０（第１１条関係）"]
[]
[{"$nulls":22},"号"]
[{"$nulls":18},"年",null,"月",null,"日"]
[]
[null,null,"一般社団法人地球温暖化防止全国ネット"]
[null,null,"　理事長　殿"]
[]
[]
[null,null,"　　　　　　　　　　　          　申請者　住　　　　所",{"$nulls":4},"補助事業者","住所",{"$nulls":4},{"$f":"様式第１_交付申請書!N11","v":0}]
[]
[{"$nulls":8},"氏名又は名称",{"$nulls":4},{"$f":"様式第１_交付申請書!N13","v":0}]
[{"$nulls":8},"代表者の職・氏名",{"$nulls":4},{"$f":"様式第１_交付申請書!N14","v":0},null,null,"・",{"$f":"様式第１_交付申請書!R14","v":0},{"$nulls":3},"印"]
[]
[null,null,"２０１９年度（平成３１年度）二酸化炭素排出抑制対策事業費等補助金"]
[null,null,"（地域における地球温暖化防止活動促進事業）"]
[null,null,"完了実績報告書"]
[]
[null,null,"　○○　　年　　月　　日付け　　　　第         号で交付決定の通知を受けた二酸化炭素排出抑制対策事業費等補助金（地域における地球温暖化防止活動促進事業）を完了（中止・廃止）しましたので、２０１９年度（平成３１年度）二酸化炭素排出抑制対策事業費等補助金（地域における地球温暖化防止活動促進事業）交付規程（以下「交付規程」という。）第１１条第１項の規定に基づき下記のとおり報告します。"]
[]
[null,null,"記"]
[]
[null,null,"１　補助金の交付決定額及び交付決定年月日"]
[]
[{"$nulls":4},"金　　　　　　　　　　　",{"$nulls":5},"円","(",null,null,"年",null,"月",null,"日","番号",null,null,"）"]
[null,null,"　　（うち消費税及び地方消費税相当額  　　　　　　　　",{"$nulls":14},"円）"]
[]
[null,null,"２　補助事業の実施状況"]
[]
[null,null,"      　別紙１　実施報告書のとおり"]
[]
[null,null,"３　補助金の経費収支実績"]
[]
[null,null,"      　別紙２　経費所要額精算調書のとおり"]
[]
[null,null,"４　補助事業の実施期間"]
[]
[{"$nulls":6},"年",null,"月",null,"日",null,"～",null,{"$f":"様式第１_交付申請書!K37","v":0},null,"年",{"$f":"様式第１_交付申請書!N37","v":0},"月",{"$f":"様式第１_交付申請書!P37","v":0},"日"]
[]
[null,null,"５　添付資料"]
[]
[{"$nulls":3},"（１）",null,"完成図書（各種手続等に係る書面の写しを含む。）"]
[{"$nulls":3},"（２）",null,"写真（工程等が分かるもの）"]
[{"$nulls":3},"（３）",null,"その他参考資料（領収書等含む。）"]
[]
[null,null,"注","交付規程第３条第３項の規定に基づき共同で交付申請した場合は、代表事業者が報告すること。"]

{"sheet":"別紙１_実施報告書","index":5,"n_rows":769,"n_cols":55,"rows_kept":769,"merged":[[2,2,2,24],[4,1,4,2],[4,3,4,28],[5,1,5,2],[5,3,5,28],[6,1,6,2],[6,3,6,28],[7,1,18,2],[7,3,7,28],[8,4,8,18],[8,19,8,28],[9,4,9,8],[9,10,9,18],[9,19,9,21],[9,22,9,28],[10,4,10,8],[10,9,10,18],[10,19,11,28],[11,4,11,8],[11,9,11,18],[12,3,12,28],[13,4,13,18],[13,19,13,28],[14,4,14,8],[14,9,14,18],[15,4,15,8],[15,9,15,18],[16,4,16,8],[16,9,16,18],[19,1,19,28],[22,43,23,43],[22,44,23,44],[22,45,23,45],[32,1,32,28],[33,1,33,28],[34,1,34,28],[35,1,35,28],[36,2,36,3],[36,4,36,27],[37,4,37,27],[38,2,41,3],[38,4,38,27],[39,4,39,5],[39,6,39,7],[39,8,39,9],[39,10,39,11],[39,12,39,13],[39,14,39,15],[39,16,39,17],[39,18,39,19],[39,20,39,21],[39,22,39,23],[39,24,39,25],[39,26,39,27],[40,4,40,5],[40,6,40,7],[40,10,40,11],[40,12,40,13],[40,14,40,15],[40,16,40,17],[40,18,40,19],[40,20,40,21],[40,22,40,23],[40,24,40,25],[40,26,40,27],[41,4,41,5],[41,6,41,7],[41,8,41,9],[41,10,41,11],[41,12,41,13],[41,14,41,15],[41,16,41,17],[41,18,41,19],[41,20,41,21],[41,22,41,23],[41,24,41,25],[41,26,41,27],[42,2,45,3],[42,4,42,27],[43,4,43,11],[43,12,43,19],[44,4,44,11],[44,12,44,19],[45,4,45,11],[45,12,45,19],[45,20,45,27],[47,2,47,3],[48,2,52,3],[48,4,48,5],[48,16,48,17],[49,4,49,5],[49,6,49,15],[49,16,49,17],[50,4,50,5],[50,6,50,15],[50,16,50,17],[51,4,51,5],[51,6,51,15],[51,16,51,17],[52,4,52,5],[52,16,52,17],[53,2,53,3],[54,2,54,3],[55,2,56,3],[59,2,66,3],[59,4,59,14],[60,4,60,7],[60,8,60,9],[60,10,60,12],[61,4,61,7],[61,8,61,9],[61,10,61,12],[62,4,62,7],[63,4,63,14],[64,4,64,7],[64,8,64,9],[64,10,64,12],[65,4,65,7],[65,8,65,9],[65,10,65,12],[66,4,66,7],[69,2,70,3],[69,4,69,7],[69,10,69,13],[69,17,69,20],[70,4,70,7],[70,10,70,13],[83,4,83,5],[83,6,83,7],[83,8,83,9],[83,10,83,11],[83,12,83,13],[83,14,83,15],[83,16,83,17],[83,18,83,19],[83,20,83,21],[83,22,83,23],[84,22,84,23],[84,24,84,25],[85,2,88,3],[86,20,86,27],[89,2,89,3],[89,14,89,17],[90,2,90,3],[91,2,95,3],[91,16,91,17],[92,16,92,17],[93,4,93,5],[93,16,93,17],[94,4,94,5],[94,16,94,17],[95,4,95,5],[95,16,95,17],[96,2,96,3],[97,2,97,3],[98,2,99,3],[100,2,101,2],[102,2,109,3],[102,4,102,14],[103,4,103,7],[109,4,109,7],[110,2,111,3],[110,4,110,7],[111,4,111,7],[112,2,113,3],[112,4,112,7],[112,10,112,13],[112,17,112,20],[113,4,113,7],[113,10,113,13],[113,17,113,20],[121,2,121,25],[122,2,122,3],[124,2,127,3],[125,4,125,5],[125,6,125,7],[125,8,125,9],[125,10,125,11],[125,12,125,13],[125,14,125,15],[125,16,125,17],[125,18,125,19],[125,20,125,21],[125,22,125,23],[125,24,125,25],[126,4,126,5],[126,6,126,7],[126,8,126,9],[126,10,126,11],[126,12,126,13],[126,14,126,15],[126,16,126,17],[126,18,126,19],[126,20,126,21],[126,22,126,23],[126,24,126,25],[127,4,127,5],[127,6,127,7],[127,8,127,9],[127,10,127,11],[127,12,127,13],[127,14,127,15],[127,16,127,17],[127,18,127,19],[127,20,127,21],[127,22,127,23],[127,24,127,25],[128,2,131,3],[129,20,129,27],[130,20,130,27],[131,4,131,10],[131,12,131,18],[131,20,131,27],[145,15,145,27],[148,8,148,27],[149,15,149,27],[152,4,152,7],[152,8,152,27],[153,2,154,3],[153,4,153,7],[153,8,153,27],[154,4,154,7],[154,8,154,27],[155,2,156,3],[155,4,155,7],[155,10,155,13],[155,17,155,20],[156,4,156,7],[156,10,156,13],[156,17,156,20],[157,2,163,3],[158,4,158,20],[159,4,159,7],[159,8,159,11],[159,12,159,15],[159,16,159,20],[160,4,160,7],[160,8,160,11],[160,12,160,15],[160,16,160,20],[162,4,162,7],[162,9,162,11],[163,4,163,7],[163,9,163,11],[165,2,165,3],[165,4,165,27],[166,4,166,27],[167,2,170,3],[167,4,167,27],[168,12,168,13],[168,14,168,15],[168,16,168,17],[168,18,168,19],[168,20,168,21],[168,22,168,23],[168,24,168,25],[168,26,168,27],[169,4,169,5],[169,6,169,7],[169,8,169,9],[169,10,169,11],[169,12,169,13],[169,14,169,15],[169,16,169,17],[169,18,169,19],[169,20,169,21],[169,24,169,25],[169,26,169,27],[170,14,170,15],[170,16,170,17],[170,18,170,19],[170,20,170,21],[170,22,170,23],[170,24,170,25],[170,26,170,27],[171,2,174,3],[173,4,173,11],[173,12,173,19],[173,20,173,27],[174,20,174,27],[175,2,175,3],[175,14,175,17],[176,2,176,3],[176,4,176,27],[177,2,181,3],[177,4,177,5],[177,16,177,17],[178,4,178,5],[178,16,178,17],[179,4,179,5],[179,16,179,17],[180,4,180,5],[180,16,180,17],[181,4,181,5],[181,16,181,17],[182,2,182,3],[183,2,183,3],[184,2,185,3],[186,2,187,2],[188,2,195,3],[188,4,188,14],[189,4,189,7],[189,8,189,9],[189,10,189,12],[190,4,190,7],[190,8,190,9],[192,4,192,14],[193,4,193,7],[193,8,193,9],[193,10,193,12],[194,4,194,7],[194,8,194,9],[194,10,194,12],[195,4,195,7],[196,2,197,3],[196,4,196,7],[197,4,197,7],[198,2,199,3],[198,4,198,7],[198,10,198,13],[198,17,198,20],[199,4,199,7],[199,10,199,13],[199,17,199,20],[207,2,207,25],[208,2,208,3],[210,2,213,3],[211,4,211,5],[211,6,211,7],[211,8,211,9],[211,10,211,11],[211,12,211,13],[211,14,211,15],[211,16,211,17],[211,18,211,19],[211,20,211,21],[211,22,211,23],[211,24,211,25],[212,4,212,5],[212,6,212,7],[212,8,212,9],[212,10,212,11],[212,12,212,13],[212,14,212,15],[212,16,212,17],[212,18,212,19],[212,20,212,21],[212,22,212,23],[212,24,212,25],[212,26,212,27],[213,4,213,5],[213,6,213,7],[213,8,213,9],[213,10,213,11],[213,12,213,13],[213,14,213,15],[213,16,213,17],[213,18,213,19],[213,20,213,21],[213,22,213,23],[213,24,213,25],[213,26,213,27],[214,2,217,3],[214,4,214,27],[215,4,215,11],[215,12,215,19],[215,20,215,27],[216,4,216,11],[216,12,216,19],[216,20,216,27],[217,20,217,27],[218,2,218,3],[218,14,218,17],[219,2,219,3],[220,2,224,3],[220,4,220,5],[220,16,220,17],[221,4,221,5],[221,16,221,17],[222,4,222,5],[222,16,222,17],[223,4,223,5],[223,16,223,17],[224,4,224,5],[224,16,224,17],[225,2,225,3],[226,2,226,3],[227,2,228,3],[236,4,236,7],[236,8,236,9],[236,10,236,12],[237,4,237,7],[237,8,237,9],[237,10,237,12],[239,2,240,3],[239,4,239,7],[240,4,240,7],[241,2,242,3],[241,4,241,7],[241,10,241,13],[242,4,242,7],[242,10,242,13],[243,2,249,3],[244,4,244,20],[245,4,245,7],[245,8,245,11],[245,12,245,15],[245,16,245,20],[246,4,246,7],[246,8,246,11],[246,12,246,15],[246,16,246,20],[248,4,248,7],[248,9,248,11],[249,4,249,7],[249,9,249,11],[250,2,250,25],[251,2,251,3],[253,2,256,3],[254,4,254,5],[254,6,254,7],[254,8,254,9],[254,10,254,11],[256,4,256,5],[256,6,256,7],[256,8,256,9],[256,10,256,11],[256,12,256,13],[256,14,256,15],[256,16,256,17],[256,18,256,19],[257,2,260,3],[260,20,260,27],[263,2,267,3],[266,16,266,17],[267,4,267,5],[267,16,267,17],[268,2,268,3],[269,2,269,3],[270,2,271,3],[272,2,273,2],[274,2,281,3],[274,4,274,14],[275,4,275,7],[275,8,275,9],[275,10,275,12],[276,4,276,7],[276,8,276,9],[276,10,276,12],[277,4,277,7],[278,4,278,14],[279,4,279,7],[279,8,279,9],[279,10,279,12],[280,4,280,7],[280,8,280,9],[280,10,280,12],[281,4,281,7],[282,2,283,3],[282,4,282,7],[283,4,283,7],[284,2,285,3],[284,4,284,7],[284,10,284,13],[284,17,284,20],[285,4,285,7],[285,10,285,13],[285,17,285,20],[296,2,299,3],[297,4,297,5],[297,6,297,7],[297,8,297,9],[297,10,297,11],[297,12,297,13],[297,14,297,15],[297,16,297,17],[297,18,297,19],[297,20,297,21],[297,22,297,23],[297,24,297,25],[298,4,298,5],[298,6,298,7],[298,8,298,9],[298,10,298,11],[298,12,298,13],[298,14,298,15],[298,16,298,17],[298,18,298,19],[298,20,298,21],[298,22,298,23],[298,24,298,25],[299,4,299,5],[299,6,299,7],[299,8,299,9],[299,10,299,11],[299,12,299,13],[299,14,299,15],[299,16,299,17],[299,18,299,19],[299,20,299,21],[299,22,299,23],[299,24,299,25],[300,2,303,3],[300,4,300,27],[301,4,301,11],[301,12,301,19],[303,20,303,27],[305,2,305,3],[306,2,310,3],[306,4,306,5],[306,16,306,17],[307,4,307,5],[307,16,307,17],[308,4,308,5],[308,16,308,17],[309,4,309,5],[309,16,309,17],[310,4,310,5],[310,16,310,17],[315,2,316,2],[317,2,324,3],[317,4,317,14],[318,4,318,7],[318,8,318,9],[318,10,318,12],[319,4,319,7],[319,8,319,9],[319,10,319,12],[320,4,320,7],[321,4,321,14],[324,4,324,7],[325,2,326,3],[325,4,325,7],[327,10,327,13],[327,17,327,20],[328,4,328,7],[328,10,328,13],[328,17,328,20],[329,2,335,3],[330,4,330,20],[331,4,331,7],[331,8,331,11],[336,2,336,25],[337,2,337,3],[339,2,342,3],[340,4,340,5],[340,6,340,7],[340,8,340,9],[340,10,340,11],[340,12,340,13],[340,18,340,19],[341,4,341,5],[341,6,341,7],[341,8,341,9],[341,10,341,11],[341,12,341,13],[341,14,341,15],[341,16,341,17],[341,18,341,19],[342,4,342,5],[342,6,342,7],[342,8,342,9],[342,10,342,11],[342,12,342,13],[342,14,342,15],[342,16,342,17],[343,2,346,3],[347,2,347,3],[347,14,347,17],[348,2,348,3],[349,2,353,3],[349,4,349,5],[349,16,349,17],[350,4,350,5],[350,16,350,17],[351,4,351,5],[351,16,351,17],[352,4,352,5],[352,16,352,17],[353,4,353,5],[353,16,353,17],[354,2,354,3],[355,2,355,3],[356,2,357,3],[358,2,359,2],[360,2,367,3],[360,4,360,14],[361,4,361,7],[361,8,361,9],[361,10,361,12],[362,4,362,7],[362,8,362,9],[362,10,362,12],[363,4,363,7],[364,4,364,14],[365,4,365,7],[365,8,365,9],[365,10,365,12],[366,4,366,7],[366,8,366,9],[366,10,366,12],[367,4,367,7],[368,2,369,3],[368,4,368,7],[369,4,369,7],[370,2,371,3],[370,4,370,7],[370,10,370,13],[370,17,370,20],[371,4,371,7],[371,10,371,13],[371,17,371,20],[379,2,379,25],[380,2,380,3],[382,2,385,3],[383,4,383,5],[383,6,383,7],[383,8,383,9],[383,10,383,11],[383,12,383,13],[383,14,383,15],[383,16,383,17],[383,18,383,19],[383,20,383,21],[383,22,383,23],[383,24,383,25],[384,4,384,5],[384,6,384,7],[384,8,384,9],[384,10,384,11],[384,12,384,13],[384,14,384,15],[384,16,384,17],[384,18,384,19],[384,20,384,21],[384,22,384,23],[384,24,384,25],[385,4,385,5],[385,6,385,7],[385,8,385,9],[385,10,385,11],[385,12,385,13],[385,14,385,15],[385,16,385,17],[385,18,385,19],[385,20,385,21],[385,22,385,23],[385,24,385,25],[386,2,389,3],[389,20,389,27],[390,2,390,3],[390,4,390,13],[390,14,390,17],[390,18,390,27],[391,4,391,27],[392,2,396,3],[392,4,392,5],[392,6,392,15],[392,16,392,17],[392,18,392,27],[393,4,393,5],[393,16,393,17],[394,4,394,5],[394,6,394,15],[394,16,394,17],[395,4,395,5],[395,6,395,15],[395,16,395,17],[396,4,396,5],[396,6,396,15],[396,16,396,17],[401,2,402,2],[403,2,410,3],[403,4,403,14],[404,4,404,7],[404,8,404,9],[404,10,404,12],[405,4,405,7],[405,8,405,9],[405,10,405,12],[406,4,406,7],[407,4,407,14],[410,4,410,7],[411,2,412,3],[411,4,411,7],[412,4,412,7],[413,2,414,3],[413,4,413,7],[413,10,413,13],[413,17,413,20],[414,4,414,7],[414,10,414,13],[414,17,414,20],[422,2,422,25],[423,2,423,3],[425,2,428,3],[426,4,426,5],[426,6,426,7],[426,8,426,9],[426,10,426,11],[426,12,426,13],[426,14,426,15],[426,16,426,17],[426,18,426,19],[426,20,426,21],[426,22,426,23],[426,24,426,25],[427,4,427,5],[427,6,427,7],[427,8,427,9],[427,10,427,11],[427,12,427,13],[427,14,427,15],[428,14,428,15],[428,16,428,17],[428,18,428,19],[428,20,428,21],[428,22,428,23],[428,24,428,25],[429,2,432,3],[431,4,431,11],[431,12,431,19],[431,20,431,27],[433,2,433,3],[433,14,433,17],[434,2,434,3],[435,2,439,3],[435,4,435,5],[435,16,435,17],[436,4,436,5],[436,16,436,17],[437,4,437,5],[437,16,437,17],[438,4,438,5],[438,16,438,17],[439,4,439,5],[439,16,439,17],[440,2,440,3],[440,4,440,27],[441,2,441,3],[441,4,441,27],[442,2,443,3],[442,4,443,27],[444,2,445,2],[444,4,444,27],[445,4,445,27],[446,2,453,3],[446,4,446,14],[446,15,446,27],[447,4,447,7],[447,8,447,9],[447,10,447,12],[448,4,448,7],[448,8,448,9],[448,10,448,12],[449,4,449,7],[449,8,449,27],[450,4,450,14],[450,15,450,27],[451,4,451,7],[451,8,451,9],[451,10,451,12],[452,4,452,7],[452,8,452,9],[452,10,452,12],[453,4,453,7],[453,8,453,27],[454,2,455,3],[454,4,454,7],[454,8,454,27],[455,4,455,7],[455,8,455,27],[456,2,457,3],[456,4,456,7],[456,10,456,13],[456,17,456,20],[457,4,457,7],[457,10,457,13],[457,17,457,20],[458,2,464,3],[458,4,458,27],[459,4,459,20],[459,21,460,27],[460,4,460,7],[460,8,460,11],[460,12,460,15],[460,16,460,20],[461,21,461,27],[462,6,462,26],[465,2,465,25],[466,2,466,3],[466,4,466,27],[467,4,467,27],[468,2,471,3],[468,4,468,27],[471,4,471,5],[471,6,471,7],[471,8,471,9],[471,10,471,11],[471,12,471,13],[471,14,471,15],[471,16,471,17],[471,18,471,19],[471,20,471,21],[471,22,471,23],[471,24,471,25],[472,2,475,3],[472,4,472,27],[473,4,473,11],[473,12,473,19],[473,20,473,27],[476,2,476,3],[476,4,476,13],[476,14,476,17],[476,18,476,27],[477,2,477,3],[477,4,477,27],[478,2,482,3],[478,4,478,5],[478,6,478,15],[478,16,478,17],[479,4,479,5],[479,6,479,15],[479,16,479,17],[480,4,480,5],[480,16,480,17],[481,4,481,5],[481,16,481,17],[482,4,482,5],[482,16,482,17],[483,2,483,3],[484,2,484,3],[484,4,484,27],[485,2,486,3],[485,4,486,27],[487,2,488,2],[487,4,487,27],[488,4,488,27],[489,2,496,3],[489,4,489,14],[489,15,489,27],[490,4,490,7],[490,8,490,9],[490,10,490,12],[491,4,491,7],[491,8,491,9],[491,10,491,12],[492,4,492,7],[492,8,492,27],[493,4,493,14],[493,15,493,27],[494,4,494,7],[496,4,496,7],[496,8,496,27],[497,2,498,3],[497,4,497,7],[497,8,497,27],[498,4,498,7],[498,8,498,27],[499,2,500,3],[499,4,499,7],[499,10,499,13],[499,17,499,20],[500,4,500,7],[500,10,500,13],[500,17,500,20],[508,2,508,25],[509,2,509,3],[511,2,514,3],[513,4,513,5],[513,16,513,17],[513,18,513,19],[513,20,513,21],[513,22,513,23],[513,24,513,25],[514,4,514,5],[514,6,514,7],[514,8,514,9],[514,10,514,11],[514,12,514,13],[514,14,514,15],[514,16,514,17],[514,18,514,19],[514,20,514,21],[514,22,514,23],[514,24,514,25],[515,2,518,3],[515,4,515,27],[516,4,516,11],[516,12,516,19],[516,20,516,27],[517,4,517,11],[517,12,517,19],[517,20,517,27],[518,20,518,27],[524,6,524,15],[524,16,524,17],[524,18,524,27],[525,4,525,5],[525,6,525,15],[525,16,525,17],[525,18,525,27],[526,2,526,3],[526,4,526,27],[527,2,527,3],[527,4,527,27],[528,2,529,3],[528,4,529,27],[530,4,530,27],[531,4,531,27],[532,2,539,3],[532,4,532,14],[532,15,532,27],[533,4,533,7],[533,8,533,9],[533,10,533,12],[534,4,534,7],[534,8,534,9],[534,10,534,12],[535,4,535,7],[535,8,535,27],[536,4,536,14],[536,15,536,27],[537,4,537,7],[537,8,537,9],[537,10,537,12],[538,4,538,7],[538,8,538,9],[539,4,539,7],[539,8,539,27],[540,2,541,3],[540,4,540,7],[541,4,541,7],[544,2,550,3],[545,4,545,20],[546,4,546,7],[551,2,551,25],[552,2,552,3],[554,2,557,3],[555,4,555,5],[555,6,555,7],[555,8,555,9],[555,10,555,11],[555,12,555,13],[555,14,555,15],[555,16,555,17],[555,18,555,19],[555,20,555,21],[555,22,555,23],[555,24,555,25],[556,4,556,5],[556,6,556,7],[556,8,556,9],[556,10,556,11],[556,12,556,13],[556,14,556,15],[556,16,556,17],[556,18,556,19],[556,20,556,21],[556,22,556,23],[556,24,556,25],[557,4,557,5],[557,6,557,7],[557,8,557,9],[557,10,557,11],[558,2,561,3],[561,20,561,27],[562,2,562,3],[562,14,562,17],[563,2,563,3],[564,2,568,3],[564,4,564,5],[564,16,564,17],[565,4,565,5],[565,16,565,17],[566,4,566,5],[566,16,566,17],[567,4,567,5],[567,16,567,17],[568,4,568,5],[568,16,568,17],[583,2,584,3],[583,4,583,7],[584,4,584,7],[585,2,586,3],[585,4,585,7],[585,10,585,13],[585,17,585,20],[586,4,586,7],[586,10,586,13],[601,2,604,3],[626,2,627,3],[626,4,626,7],[669,2,670,3],[669,4,669,7],[670,4,670,7],[713,1,713,28],[714,1,714,28],[716,1,716,28],[731,3,731,5]],"merged_total":2190,"flags":["merged_cut"]}
[]
[null,null,"別紙１"]
[null,null,"地域における地球温暖化防止活動促進事業実施報告書"]
[]
[null,"事業名",null,{"$f":"別紙１_実施計画書!D5","v":"地域における地球温暖化防止活動促進事業"}]
[null,"事業実施の\n団体名",null,{"$f":"別紙１_実施計画書!D6","v":0}]
[null,"地域センター名",null,{"$f":"別紙１_実施計画書!D7","v":0}]
[null,"事業実施の\n担当者",null,"事業実施の代表者"]
[{"$nulls":3},"氏名","事業者名・役職名",{"$nulls":14},"所在地"]
[{"$nulls":3},{"$f":"別紙１_実施計画書!D10","v":0},{"$f":"別紙１_実施計画書!E10","v":0},{"$nulls":4},"・",{"$f":"別紙１_実施計画書!K10","v":0},{"$nulls":8},"郵便番号",null,null,{"$f":"別紙１_実施計画書!W10","v":0}]
[{"$nulls":3},"電話番号","FAX番号",{"$nulls":4},"E-mailアドレス",{"$nulls":9},{"$f":"別紙１_実施計画書!T11","v":""}]
[{"$nulls":3},{"$f":"別紙１_実施計画書!D12","v":0},{"$f":"別紙１_実施計画書!E12","v":0},{"$nulls":4},{"$f":"別紙１_実施計画書!J12","v":0}]
[{"$nulls":3},"事業実施の担当者（事業の窓口となる方）"]
[{"$nulls":3},"氏名","事業者名・役職名",{"$nulls":14},"備　　考"]
[{"$nulls":3},{"$f":"別紙１_実施計画書!D15","v":0},"事業者名",{"$nulls":4},{"$f":"別紙１_実施計画書!J15:S15","v":0}]
[{"$nulls":4},"部署名",{"$nulls":4},{"$f":"別紙１_実施計画書!J16:S16","v":0}]
[{"$nulls":4},"役職名",{"$nulls":4},{"$f":"別紙１_実施計画書!J17:S17","v":0}]
[{"$nulls":3},"電話番号","FAX番号",{"$nulls":4},"E-mailアドレス"]
[{"$nulls":3},{"$f":"別紙１_実施計画書!D19","v":0},{"$f":"別紙１_実施計画書!E19","v":0},{"$nulls":4},{"$f":"別紙１_実施計画書!J19","v":0}]
[null,"＜事業の目的＞"]
[null,{"$f":"別紙１_実施計画書!B21","v":0},{"$nulls":28},"＜全体＞"]
[]
[{"$nulls":30},"①","②","③","④","⑤","⑥","⑦","⑧","⑨","⑩","⑪","⑫",null,"a)","b)","c)"]
[{"$nulls":30},"省ｴﾈ機器","省ｴﾈ住宅","ｴｺｶｰ","ｸｰﾙﾋﾞｽﾞ","ｳｫｰﾑﾋﾞｽﾞ","照明の\n高効率利用","ｴｺﾄﾞﾗｲﾌﾞ","ｶｰｼｪｱ","公共交通\n機関の利用","再配達防止","シェアエコ","地球温暖化"]
[{"$nulls":30},{"$f":"COUNTIFS(AE$40:AE$648,1)+COUNTIFS(AE$40:AE$648,TRUE)","v":0},0,0,0,0,0,0,0,0,0,{"$f":"COUNTIFS(AO$40:AO$648,1)+COUNTIFS(AO$40:AO$648,TRUE)","v":0},{"$f":"COUNTIFS(AP$40:AP$648,1)+COUNTIFS(AP$40:AP$648,\"TRUE\")","v":0},null,{"$f":"COUNTIFS(AR$40:AR$648,1)+COUNTIFS(AR$40:AR$648,TRUE)","v":0},{"$f":"COUNTIFS(AS$40:AS$648,1)+COUNTIFS(AS$40:AS$648,TRUE)","v":0},{"$f":"COUNTIFS(AT$40:AT$648,1)+COUNTIFS(AT$40:AT$648,TRUE)","v":0}]
{"$rows_empty":7}
[null,"＜実施した事業の概要＞"]
[]
[null,"① 【地球温暖化対策等（COOL CHOICE含む）についての広報・啓発活動】（第38条第2項第1号前段）"]
[]
[null,null,"項目",null,"内容"]
[null,null,"事業1","事業名",{"$f":"OFFSET(【実施期間中】個別事業におけるPDCAシート!$A$6,,MATCH(C38,【実施期間中】個別事業におけるPDCAシート!$H$4:$V$4,0)+6)","v":0},{"$nulls":25},{"$f":"【実施期間中】個別事業におけるPDCAシート!H$6","v":0}]
[null,null,"普及啓発テーマ",null,"※該当する普及啓発テーマすべてをチェックしてください。"]
[{"$nulls":4},"①",null,"②",null,"③",null,"④",null,"⑤",null,"⑥",null,"⑦",null,"⑧",null,"⑨",null,"⑩",null,"⑪",null,"⑫",{"$nulls":3},"①","②","③","④","⑤","⑥","⑦","⑧","⑨","⑩","⑪","⑫"]
[{"$nulls":4},"省ｴﾈ機器",null,"省ｴﾈ住宅",null,"ｴｺｶｰ",null,"ｸｰﾙﾋﾞｽﾞ",null,"ｳｫｰﾑﾋﾞｽﾞ",null,"照明の\n高効率利用",null,"ｴｺﾄﾞﾗｲﾌﾞ",null,"ｶｰｼｪｱ",null,"公共交通\n機関の利用",null,"再配達防止",null,"シェアエコ",null,"地球温暖化",{"$nulls":3},"省ｴﾈ機器","省ｴﾈ住宅","ｴｺｶｰ","ｸｰﾙﾋﾞｽﾞ","ｳｫｰﾑﾋﾞｽﾞ","照明の\n高効率利用","ｴｺﾄﾞﾗｲﾌﾞ","ｶｰｼｪｱ","公共交通\n機関の利用","再配達防止","シェアエコ","地球温暖化"]
[{"$nulls":30},{"$f":"IF(COUNTIFS(【実施期間中】個別事業におけるPDCAシート!$E$7:$E$17,別紙１_実施報告書!AE40,OFFSET(【実施期間中】個別事業におけるPDCAシート!$F$7,,MATCH(別紙１_実施報告書!$C38,【実施期間中】個別事業におけるPDCAシート!$H$4:$V$4,0)+1,11,1),1),1,0)","v":0},{"$f":"IF(COUNTIFS(【実施期間中】個別事業におけるPDCAシート!$E$7:$E$17,別紙１_実施報告書!AF40,OFFSET(【実施期間中】個別事業におけるPDCAシート!$F$7,,MATCH(別紙１_実施報告書!$C38,【実施期間中】個別事業におけるPDCAシート!$H$4:$V$4,0)+1,11,1),1),1,0)","v":0},{"$f":"IF(COUNTIFS(【実施期間中】個別事業におけるPDCAシート!$E$7:$E$17,別紙１_実施報告書!AG40,OFFSET(【実施期間中】個別事業におけるPDCAシート!$F$7,,MATCH(別紙１_実施報告書!$C38,【実施期間中】個別事業におけるPDCAシート!$H$4:$V$4,0)+1,11,1),1),1,0)","v":0},{"$f":"IF(COUNTIFS(【実施期間中】個別事業におけるPDCAシート!$E$7:$E$17,別紙１_実施報告書!AH40,OFFSET(【実施期間中】個別事業におけるPDCAシート!$F$7,,MATCH(別紙１_実施報告書!$C38,【実施期間中】個別事業におけるPDCAシート!$H$4:$V$4,0)+1,11,1),1),1,0)","v":0},{"$f":"IF(COUNTIFS(【実施期間中】個別事業におけるPDCAシート!$E$7:$E$17,別紙１_実施報告書!AI40,OFFSET(【実施期間中】個別事業におけるPDCAシート!$F$7,,MATCH(別紙１_実施報告書!$C38,【実施期間中】個別事業におけるPDCAシート!$H$4:$V$4,0)+1,11,1),1),1,0)","v":0},{"$f":"IF(COUNTIFS(【実施期間中】個別事業におけるPDCAシート!$E$7:$E$17,別紙１_実施報告書!AJ40,OFFSET(【実施期間中】個別事業におけるPDCAシート!$F$7,,MATCH(別紙１_実施報告書!$C38,【実施期間中】個別事業におけるPDCAシート!$H$4:$V$4,0)+1,11,1),1),1,0)","v":0},{"$f":"IF(COUNTIFS(【実施期間中】個別事業におけるPDCAシート!$E$7:$E$17,別紙１_実施報告書!AK40,OFFSET(【実施期間中】個別事業におけるPDCAシート!$F$7,,MATCH(別紙１_実施報告書!$C38,【実施期間中】個別事業におけるPDCAシート!$H$4:$V$4,0)+1,11,1),1),1,0)","v":0},{"$f":"IF(COUNTIFS(【実施期間中】個別事業におけるPDCAシート!$E$7:$E$17,別紙１_実施報告書!AL40,OFFSET(【実施期間中】個別事業におけるPDCAシート!$F$7,,MATCH(別紙１_実施報告書!$C38,【実施期間中】個別事業におけるPDCAシート!$H$4:$V$4,0)+1,11,1),1),1,0)","v":0},{"$f":"IF(COUNTIFS(【実施期間中】個別事業におけるPDCAシート!$E$7:$E$17,別紙１_実施報告書!AM40,OFFSET(【実施期間中】個別事業におけるPDCAシート!$F$7,,MATCH(別紙１_実施報告書!$C38,【実施期間中】個別事業におけるPDCAシート!$H$4:$V$4,0)+1,11,1),1),1,0)","v":0},{"$f":"IF(COUNTIFS(【実施期間中】個別事業におけるPDCAシート!$E$7:$E$17,別紙１_実施報告書!AN40,OFFSET(【実施期間中】個別事業におけるPDCAシート!$F$7,,MATCH(別紙１_実施報告書!$C38,【実施期間中】個別事業におけるPDCAシート!$H$4:$V$4,0)+1,11,1),1),1,0)","v":0},{"$f":"IF(COUNTIFS(【実施期間中】個別事業におけるPDCAシート!$E$7:$E$17,別紙１_実施報告書!AO40,OFFSET(【実施期間中】個別事業におけるPDCAシート!$F$7,,MATCH(別紙１_実施報告書!$C38,【実施期間中】個別事業におけるPDCAシート!$H$4:$V$4,0)+1,11,1),1),1,0)","v":0},{"$f":"IF(COUNTIFS(【実施期間中】個別事業におけるPDCAシート!$E$7:$E$18,別紙１_実施報告書!AP40,OFFSET(【実施期間中】個別事業におけるPDCAシート!$F$7,,MATCH(別紙１_実施報告書!$C38,【実施期間中】個別事業におけるPDCAシート!$H$4:$V$4,0)+1,12,1),1),1,0)","v":0},{"$f":"COUNTIFS(AE42:AP42,1)+COUNTIFS(AE42:AP42,\"TRUE\")","v":0}]
[null,null,"訴求手法",null,"※訴求手法については、該当する欄にチェックしてください。"]
[{"$nulls":4},"a) 情報発信型（受動型）",{"$nulls":7},"b) 情報発信型（能動型）",{"$nulls":7},"c) 双方向体験交流型"]
[{"$nulls":4},"ラジオ、新聞・広報紙等",{"$nulls":7},"講演会・パネル展示等",{"$nulls":7},"試乗・体験会、省ｴﾈ診断等",{"$nulls":22},"a)","b)","c)"]
[{"$nulls":43},{"$f":"IF(COUNTIFS(【実施期間中】個別事業におけるPDCAシート!$E$19:$E$21,別紙１_実施報告書!AR45,OFFSET(【実施期間中】個別事業におけるPDCAシート!$F$19,,MATCH(別紙１_実施報告書!$C38,【実施期間中】個別事業におけるPDCAシート!$H$4:$V$4,0)+1,3,1),1),1,0)","v":0},{"$f":"IF(COUNTIFS(【実施期間中】個別事業におけるPDCAシート!$E$19:$E$21,別紙１_実施報告書!AS45,OFFSET(【実施期間中】個別事業におけるPDCAシート!$F$19,,MATCH(別紙１_実施報告書!$C38,【実施期間中】個別事業におけるPDCAシート!$H$4:$V$4,0)+1,3,1),1),1,0)","v":0},{"$f":"IF(COUNTIFS(【実施期間中】個別事業におけるPDCAシート!$E$19:$E$21,別紙１_実施報告書!AT45,OFFSET(【実施期間中】個別事業におけるPDCAシート!$F$19,,MATCH(別紙１_実施報告書!$C38,【実施期間中】個別事業におけるPDCAシート!$H$4:$V$4,0)+1,3,1),1),1,0)","v":0},{"$nulls":8},{"$f":"COUNTIFS(AR46:BB46,1)","v":0}]
[null,null,"実施期間",null,{"$f":"OFFSET(【実施期間中】個別事業におけるPDCAシート!$A$6,【実施期間中】個別事業におけるPDCAシート!$A$22,MATCH($C38,【実施期間中】個別事業におけるPDCAシート!$H$4:$V$4,0)+6)","v":""},{"$nulls":9},"～",{"$nulls":3},{"$f":"OFFSET(【実施期間中】個別事業におけるPDCAシート!$A$6,【実施期間中】個別事業におけるPDCAシート!$A$24,MATCH($C38,【実施期間中】個別事業におけるPDCAシート!$H$4:$V$4,0)+6)","v":""}]
[null,null,"（備考）",null,{"$f":"OFFSET(【実施期間中】個別事業におけるPDCAシート!$A$6,【実施期間中】個別事業におけるPDCAシート!$A$25,MATCH($C38,【実施期間中】個別事業におけるPDCAシート!$H$4:$V$4,0)+6)","v":""}]
[null,null,"実施日\n（※同一事業内で、\n同一の内容・場所において\n複数日実施する場合）",null,1,null,{"$f":"OFFSET(【実施期間中】個別事業におけるPDCAシート!$A$6,【実施期間中】個別事業におけるPDCAシート!$A$26,MATCH($C38,【実施期間中】個別事業におけるPDCAシート!$H$4:$V$4,0)+6)","v":""},{"$nulls":9},6,null,{"$f":"OFFSET(【実施期間中】個別事業におけるPDCAシート!$A$6,【実施期間中】個別事業におけるPDCAシート!$A$31,MATCH($C38,【実施期間中】個別事業におけるPDCAシート!$H$4:$V$4,0)+6)","v":""}]
[{"$nulls":4},2,null,{"$f":"OFFSET(【実施期間中】個別事業におけるPDCAシート!$A$6,【実施期間中】個別事業におけるPDCAシート!$A$27,MATCH($C38,【実施期間中】個別事業におけるPDCAシート!$H$4:$V$4,0)+6)","v":""},{"$nulls":9},7,null,{"$f":"OFFSET(【実施期間中】個別事業におけるPDCAシート!$A$6,【実施期間中】個別事業におけるPDCAシート!$A$32,MATCH($C38,【実施期間中】個別事業におけるPDCAシート!$H$4:$V$4,0)+6)","v":""}]
[{"$nulls":4},3,null,{"$f":"OFFSET(【実施期間中】個別事業におけるPDCAシート!$A$6,【実施期間中】個別事業におけるPDCAシート!$A$28,MATCH($C38,【実施期間中】個別事業におけるPDCAシート!$H$4:$V$4,0)+6)","v":""},{"$nulls":9},8,null,{"$f":"OFFSET(【実施期間中】個別事業におけるPDCAシート!$A$6,【実施期間中】個別事業におけるPDCAシート!$A$33,MATCH($C38,【実施期間中】個別事業におけるPDCAシート!$H$4:$V$4,0)+6)","v":""}]
[{"$nulls":4},4,null,{"$f":"OFFSET(【実施期間中】個別事業におけるPDCAシート!$A$6,【実施期間中】個別事業におけるPDCAシート!$A$29,MATCH($C38,【実施期間中】個別事業におけるPDCAシート!$H$4:$V$4,0)+6)","v":""},{"$nulls":9},9,null,{"$f":"OFFSET(【実施期間中】個別事業におけるPDCAシート!$A$6,【実施期間中】個別事業におけるPDCAシート!$A$34,MATCH($C38,【実施期間中】個別事業におけるPDCAシート!$H$4:$V$4,0)+6)","v":""}]
[{"$nulls":4},5,null,{"$f":"OFFSET(【実施期間中】個別事業におけるPDCAシート!$A$6,【実施期間中】個別事業におけるPDCAシート!$A$30,MATCH($C38,【実施期間中】個別事業におけるPDCAシート!$H$4:$V$4,0)+6)","v":""},{"$nulls":9},10,null,{"$f":"OFFSET(【実施期間中】個別事業におけるPDCAシート!$A$6,【実施期間中】個別事業におけるPDCAシート!$A$35,MATCH($C38,【実施期間中】個別事業におけるPDCAシート!$H$4:$V$4,0)+6)","v":""}]
[null,null,"事業の概要",null,{"$f":"OFFSET(【実施期間中】個別事業におけるPDCAシート!$A$6,【実施期間中】個別事業におけるPDCAシート!$A$36,MATCH($C38,【実施期間中】個別事業におけるPDCAシート!$H$4:$V$4,0)+6)","v":""}]
[null,null,"指定自治体等との連携",null,{"$f":"別紙１_実施計画書!E55","v":0}]
[null,null,"実施結果",null,{"$f":"OFFSET(【実施期間中】個別事業におけるPDCAシート!$A$6,【実施期間中】個別事業におけるPDCAシート!$A$38,MATCH($C38,【実施期間中】個別事業におけるPDCAシート!$H$4:$V$4,0)+6)","v":0}]
[]
[null,null,"主な訴求対象","計画",{"$f":"OFFSET(【実施期間中】個別事業におけるPDCAシート!$A$6,【実施期間中】個別事業におけるPDCAシート!$A$39,MATCH($C38,【実施期間中】個別事業におけるPDCAシート!$H$4:$V$4,0)+6)","v":""}]
[{"$nulls":3},"結果",{"$f":"OFFSET(【実施期間中】個別事業におけるPDCAシート!$A$6,【実施期間中】個別事業におけるPDCAシート!$A$40,MATCH($C38,【実施期間中】個別事業におけるPDCAシート!$H$4:$V$4,0)+6)","v":0}]
[null,null,"目標アウトプット\n（リーチ数）\n（想定及び実績）",null,"カテゴリ①（プルダウン選択）⇒",{"$nulls":10},{"$f":"OFFSET(【実施期間中】個別事業におけるPDCAシート!$A$6,【実施期間中】個別事業におけるPDCAシート!$A$41,MATCH($C38,【実施期間中】個別事業におけるPDCAシート!$H$4:$V$4,0)+6)","v":""}]
[{"$nulls":4},"計画値",{"$nulls":3},"計",null,{"$f":"別紙１_実施計画書!K61","v":{"v":0,"d":"0名"}}]
[{"$nulls":4},"実績値",{"$nulls":3},"計",null,{"$f":"OFFSET(【実施期間中】個別事業におけるPDCAシート!$A$6,【実施期間中】個別事業におけるPDCAシート!$A$44,MATCH($C38,【実施期間中】個別事業におけるPDCAシート!$H$4:$V$4,0)+6)","v":{"v":0,"d":"0名"}}]
[{"$nulls":4},"算出根拠",{"$nulls":3},{"$f":"OFFSET(【実施期間中】個別事業におけるPDCAシート!$A$6,【実施期間中】個別事業におけるPDCAシート!$A$45,MATCH($C38,【実施期間中】個別事業におけるPDCAシート!$H$4:$V$4,0)+6)","v":""}]
[{"$nulls":4},"カテゴリ②（プルダウン選択）⇒",{"$nulls":10},{"$f":"OFFSET(【実施期間中】個別事業におけるPDCAシート!$A$6,【実施期間中】個別事業におけるPDCAシート!$A$46,MATCH($C38,【実施期間中】個別事業におけるPDCAシート!$H$4:$V$4,0)+6)","v":"　"}]
[{"$nulls":4},"計画値",{"$nulls":3},"計",null,{"$f":"別紙１_実施計画書!K65","v":{"v":0,"d":"0名"}}]
[{"$nulls":4},"実績値",{"$nulls":3},"計",null,{"$f":"OFFSET(【実施期間中】個別事業におけるPDCAシート!$A$6,【実施期間中】個別事業におけるPDCAシート!$A$49,MATCH($C38,【実施期間中】個別事業におけるPDCAシート!$H$4:$V$4,0)+6)","v":{"v":0,"d":"0名"}}]
[{"$nulls":4},"算出根拠",{"$nulls":3},{"$f":"OFFSET(【実施期間中】個別事業におけるPDCAシート!$A$6,【実施期間中】個別事業におけるPDCAシート!$A$50,MATCH($C38,【実施期間中】個別事業におけるPDCAシート!$H$4:$V$4,0)+6)","v":""}]
[null,null,"目標アウトカム\n（想定及び実績）",null,"計画",{"$nulls":3},{"$f":"OFFSET(【実施期間中】個別事業におけるPDCAシート!$A$6,【実施期間中】個別事業におけるPDCAシート!$A$51,MATCH($C38,【実施期間中】個別事業におけるPDCAシート!$H$4:$V$4,0)+6)","v":""}]
[{"$nulls":4},"実績"]
[null,null,"賛同数（想定及び実績）",null,"計画値",{"$nulls":3},"団体",null,{"$f":"OFFSET(【実施期間中】個別事業におけるPDCAシート!$A$6,【実施期間中】個別事業におけるPDCAシート!$A$54,MATCH($C38,【実施期間中】個別事業におけるPDCAシート!$H$4:$V$4,0)+6)","v":{"v":0,"d":"0団体"}},{"$nulls":4},"、個人",null,{"$f":"OFFSET(【実施期間中】個別事業におけるPDCAシート!$A$6,【実施期間中】個別事業におけるPDCAシート!$A$57,MATCH($C38,【実施期間中】個別事業におけるPDCAシート!$H$4:$V$4,0)+6)","v":{"v":0,"d":"0名"}}]
[{"$nulls":4},"実績値",{"$nulls":3},"団体",null,{"$f":"OFFSET(【実施期間中】個別事業におけるPDCAシート!$A$6,【実施期間中】個別事業におけるPDCAシート!$A$55,MATCH($C38,【実施期間中】個別事業におけるPDCAシート!$H$4:$V$4,0)+6)","v":{"v":0,"d":"0団体"}},{"$nulls":4},"、個人",null,{"$f":"OFFSET(【実施期間中】個別事業におけるPDCAシート!$A$6,【実施期間中】個別事業におけるPDCAシート!$A$58,MATCH($C38,【実施期間中】個別事業におけるPDCAシート!$H$4:$V$4,0)+6)","v":{"v":0,"d":"0名"}}]
[null,null,"効果検証\n（アンケート）予定",null,"※アンケートの実施予定をプルダウンより選択してください。"]
[{"$nulls":4},"公募要領に規定のアンケート",{"$nulls":16},"貴事業者独自のアンケート"]
[{"$nulls":4},"省エネ機器",{"$nulls":3},"省エネ住宅",{"$nulls":3},"エコドライブ",{"$nulls":3},"低炭素物流（宅配便の再配達防止）"]
[{"$nulls":4},{"$f":"OFFSET(【実施期間中】個別事業におけるPDCAシート!$A$6,【実施期間中】個別事業におけるPDCAシート!$A$59,MATCH($C38,【実施期間中】個別事業におけるPDCAシート!$H$4:$V$4,0)+6)","v":"- 選択 -"},{"$nulls":3},{"$f":"OFFSET(【実施期間中】個別事業におけるPDCAシート!$A$6,【実施期間中】個別事業におけるPDCAシート!$A$60,MATCH($C38,【実施期間中】個別事業におけるPDCAシート!$H$4:$V$4,0)+6)","v":"- 選択 -"},{"$nulls":3},{"$f":"OFFSET(【実施期間中】個別事業におけるPDCAシート!$A$6,【実施期間中】個別事業におけるPDCAシート!$A$61,MATCH($C38,【実施期間中】個別事業におけるPDCAシート!$H$4:$V$4,0)+6)","v":"- 選択 -"},{"$nulls":3},{"$f":"OFFSET(【実施期間中】個別事業におけるPDCAシート!$A$6,【実施期間中】個別事業におけるPDCAシート!$A$62,MATCH($C38,【実施期間中】個別事業におけるPDCAシート!$H$4:$V$4,0)+6)","v":"- 選択 -"},{"$nulls":4},{"$f":"OFFSET(【実施期間中】個別事業におけるPDCAシート!$A$6,【実施期間中】個別事業におけるPDCAシート!$A$63,MATCH($C38,【実施期間中】個別事業におけるPDCAシート!$H$4:$V$4,0)+6)","v":"- 選択 -"}]
[{"$nulls":4},"内容（",null,{"$f":"OFFSET(【実施期間中】個別事業におけるPDCAシート!$A$6,【実施期間中】個別事業におけるPDCAシート!$A$64,MATCH($C38,【実施期間中】個別事業におけるPDCAシート!$H$4:$V$4,0)+6)","v":""},{"$nulls":20},"）"]
[{"$nulls":4},"目標回収数",{"$nulls":3},"計",{"$f":"OFFSET(【実施期間中】個別事業におけるPDCAシート!$A$6,【実施期間中】個別事業におけるPDCAシート!$A$66,MATCH($C38,【実施期間中】個別事業におけるPDCAシート!$H$4:$V$4,0)+6)","v":0},null,null,"枚",null,"※複数ある場合は、平均アンケート回収数"]
[{"$nulls":4},"実績値",{"$nulls":3},"計",{"$f":"OFFSET(【実施期間中】個別事業におけるPDCAシート!$A$6,【実施期間中】個別事業におけるPDCAシート!$A$67,MATCH($C38,【実施期間中】個別事業におけるPDCAシート!$H$4:$V$4,0)+6)","v":0},null,null,"枚",null,"※複数ある場合は、平均アンケート回収数"]
[null,null,"（実施する事業については、別紙を使用せず、必ず上記記載例に沿って事業実施計画に記載すること）"]
[null,null,"項目",null,"内容"]
[null,null,"事業2","事業名",{"$f":"OFFSET(【実施期間中】個別事業におけるPDCAシート!$A$6,,MATCH(C81,【実施期間中】個別事業におけるPDCAシート!$H$4:$V$4,0)+6)","v":0}]
[null,null,"普及啓発テーマ",null,"※該当する普及啓発テーマすべてをチェックしてください。"]
[{"$nulls":4},"①",null,"②",null,"③",null,"④",null,"⑤",null,"⑥",null,"⑦",null,"⑧",null,"⑨",null,"⑩",null,"⑪",null,"⑫",{"$nulls":3},"①","②","③","④","⑤","⑥","⑦","⑧","⑨","⑩","⑪","⑫"]
[{"$nulls":4},"省ｴﾈ機器",null,"省ｴﾈ住宅",null,"ｴｺｶｰ",null,"ｸｰﾙﾋﾞｽﾞ",null,"ｳｫｰﾑﾋﾞｽﾞ",null,"照明の\n高効率利用",null,"ｴｺﾄﾞﾗｲﾌﾞ",null,"ｶｰｼｪｱ",null,"公共交通\n機関の利用",null,"再配達防止",null,"シェアエコ",null,"地球温暖化",{"$nulls":3},"省ｴﾈ機器","省ｴﾈ住宅","ｴｺｶｰ","ｸｰﾙﾋﾞｽﾞ","ｳｫｰﾑﾋﾞｽﾞ","照明の\n高効率利用","ｴｺﾄﾞﾗｲﾌﾞ","ｶｰｼｪｱ","公共交通\n機関の利用","再配達防止","シェアエコ","地球温暖化"]
[{"$nulls":30},{"$f":"IF(COUNTIFS(【実施期間中】個別事業におけるPDCAシート!$E$7:$E$17,別紙１_実施報告書!AE83,OFFSET(【実施期間中】個別事業におけるPDCAシート!$F$7,,MATCH(別紙１_実施報告書!$C81,【実施期間中】個別事業におけるPDCAシート!$H$4:$V$4,0)+1,11,1),1),1,0)","v":0},{"$f":"IF(COUNTIFS(【実施期間中】個別事業におけるPDCAシート!$E$7:$E$17,別紙１_実施報告書!AF83,OFFSET(【実施期間中】個別事業におけるPDCAシート!$F$7,,MATCH(別紙１_実施報告書!$C81,【実施期間中】個別事業におけるPDCAシート!$H$4:$V$4,0)+1,11,1),1),1,0)","v":0},{"$f":"IF(COUNTIFS(【実施期間中】個別事業におけるPDCAシート!$E$7:$E$17,別紙１_実施報告書!AG83,OFFSET(【実施期間中】個別事業におけるPDCAシート!$F$7,,MATCH(別紙１_実施報告書!$C81,【実施期間中】個別事業におけるPDCAシート!$H$4:$V$4,0)+1,11,1),1),1,0)","v":0},{"$f":"IF(COUNTIFS(【実施期間中】個別事業におけるPDCAシート!$E$7:$E$17,別紙１_実施報告書!AH83,OFFSET(【実施期間中】個別事業におけるPDCAシート!$F$7,,MATCH(別紙１_実施報告書!$C81,【実施期間中】個別事業におけるPDCAシート!$H$4:$V$4,0)+1,11,1),1),1,0)","v":0},{"$f":"IF(COUNTIFS(【実施期間中】個別事業におけるPDCAシート!$E$7:$E$17,別紙１_実施報告書!AI83,OFFSET(【実施期間中】個別事業におけるPDCAシート!$F$7,,MATCH(別紙１_実施報告書!$C81,【実施期間中】個別事業におけるPDCAシート!$H$4:$V$4,0)+1,11,1),1),1,0)","v":0},{"$f":"IF(COUNTIFS(【実施期間中】個別事業におけるPDCAシート!$E$7:$E$17,別紙１_実施報告書!AJ83,OFFSET(【実施期間中】個別事業におけるPDCAシート!$F$7,,MATCH(別紙１_実施報告書!$C81,【実施期間中】個別事業におけるPDCAシート!$H$4:$V$4,0)+1,11,1),1),1,0)","v":0},{"$f":"IF(COUNTIFS(【実施期間中】個別事業におけるPDCAシート!$E$7:$E$17,別紙１_実施報告書!AK83,OFFSET(【実施期間中】個別事業におけるPDCAシート!$F$7,,MATCH(別紙１_実施報告書!$C81,【実施期間中】個別事業におけるPDCAシート!$H$4:$V$4,0)+1,11,1),1),1,0)","v":0},{"$f":"IF(COUNTIFS(【実施期間中】個別事業におけるPDCAシート!$E$7:$E$17,別紙１_実施報告書!AL83,OFFSET(【実施期間中】個別事業におけるPDCAシート!$F$7,,MATCH(別紙１_実施報告書!$C81,【実施期間中】個別事業におけるPDCAシート!$H$4:$V$4,0)+1,11,1),1),1,0)","v":0},{"$f":"IF(COUNTIFS(【実施期間中】個別事業におけるPDCAシート!$E$7:$E$17,別紙１_実施報告書!AM83,OFFSET(【実施期間中】個別事業におけるPDCAシート!$F$7,,MATCH(別紙１_実施報告書!$C81,【実施期間中】個別事業におけるPDCAシート!$H$4:$V$4,0)+1,11,1),1),1,0)","v":0},{"$f":"IF(COUNTIFS(【実施期間中】個別事業におけるPDCAシート!$E$7:$E$17,別紙１_実施報告書!AN83,OFFSET(【実施期間中】個別事業におけるPDCAシート!$F$7,,MATCH(別紙１_実施報告書!$C81,【実施期間中】個別事業におけるPDCAシート!$H$4:$V$4,0)+1,11,1),1),1,0)","v":0},{"$f":"IF(COUNTIFS(【実施期間中】個別事業におけるPDCAシート!$E$7:$E$17,別紙１_実施報告書!AO83,OFFSET(【実施期間中】個別事業におけるPDCAシート!$F$7,,MATCH(別紙１_実施報告書!$C81,【実施期間中】個別事業におけるPDCAシート!$H$4:$V$4,0)+1,11,1),1),1,0)","v":0},{"$f":"IF(COUNTIFS(【実施期間中】個別事業におけるPDCAシート!$E$7:$E$18,別紙１_実施報告書!AP83,OFFSET(【実施期間中】個別事業におけるPDCAシート!$F$7,,MATCH(別紙１_実施報告書!$C81,【実施期間中】個別事業におけるPDCAシート!$H$4:$V$4,0)+1,12,1),1),1,0)","v":0},{"$f":"COUNTIFS(AE85:AP85,1)+COUNTIFS(AE85:AP85,\"TRUE\")","v":0}]
[null,null,"訴求手法",null,"※訴求手法については、該当する欄にチェックしてください。"]
[{"$nulls":4},"a) 情報発信型（受動型）",{"$nulls":7},"b) 情報発信型（能動型）",{"$nulls":7},"c) 双方向体験交流型"]
[{"$nulls":4},"ラジオ、新聞・広報紙等",{"$nulls":7},"講演会・パネル展示等",{"$nulls":7},"試乗・体験会、省ｴﾈ診断等",{"$nulls":22},"a)","b)","c)"]
[{"$nulls":43},{"$f":"IF(COUNTIFS(【実施期間中】個別事業におけるPDCAシート!$E$19:$E$21,別紙１_実施報告書!AR88,OFFSET(【実施期間中】個別事業におけるPDCAシート!$F$19,,MATCH(別紙１_実施報告書!$C81,【実施期間中】個別事業におけるPDCAシート!$H$4:$V$4,0)+1,3,1),1),1,0)","v":0},{"$f":"IF(COUNTIFS(【実施期間中】個別事業におけるPDCAシート!$E$19:$E$21,別紙１_実施報告書!AS88,OFFSET(【実施期間中】個別事業におけるPDCAシート!$F$19,,MATCH(別紙１_実施報告書!$C81,【実施期間中】個別事業におけるPDCAシート!$H$4:$V$4,0)+1,3,1),1),1,0)","v":0},{"$f":"IF(COUNTIFS(【実施期間中】個別事業におけるPDCAシート!$E$19:$E$21,別紙１_実施報告書!AT88,OFFSET(【実施期間中】個別事業におけるPDCAシート!$F$19,,MATCH(別紙１_実施報告書!$C81,【実施期間中】個別事業におけるPDCAシート!$H$4:$V$4,0)+1,3,1),1),1,0)","v":0},{"$nulls":8},{"$f":"COUNTIFS(AR89:BB89,1)","v":0}]
[null,null,"実施期間",null,{"$f":"OFFSET(【実施期間中】個別事業におけるPDCAシート!$A$6,【実施期間中】個別事業におけるPDCAシート!$A$22,MATCH($C81,【実施期間中】個別事業におけるPDCAシート!$H$4:$V$4,0)+6)","v":""},{"$nulls":9},"～",{"$nulls":3},{"$f":"OFFSET(【実施期間中】個別事業におけるPDCAシート!$A$6,【実施期間中】個別事業におけるPDCAシート!$A$24,MATCH($C81,【実施期間中】個別事業におけるPDCAシート!$H$4:$V$4,0)+6)","v":""}]
[null,null,"（備考）",null,{"$f":"OFFSET(【実施期間中】個別事業におけるPDCAシート!$A$6,【実施期間中】個別事業におけるPDCAシート!$A$25,MATCH($C81,【実施期間中】個別事業におけるPDCAシート!$H$4:$V$4,0)+6)","v":""}]
[null,null,"実施日\n（※同一事業内で、\n同一の内容・場所において\n複数日実施する場合）",null,1,null,{"$f":"OFFSET(【実施期間中】個別事業におけるPDCAシート!$A$6,【実施期間中】個別事業におけるPDCAシート!$A$26,MATCH($C81,【実施期間中】個別事業におけるPDCAシート!$H$4:$V$4,0)+6)","v":""},{"$nulls":9},6,null,{"$f":"OFFSET(【実施期間中】個別事業におけるPDCAシート!$A$6,【実施期間中】個別事業におけるPDCAシート!$A$31,MATCH($C81,【実施期間中】個別事業におけるPDCAシート!$H$4:$V$4,0)+6)","v":""}]
[{"$nulls":4},2,null,{"$f":"OFFSET(【実施期間中】個別事業におけるPDCAシート!$A$6,【実施期間中】個別事業におけるPDCAシート!$A$27,MATCH($C81,【実施期間中】個別事業におけるPDCAシート!$H$4:$V$4,0)+6)","v":""},{"$nulls":9},7,null,{"$f":"OFFSET(【実施期間中】個別事業におけるPDCAシート!$A$6,【実施期間中】個別事業におけるPDCAシート!$A$32,MATCH($C81,【実施期間中】個別事業におけるPDCAシート!$H$4:$V$4,0)+6)","v":""}]
[{"$nulls":4},3,null,{"$f":"OFFSET(【実施期間中】個別事業におけるPDCAシート!$A$6,【実施期間中】個別事業におけるPDCAシート!$A$28,MATCH($C81,【実施期間中】個別事業におけるPDCAシート!$H$4:$V$4,0)+6)","v":""},{"$nulls":9},8,null,{"$f":"OFFSET(【実施期間中】個別事業におけるPDCAシート!$A$6,【実施期間中】個別事業におけるPDCAシート!$A$33,MATCH($C81,【実施期間中】個別事業におけるPDCAシート!$H$4:$V$4,0)+6)","v":""}]
[{"$nulls":4},4,null,{"$f":"OFFSET(【実施期間中】個別事業におけるPDCAシート!$A$6,【実施期間中】個別事業におけるPDCAシート!$A$29,MATCH($C81,【実施期間中】個別事業におけるPDCAシート!$H$4:$V$4,0)+6)","v":""},{"$nulls":9},9,null,{"$f":"OFFSET(【実施期間中】個別事業におけるPDCAシート!$A$6,【実施期間中】個別事業におけるPDCAシート!$A$34,MATCH($C81,【実施期間中】個別事業におけるPDCAシート!$H$4:$V$4,0)+6)","v":""}]
[{"$nulls":4},5,null,{"$f":"OFFSET(【実施期間中】個別事業におけるPDCAシート!$A$6,【実施期間中】個別事業におけるPDCAシート!$A$30,MATCH($C81,【実施期間中】個別事業におけるPDCAシート!$H$4:$V$4,0)+6)","v":""},{"$nulls":9},10,null,{"$f":"OFFSET(【実施期間中】個別事業におけるPDCAシート!$A$6,【実施期間中】個別事業におけるPDCAシート!$A$35,MATCH($C81,【実施期間中】個別事業におけるPDCAシート!$H$4:$V$4,0)+6)","v":""}]
[null,null,"事業の概要",null,{"$f":"OFFSET(【実施期間中】個別事業におけるPDCAシート!$A$6,【実施期間中】個別事業におけるPDCAシート!$A$36,MATCH($C81,【実施期間中】個別事業におけるPDCAシート!$H$4:$V$4,0)+6)","v":""}]
[null,null,"指定自治体等との連携",null,{"$f":"別紙１_実施計画書!E97","v":0}]
[null,null,"実施結果",null,{"$f":"OFFSET(【実施期間中】個別事業におけるPDCAシート!$A$6,【実施期間中】個別事業におけるPDCAシート!$A$38,MATCH($C81,【実施期間中】個別事業におけるPDCAシート!$H$4:$V$4,0)+6)","v":0}]
[]
[null,null,"主な訴求対象","計画",{"$f":"OFFSET(【実施期間中】個別事業におけるPDCAシート!$A$6,【実施期間中】個別事業におけるPDCAシート!$A$39,MATCH($C81,【実施期間中】個別事業におけるPDCAシート!$H$4:$V$4,0)+6)","v":""}]
[{"$nulls":3},"結果",{"$f":"OFFSET(【実施期間中】個別事業におけるPDCAシート!$A$6,【実施期間中】個別事業におけるPDCAシート!$A$40,MATCH($C81,【実施期間中】個別事業におけるPDCAシート!$H$4:$V$4,0)+6)","v":0}]
[null,null,"目標アウトプット\n（リーチ数）\n（想定及び実績）",null,"カテゴリ①（プルダウン選択）⇒",{"$nulls":10},{"$f":"OFFSET(【実施期間中】個別事業におけるPDCAシート!$A$6,【実施期間中】個別事業におけるPDCAシート!$A$41,MATCH($C81,【実施期間中】個別事業におけるPDCAシート!$H$4:$V$4,0)+6)","v":""}]
[{"$nulls":4},"計画値",{"$nulls":3},"計",null,{"$f":"別紙１_実施計画書!K103","v":{"v":0,"d":"0名"}}]
[{"$nulls":4},"実績値",{"$nulls":3},"計",null,{"$f":"OFFSET(【実施期間中】個別事業におけるPDCAシート!$A$6,【実施期間中】個別事業におけるPDCAシート!$A$44,MATCH($C81,【実施期間中】個別事業におけるPDCAシート!$H$4:$V$4,0)+6)","v":{"v":0,"d":"0名"}}]
[{"$nulls":4},"算出根拠",{"$nulls":3},{"$f":"OFFSET(【実施期間中】個別事業におけるPDCAシート!$A$6,【実施期間中】個別事業におけるPDCAシート!$A$45,MATCH($C81,【実施期間中】個別事業におけるPDCAシート!$H$4:$V$4,0)+6)","v":""}]
[{"$nulls":4},"カテゴリ②（プルダウン選択）⇒",{"$nulls":10},{"$f":"OFFSET(【実施期間中】個別事業におけるPDCAシート!$A$6,【実施期間中】個別事業におけるPDCAシート!$A$46,MATCH($C81,【実施期間中】個別事業におけるPDCAシート!$H$4:$V$4,0)+6)","v":""}]
[{"$nulls":4},"計画値",{"$nulls":3},"計",null,{"$f":"別紙１_実施計画書!K107","v":{"v":0,"d":"0名"}}]
[{"$nulls":4},"実績値",{"$nulls":3},"計",null,{"$f":"OFFSET(【実施期間中】個別事業におけるPDCAシート!$A$6,【実施期間中】個別事業におけるPDCAシート!$A$49,MATCH($C81,【実施期間中】個別事業におけるPDCAシート!$H$4:$V$4,0)+6)","v":{"v":0,"d":"0名"}}]
[{"$nulls":4},"算出根拠",{"$nulls":3},{"$f":"OFFSET(【実施期間中】個別事業におけるPDCAシート!$A$6,【実施期間中】個別事業におけるPDCAシート!$A$50,MATCH($C81,【実施期間中】個別事業におけるPDCAシート!$H$4:$V$4,0)+6)","v":""}]
[null,null,"目標アウトカム\n（想定及び実績）",null,"計画",{"$nulls":3},{"$f":"OFFSET(【実施期間中】個別事業におけるPDCAシート!$A$6,【実施期間中】個別事業におけるPDCAシート!$A$51,MATCH($C81,【実施期間中】個別事業におけるPDCAシート!$H$4:$V$4,0)+6)","v":""}]
[{"$nulls":4},"実績"]
[null,null,"賛同数（想定及び実績）",null,"計画値",{"$nulls":3},"団体",null,{"$f":"OFFSET(【実施期間中】個別事業におけるPDCAシート!$A$6,【実施期間中】個別事業におけるPDCAシート!$A$54,MATCH($C81,【実施期間中】個別事業におけるPDCAシート!$H$4:$V$4,0)+6)","v":{"v":0,"d":"0団体"}},{"$nulls":4},"、個人",null,{"$f":"OFFSET(【実施期間中】個別事業におけるPDCAシート!$A$6,【実施期間中】個別事業におけるPDCAシート!$A$57,MATCH($C81,【実施期間中】個別事業におけるPDCAシート!$H$4:$V$4,0)+6)","v":{"v":0,"d":"0名"}}]
[{"$nulls":4},"実績値",{"$nulls":3},"団体",null,{"$f":"OFFSET(【実施期間中】個別事業におけるPDCAシート!$A$6,【実施期間中】個別事業におけるPDCAシート!$A$55,MATCH($C81,【実施期間中】個別事業におけるPDCAシート!$H$4:$V$4,0)+6)","v":{"v":0,"d":"0団体"}},{"$nulls":4},"、個人",null,{"$f":"OFFSET(【実施期間中】個別事業におけるPDCAシート!$A$6,【実施期間中】個別事業におけるPDCAシート!$A$58,MATCH($C81,【実施期間中】個別事業におけるPDCAシート!$H$4:$V$4,0)+6)","v":{"v":0,"d":"0名"}}]
[null,null,"効果検証\n（アンケート）予定",null,"※アンケートの実施予定をプルダウンより選択してください。"]
[{"$nulls":4},"公募要領に規定のアンケート",{"$nulls":16},"貴事業者独自のアンケート"]
[{"$nulls":4},"省エネ機器",{"$nulls":3},"省エネ住宅",{"$nulls":3},"エコドライブ",{"$nulls":3},"低炭素物流（宅配便の再配達防止）"]
[{"$nulls":4},{"$f":"OFFSET(【実施期間中】個別事業におけるPDCAシート!$A$6,【実施期間中】個別事業におけるPDCAシート!$A$59,MATCH($C81,【実施期間中】個別事業におけるPDCAシート!$H$4:$V$4,0)+6)","v":"- 選択 -"},{"$nulls":3},{"$f":"OFFSET(【実施期間中】個別事業におけるPDCAシート!$A$6,【実施期間中】個別事業におけるPDCAシート!$A$60,MATCH($C81,【実施期間中】個別事業におけるPDCAシート!$H$4:$V$4,0)+6)","v":"- 選択 -"},{"$nulls":3},{"$f":"OFFSET(【実施期間中】個別事業におけるPDCAシート!$A$6,【実施期間中】個別事業におけるPDCAシート!$A$61,MATCH($C81,【実施期間中】個別事業におけるPDCAシート!$H$4:$V$4,0)+6)","v":"- 選択 -"},{"$nulls":3},{"$f":"OFFSET(【実施期間中】個別事業におけるPDCAシート!$A$6,【実施期間中】個別事業におけるPDCAシート!$A$62,MATCH($C81,【実施期間中】個別事業におけるPDCAシート!$H$4:$V$4,0)+6)","v":"- 選択 -"},{"$nulls":4},{"$f":"OFFSET(【実施期間中】個別事業におけるPDCAシート!$A$6,【実施期間中】個別事業におけるPDCAシート!$A$63,MATCH($C81,【実施期間中】個別事業におけるPDCAシート!$H$4:$V$4,0)+6)","v":"- 選択 -"}]
[{"$nulls":4},"内容（",null,{"$f":"OFFSET(【実施期間中】個別事業におけるPDCAシート!$A$6,【実施期間中】個別事業におけるPDCAシート!$A$64,MATCH($C81,【実施期間中】個別事業におけるPDCAシート!$H$4:$V$4,0)+6)","v":""},{"$nulls":20},"）"]
[{"$nulls":4},"目標回収数",{"$nulls":3},"計",{"$f":"OFFSET(【実施期間中】個別事業におけるPDCAシート!$A$6,【実施期間中】個別事業におけるPDCAシート!$A$66,MATCH($C81,【実施期間中】個別事業におけるPDCAシート!$H$4:$V$4,0)+6)","v":0},null,null,"枚",null,"※複数ある場合は、平均アンケート回収数"]
[{"$nulls":4},"実績値",{"$nulls":3},"計",{"$f":"OFFSET(【実施期間中】個別事業におけるPDCAシート!$A$6,【実施期間中】個別事業におけるPDCAシート!$A$67,MATCH($C81,【実施期間中】個別事業におけるPDCAシート!$H$4:$V$4,0)+6)","v":0},null,null,"枚",null,"※複数ある場合は、平均アンケート回収数"]
[]
[null,null,"項目",null,"内容"]
[null,null,"事業3","事業名",{"$f":"OFFSET(【実施期間中】個別事業におけるPDCAシート!$A$6,,MATCH(C124,【実施期間中】個別事業におけるPDCAシート!$H$4:$V$4,0)+6)","v":0}]
[null,null,"普及啓発テーマ",null,"※該当する普及啓発テーマすべてをチェックしてください。"]
[{"$nulls":4},"①",null,"②",null,"③",null,"④",null,"⑤",null,"⑥",null,"⑦",null,"⑧",null,"⑨",null,"⑩",null,"⑪",null,"⑫",{"$nulls":3},"①","②","③","④","⑤","⑥","⑦","⑧","⑨","⑩","⑪","⑫"]
[{"$nulls":4},"省ｴﾈ機器",null,"省ｴﾈ住宅",null,"ｴｺｶｰ",null,"ｸｰﾙﾋﾞｽﾞ",null,"ｳｫｰﾑﾋﾞｽﾞ",null,"照明の\n高効率利用",null,"ｴｺﾄﾞﾗｲﾌﾞ",null,"ｶｰｼｪｱ",null,"公共交通\n機関の利用",null,"再配達防止",null,"シェアエコ",null,"地球温暖化",{"$nulls":3},"省ｴﾈ機器","省ｴﾈ住宅","ｴｺｶｰ","ｸｰﾙﾋﾞｽﾞ","ｳｫｰﾑﾋﾞｽﾞ","照明の\n高効率利用","ｴｺﾄﾞﾗｲﾌﾞ","ｶｰｼｪｱ","公共交通\n機関の利用","再配達防止","シェアエコ","地球温暖化"]
[{"$nulls":30},{"$f":"IF(COUNTIFS(【実施期間中】個別事業におけるPDCAシート!$E$7:$E$17,別紙１_実施報告書!AE126,OFFSET(【実施期間中】個別事業におけるPDCAシート!$F$7,,MATCH(別紙１_実施報告書!$C124,【実施期間中】個別事業におけるPDCAシート!$H$4:$V$4,0)+1,11,1),1),1,0)","v":0},{"$f":"IF(COUNTIFS(【実施期間中】個別事業におけるPDCAシート!$E$7:$E$17,別紙１_実施報告書!AF126,OFFSET(【実施期間中】個別事業におけるPDCAシート!$F$7,,MATCH(別紙１_実施報告書!$C124,【実施期間中】個別事業におけるPDCAシート!$H$4:$V$4,0)+1,11,1),1),1,0)","v":0},{"$f":"IF(COUNTIFS(【実施期間中】個別事業におけるPDCAシート!$E$7:$E$17,別紙１_実施報告書!AG126,OFFSET(【実施期間中】個別事業におけるPDCAシート!$F$7,,MATCH(別紙１_実施報告書!$C124,【実施期間中】個別事業におけるPDCAシート!$H$4:$V$4,0)+1,11,1),1),1,0)","v":0},{"$f":"IF(COUNTIFS(【実施期間中】個別事業におけるPDCAシート!$E$7:$E$17,別紙１_実施報告書!AH126,OFFSET(【実施期間中】個別事業におけるPDCAシート!$F$7,,MATCH(別紙１_実施報告書!$C124,【実施期間中】個別事業におけるPDCAシート!$H$4:$V$4,0)+1,11,1),1),1,0)","v":0},{"$f":"IF(COUNTIFS(【実施期間中】個別事業におけるPDCAシート!$E$7:$E$17,別紙１_実施報告書!AI126,OFFSET(【実施期間中】個別事業におけるPDCAシート!$F$7,,MATCH(別紙１_実施報告書!$C124,【実施期間中】個別事業におけるPDCAシート!$H$4:$V$4,0)+1,11,1),1),1,0)","v":0},{"$f":"IF(COUNTIFS(【実施期間中】個別事業におけるPDCAシート!$E$7:$E$17,別紙１_実施報告書!AJ126,OFFSET(【実施期間中】個別事業におけるPDCAシート!$F$7,,MATCH(別紙１_実施報告書!$C124,【実施期間中】個別事業におけるPDCAシート!$H$4:$V$4,0)+1,11,1),1),1,0)","v":0},{"$f":"IF(COUNTIFS(【実施期間中】個別事業におけるPDCAシート!$E$7:$E$17,別紙１_実施報告書!AK126,OFFSET(【実施期間中】個別事業におけるPDCAシート!$F$7,,MATCH(別紙１_実施報告書!$C124,【実施期間中】個別事業におけるPDCAシート!$H$4:$V$4,0)+1,11,1),1),1,0)","v":0},{"$f":"IF(COUNTIFS(【実施期間中】個別事業におけるPDCAシート!$E$7:$E$17,別紙１_実施報告書!AL126,OFFSET(【実施期間中】個別事業におけるPDCAシート!$F$7,,MATCH(別紙１_実施報告書!$C124,【実施期間中】個別事業におけるPDCAシート!$H$4:$V$4,0)+1,11,1),1),1,0)","v":0},{"$f":"IF(COUNTIFS(【実施期間中】個別事業におけるPDCAシート!$E$7:$E$17,別紙１_実施報告書!AM126,OFFSET(【実施期間中】個別事業におけるPDCAシート!$F$7,,MATCH(別紙１_実施報告書!$C124,【実施期間中】個別事業におけるPDCAシート!$H$4:$V$4,0)+1,11,1),1),1,0)","v":0},{"$f":"IF(COUNTIFS(【実施期間中】個別事業におけるPDCAシート!$E$7:$E$17,別紙１_実施報告書!AN126,OFFSET(【実施期間中】個別事業におけるPDCAシート!$F$7,,MATCH(別紙１_実施報告書!$C124,【実施期間中】個別事業におけるPDCAシート!$H$4:$V$4,0)+1,11,1),1),1,0)","v":0},{"$f":"IF(COUNTIFS(【実施期間中】個別事業におけるPDCAシート!$E$7:$E$17,別紙１_実施報告書!AO126,OFFSET(【実施期間中】個別事業におけるPDCAシート!$F$7,,MATCH(別紙１_実施報告書!$C124,【実施期間中】個別事業におけるPDCAシート!$H$4:$V$4,0)+1,11,1),1),1,0)","v":0},{"$f":"IF(COUNTIFS(【実施期間中】個別事業におけるPDCAシート!$E$7:$E$18,別紙１_実施報告書!AP126,OFFSET(【実施期間中】個別事業におけるPDCAシート!$F$7,,MATCH(別紙１_実施報告書!$C124,【実施期間中】個別事業におけるPDCAシート!$H$4:$V$4,0)+1,12,1),1),1,0)","v":0},{"$f":"COUNTIFS(AE128:AP128,1)+COUNTIFS(AE128:AP128,\"TRUE\")","v":0}]
[null,null,"訴求手法",null,"※訴求手法については、該当する欄にチェックしてください。"]
[{"$nulls":4},"a) 情報発信型（受動型）",{"$nulls":7},"b) 情報発信型（能動型）",{"$nulls":7},"c) 双方向体験交流型"]
[{"$nulls":4},"ラジオ、新聞・広報紙等",{"$nulls":7},"講演会・パネル展示等",{"$nulls":7},"試乗・体験会、省ｴﾈ診断等",{"$nulls":22},"a)","b)","c)"]
[{"$nulls":43},{"$f":"IF(COUNTIFS(【実施期間中】個別事業におけるPDCAシート!$E$19:$E$21,別紙１_実施報告書!AR131,OFFSET(【実施期間中】個別事業におけるPDCAシート!$F$19,,MATCH(別紙１_実施報告書!$C124,【実施期間中】個別事業におけるPDCAシート!$H$4:$V$4,0)+1,3,1),1),1,0)","v":0},{"$f":"IF(COUNTIFS(【実施期間中】個別事業におけるPDCAシート!$E$19:$E$21,別紙１_実施報告書!AS131,OFFSET(【実施期間中】個別事業におけるPDCAシート!$F$19,,MATCH(別紙１_実施報告書!$C124,【実施期間中】個別事業におけるPDCAシート!$H$4:$V$4,0)+1,3,1),1),1,0)","v":0},{"$f":"IF(COUNTIFS(【実施期間中】個別事業におけるPDCAシート!$E$19:$E$21,別紙１_実施報告書!AT131,OFFSET(【実施期間中】個別事業におけるPDCAシート!$F$19,,MATCH(別紙１_実施報告書!$C124,【実施期間中】個別事業におけるPDCAシート!$H$4:$V$4,0)+1,3,1),1),1,0)","v":0},{"$nulls":8},{"$f":"COUNTIFS(AR132:BB132,1)","v":0}]
[null,null,"実施期間",null,{"$f":"OFFSET(【実施期間中】個別事業におけるPDCAシート!$A$6,【実施期間中】個別事業におけるPDCAシート!$A$22,MATCH($C124,【実施期間中】個別事業におけるPDCAシート!$H$4:$V$4,0)+6)","v":""},{"$nulls":9},"～",{"$nulls":3},{"$f":"OFFSET(【実施期間中】個別事業におけるPDCAシート!$A$6,【実施期間中】個別事業におけるPDCAシート!$A$24,MATCH($C124,【実施期間中】個別事業におけるPDCAシート!$H$4:$V$4,0)+6)","v":""}]
[null,null,"（備考）",null,{"$f":"OFFSET(【実施期間中】個別事業におけるPDCAシート!$A$6,【実施期間中】個別事業におけるPDCAシート!$A$25,MATCH($C124,【実施期間中】個別事業におけるPDCAシート!$H$4:$V$4,0)+6)","v":""}]
[null,null,"実施日\n（※同一事業内で、\n同一の内容・場所において\n複数日実施する場合）",null,1,null,{"$f":"OFFSET(【実施期間中】個別事業におけるPDCAシート!$A$6,【実施期間中】個別事業におけるPDCAシート!$A$26,MATCH($C124,【実施期間中】個別事業におけるPDCAシート!$H$4:$V$4,0)+6)","v":""},{"$nulls":9},6,null,{"$f":"OFFSET(【実施期間中】個別事業におけるPDCAシート!$A$6,【実施期間中】個別事業におけるPDCAシート!$A$31,MATCH($C124,【実施期間中】個別事業におけるPDCAシート!$H$4:$V$4,0)+6)","v":""}]
[{"$nulls":4},2,null,{"$f":"OFFSET(【実施期間中】個別事業におけるPDCAシート!$A$6,【実施期間中】個別事業におけるPDCAシート!$A$27,MATCH($C124,【実施期間中】個別事業におけるPDCAシート!$H$4:$V$4,0)+6)","v":""},{"$nulls":9},7,null,{"$f":"OFFSET(【実施期間中】個別事業におけるPDCAシート!$A$6,【実施期間中】個別事業におけるPDCAシート!$A$32,MATCH($C124,【実施期間中】個別事業におけるPDCAシート!$H$4:$V$4,0)+6)","v":""}]
[{"$nulls":4},3,null,{"$f":"OFFSET(【実施期間中】個別事業におけるPDCAシート!$A$6,【実施期間中】個別事業におけるPDCAシート!$A$28,MATCH($C124,【実施期間中】個別事業におけるPDCAシート!$H$4:$V$4,0)+6)","v":""},{"$nulls":9},8,null,{"$f":"OFFSET(【実施期間中】個別事業におけるPDCAシート!$A$6,【実施期間中】個別事業におけるPDCAシート!$A$33,MATCH($C124,【実施期間中】個別事業におけるPDCAシート!$H$4:$V$4,0)+6)","v":""}]
[{"$nulls":4},4,null,{"$f":"OFFSET(【実施期間中】個別事業におけるPDCAシート!$A$6,【実施期間中】個別事業におけるPDCAシート!$A$29,MATCH($C124,【実施期間中】個別事業におけるPDCAシート!$H$4:$V$4,0)+6)","v":""},{"$nulls":9},9,null,{"$f":"OFFSET(【実施期間中】個別事業におけるPDCAシート!$A$6,【実施期間中】個別事業におけるPDCAシート!$A$34,MATCH($C124,【実施期間中】個別事業におけるPDCAシート!$H$4:$V$4,0)+6)","v":""}]
[{"$nulls":4},5,null,{"$f":"OFFSET(【実施期間中】個別事業におけるPDCAシート!$A$6,【実施期間中】個別事業におけるPDCAシート!$A$30,MATCH($C124,【実施期間中】個別事業におけるPDCAシート!$H$4:$V$4,0)+6)","v":""},{"$nulls":9},10,null,{"$f":"OFFSET(【実施期間中】個別事業におけるPDCAシート!$A$6,【実施期間中】個別事業におけるPDCAシート!$A$35,MATCH($C124,【実施期間中】個別事業におけるPDCAシート!$H$4:$V$4,0)+6)","v":""}]
[null,null,"事業の概要",null,{"$f":"OFFSET(【実施期間中】個別事業におけるPDCAシート!$A$6,【実施期間中】個別事業におけるPDCAシート!$A$36,MATCH($C124,【実施期間中】個別事業におけるPDCAシート!$H$4:$V$4,0)+6)","v":""}]
[null,null,"指定自治体等との連携",null,{"$f":"別紙１_実施計画書!E138","v":0}]
[null,null,"実施結果",null,{"$f":"OFFSET(【実施期間中】個別事業におけるPDCAシート!$A$6,【実施期間中】個別事業におけるPDCAシート!$A$38,MATCH($C124,【実施期間中】個別事業におけるPDCAシート!$H$4:$V$4,0)+6)","v":0}]
[]
[null,null,"主な訴求対象","計画",{"$f":"OFFSET(【実施期間中】個別事業におけるPDCAシート!$A$6,【実施期間中】個別事業におけるPDCAシート!$A$39,MATCH($C124,【実施期間中】個別事業におけるPDCAシート!$H$4:$V$4,0)+6)","v":""}]
[{"$nulls":3},"結果",{"$f":"OFFSET(【実施期間中】個別事業におけるPDCAシート!$A$6,【実施期間中】個別事業におけるPDCAシート!$A$40,MATCH($C124,【実施期間中】個別事業におけるPDCAシート!$H$4:$V$4,0)+6)","v":0}]
[null,null,"目標アウトプット\n（リーチ数）\n（想定及び実績）",null,"カテゴリ①（プルダウン選択）⇒",{"$nulls":10},{"$f":"OFFSET(【実施期間中】個別事業におけるPDCAシート!$A$6,【実施期間中】個別事業におけるPDCAシート!$A$41,MATCH($C124,【実施期間中】個別事業におけるPDCAシート!$H$4:$V$4,0)+6)","v":""}]
[{"$nulls":4},"計画値",{"$nulls":3},"計",null,{"$f":"別紙１_実施計画書!K144","v":{"v":0,"d":"0名"}}]
[{"$nulls":4},"実績値",{"$nulls":3},"計",null,{"$f":"OFFSET(【実施期間中】個別事業におけるPDCAシート!$A$6,【実施期間中】個別事業におけるPDCAシート!$A$44,MATCH($C124,【実施期間中】個別事業におけるPDCAシート!$H$4:$V$4,0)+6)","v":{"v":0,"d":"0名"}}]
[{"$nulls":4},"算出根拠",{"$nulls":3},{"$f":"OFFSET(【実施期間中】個別事業におけるPDCAシート!$A$6,【実施期間中】個別事業におけるPDCAシート!$A$45,MATCH($C124,【実施期間中】個別事業におけるPDCAシート!$H$4:$V$4,0)+6)","v":""}]
[{"$nulls":4},"カテゴリ②（プルダウン選択）⇒",{"$nulls":10},{"$f":"OFFSET(【実施期間中】個別事業におけるPDCAシート!$A$6,【実施期間中】個別事業におけるPDCAシート!$A$46,MATCH($C124,【実施期間中】個別事業におけるPDCAシート!$H$4:$V$4,0)+6)","v":""}]
[{"$nulls":4},"計画値",{"$nulls":3},"計",null,{"$f":"別紙１_実施計画書!K148","v":{"v":0,"d":"0名"}}]
[{"$nulls":4},"実績値",{"$nulls":3},"計",null,{"$f":"OFFSET(【実施期間中】個別事業におけるPDCAシート!$A$6,【実施期間中】個別事業におけるPDCAシート!$A$49,MATCH($C124,【実施期間中】個別事業におけるPDCAシート!$H$4:$V$4,0)+6)","v":{"v":0,"d":"0名"}}]
[{"$nulls":4},"算出根拠",{"$nulls":3},{"$f":"OFFSET(【実施期間中】個別事業におけるPDCAシート!$A$6,【実施期間中】個別事業におけるPDCAシート!$A$50,MATCH($C124,【実施期間中】個別事業におけるPDCAシート!$H$4:$V$4,0)+6)","v":""}]
[null,null,"目標アウトカム\n（想定及び実績）",null,"計画",{"$nulls":3},{"$f":"OFFSET(【実施期間中】個別事業におけるPDCAシート!$A$6,【実施期間中】個別事業におけるPDCAシート!$A$51,MATCH($C124,【実施期間中】個別事業におけるPDCAシート!$H$4:$V$4,0)+6)","v":""}]
[{"$nulls":4},"実績"]
[null,null,"賛同数（想定及び実績）",null,"計画値",{"$nulls":3},"団体",null,{"$f":"OFFSET(【実施期間中】個別事業におけるPDCAシート!$A$6,【実施期間中】個別事業におけるPDCAシート!$A$54,MATCH($C124,【実施期間中】個別事業におけるPDCAシート!$H$4:$V$4,0)+6)","v":{"v":0,"d":"0団体"}},{"$nulls":4},"、個人",null,{"$f":"OFFSET(【実施期間中】個別事業におけるPDCAシート!$A$6,【実施期間中】個別事業におけるPDCAシート!$A$57,MATCH($C124,【実施期間中】個別事業におけるPDCAシート!$H$4:$V$4,0)+6)","v":{"v":0,"d":"0名"}}]
[{"$nulls":4},"実績値",{"$nulls":3},"団体",null,{"$f":"OFFSET(【実施期間中】個別事業におけるPDCAシート!$A$6,【実施期間中】個別事業におけるPDCAシート!$A$55,MATCH($C124,【実施期間中】個別事業におけるPDCAシート!$H$4:$V$4,0)+6)","v":{"v":0,"d":"0団体"}},{"$nulls":4},"、個人",null,{"$f":"OFFSET(【実施期間中】個別事業におけるPDCAシート!$A$6,【実施期間中】個別事業におけるPDCAシート!$A$58,MATCH($C124,【実施期間中】個別事業におけるPDCAシート!$H$4:$V$4,0)+6)","v":{"v":0,"d":"0名"}}]
[null,null,"効果検証\n（アンケート）予定",null,"※アンケートの実施予定をプルダウンより選択してください。"]
[{"$nulls":4},"公募要領に規定のアンケート",{"$nulls":16},"貴事業者独自のアンケート"]
[{"$nulls":4},"省エネ機器",{"$nulls":3},"省エネ住宅",{"$nulls":3},"エコドライブ",{"$nulls":3},"低炭素物流（宅配便の再配達防止）"]
[{"$nulls":4},{"$f":"OFFSET(【実施期間中】個別事業におけるPDCAシート!$A$6,【実施期間中】個別事業におけるPDCAシート!$A$59,MATCH($C124,【実施期間中】個別事業におけるPDCAシート!$H$4:$V$4,0)+6)","v":"- 選択 -"},{"$nulls":3},{"$f":"OFFSET(【実施期間中】個別事業におけるPDCAシート!$A$6,【実施期間中】個別事業におけるPDCAシート!$A$60,MATCH($C124,【実施期間中】個別事業におけるPDCAシート!$H$4:$V$4,0)+6)","v":"- 選択 -"},{"$nulls":3},{"$f":"OFFSET(【実施期間中】個別事業におけるPDCAシート!$A$6,【実施期間中】個別事業におけるPDCAシート!$A$61,MATCH($C124,【実施期間中】個別事業におけるPDCAシート!$H$4:$V$4,0)+6)","v":"- 選択 -"},{"$nulls":3},{"$f":"OFFSET(【実施期間中】個別事業におけるPDCAシート!$A$6,【実施期間中】個別事業におけるPDCAシート!$A$62,MATCH($C124,【実施期間中】個別事業におけるPDCAシート!$H$4:$V$4,0)+6)","v":"- 選択 -"},{"$nulls":4},{"$f":"OFFSET(【実施期間中】個別事業におけるPDCAシート!$A$6,【実施期間中】個別事業におけるPDCAシート!$A$63,MATCH($C124,【実施期間中】個別事業におけるPDCAシート!$H$4:$V$4,0)+6)","v":"- 選択 -"}]
[{"$nulls":4},"内容（",null,{"$f":"OFFSET(【実施期間中】個別事業におけるPDCAシート!$A$6,【実施期間中】個別事業におけるPDCAシート!$A$64,MATCH($C124,【実施期間中】個別事業におけるPDCAシート!$H$4:$V$4,0)+6)","v":""},{"$nulls":20},"）"]
[{"$nulls":4},"目標回収数",{"$nulls":3},"計",{"$f":"OFFSET(【実施期間中】個別事業におけるPDCAシート!$A$6,【実施期間中】個別事業におけるPDCAシート!$A$66,MATCH($C124,【実施期間中】個別事業におけるPDCAシート!$H$4:$V$4,0)+6)","v":0},null,null,"枚",null,"※複数ある場合は、平均アンケート回収数"]
[{"$nulls":4},"実績値",{"$nulls":3},"計",{"$f":"OFFSET(【実施期間中】個別事業におけるPDCAシート!$A$6,【実施期間中】個別事業におけるPDCAシート!$A$67,MATCH($C124,【実施期間中】個別事業におけるPDCAシート!$H$4:$V$4,0)+6)","v":0},null,null,"枚",null,"※複数ある場合は、平均アンケート回収数"]
[]
[null,null,"項目",null,"内容"]
[null,null,"事業4","事業名",{"$f":"OFFSET(【実施期間中】個別事業におけるPDCAシート!$A$6,,MATCH(C167,【実施期間中】個別事業におけるPDCAシート!$H$4:$V$4,0)+6)","v":0}]
[null,null,"普及啓発テーマ",null,"※該当する普及啓発テーマすべてをチェックしてください。"]
[{"$nulls":4},"①",null,"②",null,"③",null,"④",null,"⑤",null,"⑥",null,"⑦",null,"⑧",null,"⑨",null,"⑩",null,"⑪",null,"⑫",{"$nulls":3},"①","②","③","④","⑤","⑥","⑦","⑧","⑨","⑩","⑪","⑫"]
[{"$nulls":4},"省ｴﾈ機器",null,"省ｴﾈ住宅",null,"ｴｺｶｰ",null,"ｸｰﾙﾋﾞｽﾞ",null,"ｳｫｰﾑﾋﾞｽﾞ",null,"照明の\n高効率利用",null,"ｴｺﾄﾞﾗｲﾌﾞ",null,"ｶｰｼｪｱ",null,"公共交通\n機関の利用",null,"再配達防止",null,"シェアエコ",null,"地球温暖化",{"$nulls":3},"省ｴﾈ機器","省ｴﾈ住宅","ｴｺｶｰ","ｸｰﾙﾋﾞｽﾞ","ｳｫｰﾑﾋﾞｽﾞ","照明の\n高効率利用","ｴｺﾄﾞﾗｲﾌﾞ","ｶｰｼｪｱ","公共交通\n機関の利用","再配達防止","シェアエコ","地球温暖化"]
[{"$nulls":30},{"$f":"IF(COUNTIFS(【実施期間中】個別事業におけるPDCAシート!$E$7:$E$17,別紙１_実施報告書!AE169,OFFSET(【実施期間中】個別事業におけるPDCAシート!$F$7,,MATCH(別紙１_実施報告書!$C167,【実施期間中】個別事業におけるPDCAシート!$H$4:$V$4,0)+1,11,1),1),1,0)","v":0},{"$f":"IF(COUNTIFS(【実施期間中】個別事業におけるPDCAシート!$E$7:$E$17,別紙１_実施報告書!AF169,OFFSET(【実施期間中】個別事業におけるPDCAシート!$F$7,,MATCH(別紙１_実施報告書!$C167,【実施期間中】個別事業におけるPDCAシート!$H$4:$V$4,0)+1,11,1),1),1,0)","v":0},{"$f":"IF(COUNTIFS(【実施期間中】個別事業におけるPDCAシート!$E$7:$E$17,別紙１_実施報告書!AG169,OFFSET(【実施期間中】個別事業におけるPDCAシート!$F$7,,MATCH(別紙１_実施報告書!$C167,【実施期間中】個別事業におけるPDCAシート!$H$4:$V$4,0)+1,11,1),1),1,0)","v":0},{"$f":"IF(COUNTIFS(【実施期間中】個別事業におけるPDCAシート!$E$7:$E$17,別紙１_実施報告書!AH169,OFFSET(【実施期間中】個別事業におけるPDCAシート!$F$7,,MATCH(別紙１_実施報告書!$C167,【実施期間中】個別事業におけるPDCAシート!$H$4:$V$4,0)+1,11,1),1),1,0)","v":0},{"$f":"IF(COUNTIFS(【実施期間中】個別事業におけるPDCAシート!$E$7:$E$17,別紙１_実施報告書!AI169,OFFSET(【実施期間中】個別事業におけるPDCAシート!$F$7,,MATCH(別紙１_実施報告書!$C167,【実施期間中】個別事業におけるPDCAシート!$H$4:$V$4,0)+1,11,1),1),1,0)","v":0},{"$f":"IF(COUNTIFS(【実施期間中】個別事業におけるPDCAシート!$E$7:$E$17,別紙１_実施報告書!AJ169,OFFSET(【実施期間中】個別事業におけるPDCAシート!$F$7,,MATCH(別紙１_実施報告書!$C167,【実施期間中】個別事業におけるPDCAシート!$H$4:$V$4,0)+1,11,1),1),1,0)","v":0},{"$f":"IF(COUNTIFS(【実施期間中】個別事業におけるPDCAシート!$E$7:$E$17,別紙１_実施報告書!AK169,OFFSET(【実施期間中】個別事業におけるPDCAシート!$F$7,,MATCH(別紙１_実施報告書!$C167,【実施期間中】個別事業におけるPDCAシート!$H$4:$V$4,0)+1,11,1),1),1,0)","v":0},{"$f":"IF(COUNTIFS(【実施期間中】個別事業におけるPDCAシート!$E$7:$E$17,別紙１_実施報告書!AL169,OFFSET(【実施期間中】個別事業におけるPDCAシート!$F$7,,MATCH(別紙１_実施報告書!$C167,【実施期間中】個別事業におけるPDCAシート!$H$4:$V$4,0)+1,11,1),1),1,0)","v":0},{"$f":"IF(COUNTIFS(【実施期間中】個別事業におけるPDCAシート!$E$7:$E$17,別紙１_実施報告書!AM169,OFFSET(【実施期間中】個別事業におけるPDCAシート!$F$7,,MATCH(別紙１_実施報告書!$C167,【実施期間中】個別事業におけるPDCAシート!$H$4:$V$4,0)+1,11,1),1),1,0)","v":0},{"$f":"IF(COUNTIFS(【実施期間中】個別事業におけるPDCAシート!$E$7:$E$17,別紙１_実施報告書!AN169,OFFSET(【実施期間中】個別事業におけるPDCAシート!$F$7,,MATCH(別紙１_実施報告書!$C167,【実施期間中】個別事業におけるPDCAシート!$H$4:$V$4,0)+1,11,1),1),1,0)","v":0},{"$f":"IF(COUNTIFS(【実施期間中】個別事業におけるPDCAシート!$E$7:$E$17,別紙１_実施報告書!AO169,OFFSET(【実施期間中】個別事業におけるPDCAシート!$F$7,,MATCH(別紙１_実施報告書!$C167,【実施期間中】個別事業におけるPDCAシート!$H$4:$V$4,0)+1,11,1),1),1,0)","v":0},{"$f":"IF(COUNTIFS(【実施期間中】個別事業におけるPDCAシート!$E$7:$E$18,別紙１_実施報告書!AP169,OFFSET(【実施期間中】個別事業におけるPDCAシート!$F$7,,MATCH(別紙１_実施報告書!$C167,【実施期間中】個別事業におけるPDCAシート!$H$4:$V$4,0)+1,12,1),1),1,0)","v":0},{"$f":"COUNTIFS(AE171:AP171,1)+COUNTIFS(AE171:AP171,\"TRUE\")","v":0}]
[null,null,"訴求手法",null,"※訴求手法については、該当する欄にチェックしてください。"]
[{"$nulls":4},"a) 情報発信型（受動型）",{"$nulls":7},"b) 情報発信型（能動型）",{"$nulls":7},"c) 双方向体験交流型"]
[{"$nulls":4},"ラジオ、新聞・広報紙等",{"$nulls":7},"講演会・パネル展示等",{"$nulls":7},"試乗・体験会、省ｴﾈ診断等",{"$nulls":22},"a)","b)","c)"]
[{"$nulls":43},{"$f":"IF(COUNTIFS(【実施期間中】個別事業におけるPDCAシート!$E$19:$E$21,別紙１_実施報告書!AR174,OFFSET(【実施期間中】個別事業におけるPDCAシート!$F$19,,MATCH(別紙１_実施報告書!$C167,【実施期間中】個別事業におけるPDCAシート!$H$4:$V$4,0)+1,3,1),1),1,0)","v":0},{"$f":"IF(COUNTIFS(【実施期間中】個別事業におけるPDCAシート!$E$19:$E$21,別紙１_実施報告書!AS174,OFFSET(【実施期間中】個別事業におけるPDCAシート!$F$19,,MATCH(別紙１_実施報告書!$C167,【実施期間中】個別事業におけるPDCAシート!$H$4:$V$4,0)+1,3,1),1),1,0)","v":0},{"$f":"IF(COUNTIFS(【実施期間中】個別事業におけるPDCAシート!$E$19:$E$21,別紙１_実施報告書!AT174,OFFSET(【実施期間中】個別事業におけるPDCAシート!$F$19,,MATCH(別紙１_実施報告書!$C167,【実施期間中】個別事業におけるPDCAシート!$H$4:$V$4,0)+1,3,1),1),1,0)","v":0},{"$nulls":8},{"$f":"COUNTIFS(AR175:BB175,1)","v":0}]
[null,null,"実施期間",null,{"$f":"OFFSET(【実施期間中】個別事業におけるPDCAシート!$A$6,【実施期間中】個別事業におけるPDCAシート!$A$22,MATCH($C167,【実施期間中】個別事業におけるPDCAシート!$H$4:$V$4,0)+6)","v":""},{"$nulls":9},"～",{"$nulls":3},{"$f":"OFFSET(【実施期間中】個別事業におけるPDCAシート!$A$6,【実施期間中】個別事業におけるPDCAシート!$A$24,MATCH($C167,【実施期間中】個別事業におけるPDCAシート!$H$4:$V$4,0)+6)","v":""}]
[null,null,"（備考）",null,{"$f":"OFFSET(【実施期間中】個別事業におけるPDCAシート!$A$6,【実施期間中】個別事業におけるPDCAシート!$A$25,MATCH($C167,【実施期間中】個別事業におけるPDCAシート!$H$4:$V$4,0)+6)","v":""}]
[null,null,"実施日\n（※同一事業内で、\n同一の内容・場所において\n複数日実施する場合）",null,1,null,{"$f":"OFFSET(【実施期間中】個別事業におけるPDCAシート!$A$6,【実施期間中】個別事業におけるPDCAシート!$A$26,MATCH($C167,【実施期間中】個別事業におけるPDCAシート!$H$4:$V$4,0)+6)","v":""},{"$nulls":9},6,null,{"$f":"OFFSET(【実施期間中】個別事業におけるPDCAシート!$A$6,【実施期間中】個別事業におけるPDCAシート!$A$31,MATCH($C167,【実施期間中】個別事業におけるPDCAシート!$H$4:$V$4,0)+6)","v":""}]
[{"$nulls":4},2,null,{"$f":"OFFSET(【実施期間中】個別事業におけるPDCAシート!$A$6,【実施期間中】個別事業におけるPDCAシート!$A$27,MATCH($C167,【実施期間中】個別事業におけるPDCAシート!$H$4:$V$4,0)+6)","v":""},{"$nulls":9},7,null,{"$f":"OFFSET(【実施期間中】個別事業におけるPDCAシート!$A$6,【実施期間中】個別事業におけるPDCAシート!$A$32,MATCH($C167,【実施期間中】個別事業におけるPDCAシート!$H$4:$V$4,0)+6)","v":""}]
[{"$nulls":4},3,null,{"$f":"OFFSET(【実施期間中】個別事業におけるPDCAシート!$A$6,【実施期間中】個別事業におけるPDCAシート!$A$28,MATCH($C167,【実施期間中】個別事業におけるPDCAシート!$H$4:$V$4,0)+6)","v":""},{"$nulls":9},8,null,{"$f":"OFFSET(【実施期間中】個別事業におけるPDCAシート!$A$6,【実施期間中】個別事業におけるPDCAシート!$A$33,MATCH($C167,【実施期間中】個別事業におけるPDCAシート!$H$4:$V$4,0)+6)","v":""}]
[{"$nulls":4},4,null,{"$f":"OFFSET(【実施期間中】個別事業におけるPDCAシート!$A$6,【実施期間中】個別事業におけるPDCAシート!$A$29,MATCH($C167,【実施期間中】個別事業におけるPDCAシート!$H$4:$V$4,0)+6)","v":""},{"$nulls":9},9,null,{"$f":"OFFSET(【実施期間中】個別事業におけるPDCAシート!$A$6,【実施期間中】個別事業におけるPDCAシート!$A$34,MATCH($C167,【実施期間中】個別事業におけるPDCAシート!$H$4:$V$4,0)+6)","v":""}]
[{"$nulls":4},5,null,{"$f":"OFFSET(【実施期間中】個別事業におけるPDCAシート!$A$6,【実施期間中】個別事業におけるPDCAシート!$A$30,MATCH($C167,【実施期間中】個別事業におけるPDCAシート!$H$4:$V$4,0)+6)","v":""},{"$nulls":9},10,null,{"$f":"OFFSET(【実施期間中】個別事業におけるPDCAシート!$A$6,【実施期間中】個別事業におけるPDCAシート!$A$35,MATCH($C167,【実施期間中】個別事業におけるPDCAシート!$H$4:$V$4,0)+6)","v":""}]
[null,null,"事業の概要",null,{"$f":"OFFSET(【実施期間中】個別事業におけるPDCAシート!$A$6,【実施期間中】個別事業におけるPDCAシート!$A$36,MATCH($C167,【実施期間中】個別事業におけるPDCAシート!$H$4:$V$4,0)+6)","v":""}]
[null,null,"指定自治体等との連携",null,{"$f":"別紙１_実施計画書!E179","v":0}]
[null,null,"実施結果",null,{"$f":"OFFSET(【実施期間中】個別事業におけるPDCAシート!$A$6,【実施期間中】個別事業におけるPDCAシート!$A$38,MATCH($C167,【実施期間中】個別事業におけるPDCAシート!$H$4:$V$4,0)+6)","v":0}]
[]
[null,null,"主な訴求対象","計画",{"$f":"OFFSET(【実施期間中】個別事業におけるPDCAシート!$A$6,【実施期間中】個別事業におけるPDCAシート!$A$39,MATCH($C167,【実施期間中】個別事業におけるPDCAシート!$H$4:$V$4,0)+6)","v":""}]
[{"$nulls":3},"結果",{"$f":"OFFSET(【実施期間中】個別事業におけるPDCAシート!$A$6,【実施期間中】個別事業におけるPDCAシート!$A$40,MATCH($C167,【実施期間中】個別事業におけるPDCAシート!$H$4:$V$4,0)+6)","v":0}]
[null,null,"目標アウトプット\n（リーチ数）\n（想定及び実績）",null,"カテゴリ①（プルダウン選択）⇒",{"$nulls":10},{"$f":"OFFSET(【実施期間中】個別事業におけるPDCAシート!$A$6,【実施期間中】個別事業におけるPDCAシート!$A$41,MATCH($C167,【実施期間中】個別事業におけるPDCAシート!$H$4:$V$4,0)+6)","v":""}]
[{"$nulls":4},"計画値",{"$nulls":3},"計",null,{"$f":"別紙１_実施計画書!K185","v":{"v":0,"d":"0名"}}]
[{"$nulls":4},"実績値",{"$nulls":3},"計",null,{"$f":"OFFSET(【実施期間中】個別事業におけるPDCAシート!$A$6,【実施期間中】個別事業におけるPDCAシート!$A$44,MATCH($C167,【実施期間中】個別事業におけるPDCAシート!$H$4:$V$4,0)+6)","v":{"v":0,"d":"0名"}}]
[{"$nulls":4},"算出根拠",{"$nulls":3},{"$f":"OFFSET(【実施期間中】個別事業におけるPDCAシート!$A$6,【実施期間中】個別事業におけるPDCAシート!$A$45,MATCH($C167,【実施期間中】個別事業におけるPDCAシート!$H$4:$V$4,0)+6)","v":""}]
[{"$nulls":4},"カテゴリ②（プルダウン選択）⇒",{"$nulls":10},{"$f":"OFFSET(【実施期間中】個別事業におけるPDCAシート!$A$6,【実施期間中】個別事業におけるPDCAシート!$A$46,MATCH($C167,【実施期間中】個別事業におけるPDCAシート!$H$4:$V$4,0)+6)","v":""}]
[{"$nulls":4},"計画値",{"$nulls":3},"計",null,{"$f":"別紙１_実施計画書!K189","v":{"v":0,"d":"0名"}}]
[{"$nulls":4},"実績値",{"$nulls":3},"計",null,{"$f":"OFFSET(【実施期間中】個別事業におけるPDCAシート!$A$6,【実施期間中】個別事業におけるPDCAシート!$A$49,MATCH($C167,【実施期間中】個別事業におけるPDCAシート!$H$4:$V$4,0)+6)","v":{"v":0,"d":"0名"}}]
[{"$nulls":4},"算出根拠",{"$nulls":3},{"$f":"OFFSET(【実施期間中】個別事業におけるPDCAシート!$A$6,【実施期間中】個別事業におけるPDCAシート!$A$50,MATCH($C167,【実施期間中】個別事業におけるPDCAシート!$H$4:$V$4,0)+6)","v":""}]
[null,null,"目標アウトカム\n（想定及び実績）",null,"計画",{"$nulls":3},{"$f":"OFFSET(【実施期間中】個別事業におけるPDCAシート!$A$6,【実施期間中】個別事業におけるPDCAシート!$A$51,MATCH($C167,【実施期間中】個別事業におけるPDCAシート!$H$4:$V$4,0)+6)","v":""}]
[{"$nulls":4},"実績"]
[null,null,"賛同数（想定及び実績）",null,"計画値",{"$nulls":3},"団体",null,{"$f":"OFFSET(【実施期間中】個別事業におけるPDCAシート!$A$6,【実施期間中】個別事業におけるPDCAシート!$A$54,MATCH($C167,【実施期間中】個別事業におけるPDCAシート!$H$4:$V$4,0)+6)","v":{"v":0,"d":"0団体"}},{"$nulls":4},"、個人",null,{"$f":"OFFSET(【実施期間中】個別事業におけるPDCAシート!$A$6,【実施期間中】個別事業におけるPDCAシート!$A$57,MATCH($C167,【実施期間中】個別事業におけるPDCAシート!$H$4:$V$4,0)+6)","v":{"v":0,"d":"0名"}}]
[{"$nulls":4},"実績値",{"$nulls":3},"団体",null,{"$f":"OFFSET(【実施期間中】個別事業におけるPDCAシート!$A$6,【実施期間中】個別事業におけるPDCAシート!$A$55,MATCH($C167,【実施期間中】個別事業におけるPDCAシート!$H$4:$V$4,0)+6)","v":{"v":0,"d":"0団体"}},{"$nulls":4},"、個人",null,{"$f":"OFFSET(【実施期間中】個別事業におけるPDCAシート!$A$6,【実施期間中】個別事業におけるPDCAシート!$A$58,MATCH($C167,【実施期間中】個別事業におけるPDCAシート!$H$4:$V$4,0)+6)","v":{"v":0,"d":"0名"}}]
[null,null,"効果検証\n（アンケート）予定",null,"※アンケートの実施予定をプルダウンより選択してください。"]
[{"$nulls":4},"公募要領に規定のアンケート",{"$nulls":16},"貴事業者独自のアンケート"]
[{"$nulls":4},"省エネ機器",{"$nulls":3},"省エネ住宅",{"$nulls":3},"エコドライブ",{"$nulls":3},"低炭素物流（宅配便の再配達防止）"]
[{"$nulls":4},{"$f":"OFFSET(【実施期間中】個別事業におけるPDCAシート!$A$6,【実施期間中】個別事業におけるPDCAシート!$A$59,MATCH($C167,【実施期間中】個別事業におけるPDCAシート!$H$4:$V$4,0)+6)","v":"- 選択 -"},{"$nulls":3},{"$f":"OFFSET(【実施期間中】個別事業におけるPDCAシート!$A$6,【実施期間中】個別事業におけるPDCAシート!$A$60,MATCH($C167,【実施期間中】個別事業におけるPDCAシート!$H$4:$V$4,0)+6)","v":"- 選択 -"},{"$nulls":3},{"$f":"OFFSET(【実施期間中】個別事業におけるPDCAシート!$A$6,【実施期間中】個別事業におけるPDCAシート!$A$61,MATCH($C167,【実施期間中】個別事業におけるPDCAシート!$H$4:$V$4,0)+6)","v":"- 選択 -"},{"$nulls":3},{"$f":"OFFSET(【実施期間中】個別事業におけるPDCAシート!$A$6,【実施期間中】個別事業におけるPDCAシート!$A$62,MATCH($C167,【実施期間中】個別事業におけるPDCAシート!$H$4:$V$4,0)+6)","v":"- 選択 -"},{"$nulls":4},{"$f":"OFFSET(【実施期間中】個別事業におけるPDCAシート!$A$6,【実施期間中】個別事業におけるPDCAシート!$A$63,MATCH($C167,【実施期間中】個別事業におけるPDCAシート!$H$4:$V$4,0)+6)","v":"- 選択 -"}]
[{"$nulls":4},"内容（",{"$nulls":3},{"$f":"OFFSET(【実施期間中】個別事業におけるPDCAシート!$A$6,【実施期間中】個別事業におけるPDCAシート!$A$64,MATCH($C167,【実施期間中】個別事業におけるPDCAシート!$H$4:$V$4,0)+6)","v":""},{"$nulls":18},"）"]
[{"$nulls":4},"目標回収数",{"$nulls":3},"計",{"$f":"OFFSET(【実施期間中】個別事業におけるPDCAシート!$A$6,【実施期間中】個別事業におけるPDCAシート!$A$66,MATCH($C167,【実施期間中】個別事業におけるPDCAシート!$H$4:$V$4,0)+6)","v":0},null,null,"枚",null,"※複数ある場合は、平均アンケート回収数"]
[{"$nulls":4},"実績値",{"$nulls":3},"計",{"$f":"OFFSET(【実施期間中】個別事業におけるPDCAシート!$A$6,【実施期間中】個別事業におけるPDCAシート!$A$67,MATCH($C167,【実施期間中】個別事業におけるPDCAシート!$H$4:$V$4,0)+6)","v":0},null,null,"枚",null,"※複数ある場合は、平均アンケート回収数"]
[]
[null,null,"項目",null,"内容"]
[null,null,"事業5","事業名",{"$f":"OFFSET(【実施期間中】個別事業におけるPDCAシート!$A$6,,MATCH(C210,【実施期間中】個別事業におけるPDCAシート!$H$4:$V$4,0)+6)","v":0}]
[null,null,"普及啓発テーマ",null,"※該当する普及啓発テーマすべてをチェックしてください。"]
[{"$nulls":4},"①",null,"②",null,"③",null,"④",null,"⑤",null,"⑥",null,"⑦",null,"⑧",null,"⑨",null,"⑩",null,"⑪",null,"⑫",{"$nulls":3},"①","②","③","④","⑤","⑥","⑦","⑧","⑨","⑩","⑪","⑫"]
[{"$nulls":4},"省ｴﾈ機器",null,"省ｴﾈ住宅",null,"ｴｺｶｰ",null,"ｸｰﾙﾋﾞｽﾞ",null,"ｳｫｰﾑﾋﾞｽﾞ",null,"照明の\n高効率利用",null,"ｴｺﾄﾞﾗｲﾌﾞ",null,"ｶｰｼｪｱ",null,"公共交通\n機関の利用",null,"再配達防止",null,"シェアエコ",null,"地球温暖化",{"$nulls":3},"省ｴﾈ機器","省ｴﾈ住宅","ｴｺｶｰ","ｸｰﾙﾋﾞｽﾞ","ｳｫｰﾑﾋﾞｽﾞ","照明の\n高効率利用","ｴｺﾄﾞﾗｲﾌﾞ","ｶｰｼｪｱ","公共交通\n機関の利用","再配達防止","シェアエコ","地球温暖化"]
[{"$nulls":30},{"$f":"IF(COUNTIFS(【実施期間中】個別事業におけるPDCAシート!$E$7:$E$17,別紙１_実施報告書!AE212,OFFSET(【実施期間中】個別事業におけるPDCAシート!$F$7,,MATCH(別紙１_実施報告書!$C210,【実施期間中】個別事業におけるPDCAシート!$H$4:$V$4,0)+1,11,1),1),1,0)","v":0},{"$f":"IF(COUNTIFS(【実施期間中】個別事業におけるPDCAシート!$E$7:$E$17,別紙１_実施報告書!AF212,OFFSET(【実施期間中】個別事業におけるPDCAシート!$F$7,,MATCH(別紙１_実施報告書!$C210,【実施期間中】個別事業におけるPDCAシート!$H$4:$V$4,0)+1,11,1),1),1,0)","v":0},{"$f":"IF(COUNTIFS(【実施期間中】個別事業におけるPDCAシート!$E$7:$E$17,別紙１_実施報告書!AG212,OFFSET(【実施期間中】個別事業におけるPDCAシート!$F$7,,MATCH(別紙１_実施報告書!$C210,【実施期間中】個別事業におけるPDCAシート!$H$4:$V$4,0)+1,11,1),1),1,0)","v":0},{"$f":"IF(COUNTIFS(【実施期間中】個別事業におけるPDCAシート!$E$7:$E$17,別紙１_実施報告書!AH212,OFFSET(【実施期間中】個別事業におけるPDCAシート!$F$7,,MATCH(別紙１_実施報告書!$C210,【実施期間中】個別事業におけるPDCAシート!$H$4:$V$4,0)+1,11,1),1),1,0)","v":0},{"$f":"IF(COUNTIFS(【実施期間中】個別事業におけるPDCAシート!$E$7:$E$17,別紙１_実施報告書!AI212,OFFSET(【実施期間中】個別事業におけるPDCAシート!$F$7,,MATCH(別紙１_実施報告書!$C210,【実施期間中】個別事業におけるPDCAシート!$H$4:$V$4,0)+1,11,1),1),1,0)","v":0},{"$f":"IF(COUNTIFS(【実施期間中】個別事業におけるPDCAシート!$E$7:$E$17,別紙１_実施報告書!AJ212,OFFSET(【実施期間中】個別事業におけるPDCAシート!$F$7,,MATCH(別紙１_実施報告書!$C210,【実施期間中】個別事業におけるPDCAシート!$H$4:$V$4,0)+1,11,1),1),1,0)","v":0},{"$f":"IF(COUNTIFS(【実施期間中】個別事業におけるPDCAシート!$E$7:$E$17,別紙１_実施報告書!AK212,OFFSET(【実施期間中】個別事業におけるPDCAシート!$F$7,,MATCH(別紙１_実施報告書!$C210,【実施期間中】個別事業におけるPDCAシート!$H$4:$V$4,0)+1,11,1),1),1,0)","v":0},{"$f":"IF(COUNTIFS(【実施期間中】個別事業におけるPDCAシート!$E$7:$E$17,別紙１_実施報告書!AL212,OFFSET(【実施期間中】個別事業におけるPDCAシート!$F$7,,MATCH(別紙１_実施報告書!$C210,【実施期間中】個別事業におけるPDCAシート!$H$4:$V$4,0)+1,11,1),1),1,0)","v":0},{"$f":"IF(COUNTIFS(【実施期間中】個別事業におけるPDCAシート!$E$7:$E$17,別紙１_実施報告書!AM212,OFFSET(【実施期間中】個別事業におけるPDCAシート!$F$7,,MATCH(別紙１_実施報告書!$C210,【実施期間中】個別事業におけるPDCAシート!$H$4:$V$4,0)+1,11,1),1),1,0)","v":0},{"$f":"IF(COUNTIFS(【実施期間中】個別事業におけるPDCAシート!$E$7:$E$17,別紙１_実施報告書!AN212,OFFSET(【実施期間中】個別事業におけるPDCAシート!$F$7,,MATCH(別紙１_実施報告書!$C210,【実施期間中】個別事業におけるPDCAシート!$H$4:$V$4,0)+1,11,1),1),1,0)","v":0},{"$f":"IF(COUNTIFS(【実施期間中】個別事業におけるPDCAシート!$E$7:$E$17,別紙１_実施報告書!AO212,OFFSET(【実施期間中】個別事業におけるPDCAシート!$F$7,,MATCH(別紙１_実施報告書!$C210,【実施期間中】個別事業におけるPDCAシート!$H$4:$V$4,0)+1,11,1),1),1,0)","v":0},{"$f":"IF(COUNTIFS(【実施期間中】個別事業におけるPDCAシート!$E$7:$E$18,別紙１_実施報告書!AP212,OFFSET(【実施期間中】個別事業におけるPDCAシート!$F$7,,MATCH(別紙１_実施報告書!$C210,【実施期間中】個別事業におけるPDCAシート!$H$4:$V$4,0)+1,12,1),1),1,0)","v":0},{"$f":"COUNTIFS(AE214:AP214,1)+COUNTIFS(AE214:AP214,\"TRUE\")","v":0}]
[null,null,"訴求手法",null,"※訴求手法については、該当する欄にチェックしてください。"]
[{"$nulls":4},"a) 情報発信型（受動型）",{"$nulls":7},"b) 情報発信型（能動型）",{"$nulls":7},"c) 双方向体験交流型"]
[{"$nulls":4},"ラジオ、新聞・広報紙等",{"$nulls":7},"講演会・パネル展示等",{"$nulls":7},"試乗・体験会、省ｴﾈ診断等",{"$nulls":22},"a)","b)","c)"]
[{"$nulls":43},{"$f":"IF(COUNTIFS(【実施期間中】個別事業におけるPDCAシート!$E$19:$E$21,別紙１_実施報告書!AR217,OFFSET(【実施期間中】個別事業におけるPDCAシート!$F$19,,MATCH(別紙１_実施報告書!$C210,【実施期間中】個別事業におけるPDCAシート!$H$4:$V$4,0)+1,3,1),1),1,0)","v":0},{"$f":"IF(COUNTIFS(【実施期間中】個別事業におけるPDCAシート!$E$19:$E$21,別紙１_実施報告書!AS217,OFFSET(【実施期間中】個別事業におけるPDCAシート!$F$19,,MATCH(別紙１_実施報告書!$C210,【実施期間中】個別事業におけるPDCAシート!$H$4:$V$4,0)+1,3,1),1),1,0)","v":0},{"$f":"IF(COUNTIFS(【実施期間中】個別事業におけるPDCAシート!$E$19:$E$21,別紙１_実施報告書!AT217,OFFSET(【実施期間中】個別事業におけるPDCAシート!$F$19,,MATCH(別紙１_実施報告書!$C210,【実施期間中】個別事業におけるPDCAシート!$H$4:$V$4,0)+1,3,1),1),1,0)","v":0},{"$nulls":8},{"$f":"COUNTIFS(AR218:BB218,1)","v":0}]
[null,null,"実施期間",null,{"$f":"OFFSET(【実施期間中】個別事業におけるPDCAシート!$A$6,【実施期間中】個別事業におけるPDCAシート!$A$22,MATCH($C210,【実施期間中】個別事業におけるPDCAシート!$H$4:$V$4,0)+6)","v":""},{"$nulls":9},"～",{"$nulls":3},{"$f":"OFFSET(【実施期間中】個別事業におけるPDCAシート!$A$6,【実施期間中】個別事業におけるPDCAシート!$A$24,MATCH($C210,【実施期間中】個別事業におけるPDCAシート!$H$4:$V$4,0)+6)","v":""}]
[null,null,"（備考）",null,{"$f":"OFFSET(【実施期間中】個別事業におけるPDCAシート!$A$6,【実施期間中】個別事業におけるPDCAシート!$A$25,MATCH($C210,【実施期間中】個別事業におけるPDCAシート!$H$4:$V$4,0)+6)","v":""}]
[null,null,"実施日\n（※同一事業内で、\n同一の内容・場所において\n複数日実施する場合）",null,1,null,{"$f":"OFFSET(【実施期間中】個別事業におけるPDCAシート!$A$6,【実施期間中】個別事業におけるPDCAシート!$A$26,MATCH($C210,【実施期間中】個別事業におけるPDCAシート!$H$4:$V$4,0)+6)","v":""},{"$nulls":9},6,null,{"$f":"OFFSET(【実施期間中】個別事業におけるPDCAシート!$A$6,【実施期間中】個別事業におけるPDCAシート!$A$31,MATCH($C210,【実施期間中】個別事業におけるPDCAシート!$H$4:$V$4,0)+6)","v":""}]
[{"$nulls":4},2,null,{"$f":"OFFSET(【実施期間中】個別事業におけるPDCAシート!$A$6,【実施期間中】個別事業におけるPDCAシート!$A$27,MATCH($C210,【実施期間中】個別事業におけるPDCAシート!$H$4:$V$4,0)+6)","v":""},{"$nulls":9},7,null,{"$f":"OFFSET(【実施期間中】個別事業におけるPDCAシート!$A$6,【実施期間中】個別事業におけるPDCAシート!$A$32,MATCH($C210,【実施期間中】個別事業におけるPDCAシート!$H$4:$V$4,0)+6)","v":""}]
[{"$nulls":4},3,null,{"$f":"OFFSET(【実施期間中】個別事業におけるPDCAシート!$A$6,【実施期間中】個別事業におけるPDCAシート!$A$28,MATCH($C210,【実施期間中】個別事業におけるPDCAシート!$H$4:$V$4,0)+6)","v":""},{"$nulls":9},8,null,{"$f":"OFFSET(【実施期間中】個別事業におけるPDCAシート!$A$6,【実施期間中】個別事業におけるPDCAシート!$A$33,MATCH($C210,【実施期間中】個別事業におけるPDCAシート!$H$4:$V$4,0)+6)","v":""}]
[{"$nulls":4},4,null,{"$f":"OFFSET(【実施期間中】個別事業におけるPDCAシート!$A$6,【実施期間中】個別事業におけるPDCAシート!$A$29,MATCH($C210,【実施期間中】個別事業におけるPDCAシート!$H$4:$V$4,0)+6)","v":""},{"$nulls":9},9,null,{"$f":"OFFSET(【実施期間中】個別事業におけるPDCAシート!$A$6,【実施期間中】個別事業におけるPDCAシート!$A$34,MATCH($C210,【実施期間中】個別事業におけるPDCAシート!$H$4:$V$4,0)+6)","v":""}]
[{"$nulls":4},5,null,{"$f":"OFFSET(【実施期間中】個別事業におけるPDCAシート!$A$6,【実施期間中】個別事業におけるPDCAシート!$A$30,MATCH($C210,【実施期間中】個別事業におけるPDCAシート!$H$4:$V$4,0)+6)","v":""},{"$nulls":9},10,null,{"$f":"OFFSET(【実施期間中】個別事業におけるPDCAシート!$A$6,【実施期間中】個別事業におけるPDCAシート!$A$35,MATCH($C210,【実施期間中】個別事業におけるPDCAシート!$H$4:$V$4,0)+6)","v":""}]
[null,null,"事業の概要",null,{"$f":"OFFSET(【実施期間中】個別事業におけるPDCAシート!$A$6,【実施期間中】個別事業におけるPDCAシート!$A$36,MATCH($C210,【実施期間中】個別事業におけるPDCAシート!$H$4:$V$4,0)+6)","v":""}]
[null,null,"指定自治体等との連携",null,{"$f":"別紙１_実施計画書!E220","v":0}]
[null,null,"実施結果",null,{"$f":"OFFSET(【実施期間中】個別事業におけるPDCAシート!$A$6,【実施期間中】個別事業におけるPDCAシート!$A$38,MATCH($C210,【実施期間中】個別事業におけるPDCAシート!$H$4:$V$4,0)+6)","v":0}]
[]
[null,null,"主な訴求対象","計画",{"$f":"OFFSET(【実施期間中】個別事業におけるPDCAシート!$A$6,【実施期間中】個別事業におけるPDCAシート!$A$39,MATCH($C210,【実施期間中】個別事業におけるPDCAシート!$H$4:$V$4,0)+6)","v":""}]
[{"$nulls":3},"結果",{"$f":"OFFSET(【実施期間中】個別事業におけるPDCAシート!$A$6,【実施期間中】個別事業におけるPDCAシート!$A$40,MATCH($C210,【実施期間中】個別事業におけるPDCAシート!$H$4:$V$4,0)+6)","v":0}]
[null,null,"目標アウトプット\n（リーチ数）\n（想定及び実績）",null,"カテゴリ①（プルダウン選択）⇒",{"$nulls":10},{"$f":"OFFSET(【実施期間中】個別事業におけるPDCAシート!$A$6,【実施期間中】個別事業におけるPDCAシート!$A$41,MATCH($C210,【実施期間中】個別事業におけるPDCAシート!$H$4:$V$4,0)+6)","v":""}]
[{"$nulls":4},"計画値",{"$nulls":3},"計",null,{"$f":"別紙１_実施計画書!K226","v":{"v":0,"d":"0名"}}]
[{"$nulls":4},"実績値",{"$nulls":3},"計",null,{"$f":"OFFSET(【実施期間中】個別事業におけるPDCAシート!$A$6,【実施期間中】個別事業におけるPDCAシート!$A$44,MATCH($C210,【実施期間中】個別事業におけるPDCAシート!$H$4:$V$4,0)+6)","v":{"v":0,"d":"0名"}}]
[{"$nulls":4},"算出根拠",{"$nulls":3},{"$f":"OFFSET(【実施期間中】個別事業におけるPDCAシート!$A$6,【実施期間中】個別事業におけるPDCAシート!$A$45,MATCH($C210,【実施期間中】個別事業におけるPDCAシート!$H$4:$V$4,0)+6)","v":""}]
[{"$nulls":4},"カテゴリ②（プルダウン選択）⇒",{"$nulls":10},{"$f":"OFFSET(【実施期間中】個別事業におけるPDCAシート!$A$6,【実施期間中】個別事業におけるPDCAシート!$A$46,MATCH($C210,【実施期間中】個別事業におけるPDCAシート!$H$4:$V$4,0)+6)","v":""}]
[{"$nulls":4},"計画値",{"$nulls":3},"計",null,{"$f":"別紙１_実施計画書!K230","v":{"v":0,"d":"0名"}}]
[{"$nulls":4},"実績値",{"$nulls":3},"計",null,{"$f":"OFFSET(【実施期間中】個別事業におけるPDCAシート!$A$6,【実施期間中】個別事業におけるPDCAシート!$A$49,MATCH($C210,【実施期間中】個別事業におけるPDCAシート!$H$4:$V$4,0)+6)","v":{"v":0,"d":"0名"}}]
[{"$nulls":4},"算出根拠",{"$nulls":3},{"$f":"OFFSET(【実施期間中】個別事業におけるPDCAシート!$A$6,【実施期間中】個別事業におけるPDCAシート!$A$50,MATCH($C210,【実施期間中】個別事業におけるPDCAシート!$H$4:$V$4,0)+6)","v":""}]
[null,null,"目標アウトカム\n（想定及び実績）",null,"計画",{"$nulls":3},{"$f":"OFFSET(【実施期間中】個別事業におけるPDCAシート!$A$6,【実施期間中】個別事業におけるPDCAシート!$A$51,MATCH($C210,【実施期間中】個別事業におけるPDCAシート!$H$4:$V$4,0)+6)","v":""}]
[{"$nulls":4},"実績"]
[null,null,"賛同数（想定及び実績）",null,"計画値",{"$nulls":3},"団体",null,{"$f":"OFFSET(【実施期間中】個別事業におけるPDCAシート!$A$6,【実施期間中】個別事業におけるPDCAシート!$A$54,MATCH($C210,【実施期間中】個別事業におけるPDCAシート!$H$4:$V$4,0)+6)","v":{"v":0,"d":"0団体"}},{"$nulls":4},"、個人",null,{"$f":"OFFSET(【実施期間中】個別事業におけるPDCAシート!$A$6,【実施期間中】個別事業におけるPDCAシート!$A$57,MATCH($C210,【実施期間中】個別事業におけるPDCAシート!$H$4:$V$4,0)+6)","v":{"v":0,"d":"0名"}}]
[{"$nulls":4},"実績値",{"$nulls":3},"団体",null,{"$f":"OFFSET(【実施期間中】個別事業におけるPDCAシート!$A$6,【実施期間中】個別事業におけるPDCAシート!$A$55,MATCH($C210,【実施期間中】個別事業におけるPDCAシート!$H$4:$V$4,0)+6)","v":{"v":0,"d":"0団体"}},{"$nulls":4},"、個人",null,{"$f":"OFFSET(【実施期間中】個別事業におけるPDCAシート!$A$6,【実施期間中】個別事業におけるPDCAシート!$A$58,MATCH($C210,【実施期間中】個別事業におけるPDCAシート!$H$4:$V$4,0)+6)","v":{"v":0,"d":"0名"}}]
[null,null,"効果検証\n（アンケート）予定",null,"※アンケートの実施予定をプルダウンより選択してください。"]
[{"$nulls":4},"公募要領に規定のアンケート",{"$nulls":16},"貴事業者独自のアンケート"]
[{"$nulls":4},"省エネ機器",{"$nulls":3},"省エネ住宅",{"$nulls":3},"エコドライブ",{"$nulls":3},"低炭素物流（宅配便の再配達防止）"]
[{"$nulls":4},{"$f":"OFFSET(【実施期間中】個別事業におけるPDCAシート!$A$6,【実施期間中】個別事業におけるPDCAシート!$A$59,MATCH($C210,【実施期間中】個別事業におけるPDCAシート!$H$4:$V$4,0)+6)","v":"- 選択 -"},{"$nulls":3},{"$f":"OFFSET(【実施期間中】個別事業におけるPDCAシート!$A$6,【実施期間中】個別事業におけるPDCAシート!$A$60,MATCH($C210,【実施期間中】個別事業におけるPDCAシート!$H$4:$V$4,0)+6)","v":"- 選択 -"},{"$nulls":3},{"$f":"OFFSET(【実施期間中】個別事業におけるPDCAシート!$A$6,【実施期間中】個別事業におけるPDCAシート!$A$61,MATCH($C210,【実施期間中】個別事業におけるPDCAシート!$H$4:$V$4,0)+6)","v":"- 選択 -"},{"$nulls":3},{"$f":"OFFSET(【実施期間中】個別事業におけるPDCAシート!$A$6,【実施期間中】個別事業におけるPDCAシート!$A$62,MATCH($C210,【実施期間中】個別事業におけるPDCAシート!$H$4:$V$4,0)+6)","v":"- 選択 -"},{"$nulls":4},{"$f":"OFFSET(【実施期間中】個別事業におけるPDCAシート!$A$6,【実施期間中】個別事業におけるPDCAシート!$A$63,MATCH($C210,【実施期間中】個別事業におけるPDCAシート!$H$4:$V$4,0)+6)","v":"- 選択 -"}]
[{"$nulls":4},"内容（",null,{"$f":"OFFSET(【実施期間中】個別事業におけるPDCAシート!$A$6,【実施期間中】個別事業におけるPDCAシート!$A$64,MATCH($C210,【実施期間中】個別事業におけるPDCAシート!$H$4:$V$4,0)+6)","v":""},{"$nulls":20},"）"]
[{"$nulls":4},"目標回収数",{"$nulls":3},"計",{"$f":"OFFSET(【実施期間中】個別事業におけるPDCAシート!$A$6,【実施期間中】個別事業におけるPDCAシート!$A$66,MATCH($C210,【実施期間中】個別事業におけるPDCAシート!$H$4:$V$4,0)+6)","v":0},null,null,"枚",null,"※複数ある場合は、平均アンケート回収数"]
[{"$nulls":4},"実績値",{"$nulls":3},"計",{"$f":"OFFSET(【実施期間中】個別事業におけるPDCAシート!$A$6,【実施期間中】個別事業におけるPDCAシート!$A$67,MATCH($C210,【実施期間中】個別事業におけるPDCAシート!$H$4:$V$4,0)+6)","v":0},null,null,"枚",null,"※複数ある場合は、平均アンケート回収数"]
[]
[null,null,"項目",null,"内容"]
[null,null,"事業6","事業名",{"$f":"OFFSET(【実施期間中】個別事業におけるPDCAシート!$A$6,,MATCH(C253,【実施期間中】個別事業におけるPDCAシート!$H$4:$V$4,0)+6)","v":0}]
[null,null,"普及啓発テーマ",null,"※該当する普及啓発テーマすべてをチェックしてください。"]
[{"$nulls":4},"①",null,"②",null,"③",null,"④",null,"⑤",null,"⑥",null,"⑦",null,"⑧",null,"⑨",null,"⑩",null,"⑪",null,"⑫",{"$nulls":3},"①","②","③","④","⑤","⑥","⑦","⑧","⑨","⑩","⑪","⑫"]
[{"$nulls":4},"省ｴﾈ機器",null,"省ｴﾈ住宅",null,"ｴｺｶｰ",null,"ｸｰﾙﾋﾞｽﾞ",null,"ｳｫｰﾑﾋﾞｽﾞ",null,"照明の\n高効率利用",null,"ｴｺﾄﾞﾗｲﾌﾞ",null,"ｶｰｼｪｱ",null,"公共交通\n機関の利用",null,"再配達防止",null,"シェアエコ",null,"地球温暖化",{"$nulls":3},"省ｴﾈ機器","省ｴﾈ住宅","ｴｺｶｰ","ｸｰﾙﾋﾞｽﾞ","ｳｫｰﾑﾋﾞｽﾞ","照明の\n高効率利用","ｴｺﾄﾞﾗｲﾌﾞ","ｶｰｼｪｱ","公共交通\n機関の利用","再配達防止","シェアエコ","地球温暖化"]
[{"$nulls":30},{"$f":"IF(COUNTIFS(【実施期間中】個別事業におけるPDCAシート!$E$7:$E$17,別紙１_実施報告書!AE255,OFFSET(【実施期間中】個別事業におけるPDCAシート!$F$7,,MATCH(別紙１_実施報告書!$C253,【実施期間中】個別事業におけるPDCAシート!$H$4:$V$4,0)+1,11,1),1),1,0)","v":0},{"$f":"IF(COUNTIFS(【実施期間中】個別事業におけるPDCAシート!$E$7:$E$17,別紙１_実施報告書!AF255,OFFSET(【実施期間中】個別事業におけるPDCAシート!$F$7,,MATCH(別紙１_実施報告書!$C253,【実施期間中】個別事業におけるPDCAシート!$H$4:$V$4,0)+1,11,1),1),1,0)","v":0},{"$f":"IF(COUNTIFS(【実施期間中】個別事業におけるPDCAシート!$E$7:$E$17,別紙１_実施報告書!AG255,OFFSET(【実施期間中】個別事業におけるPDCAシート!$F$7,,MATCH(別紙１_実施報告書!$C253,【実施期間中】個別事業におけるPDCAシート!$H$4:$V$4,0)+1,11,1),1),1,0)","v":0},{"$f":"IF(COUNTIFS(【実施期間中】個別事業におけるPDCAシート!$E$7:$E$17,別紙１_実施報告書!AH255,OFFSET(【実施期間中】個別事業におけるPDCAシート!$F$7,,MATCH(別紙１_実施報告書!$C253,【実施期間中】個別事業におけるPDCAシート!$H$4:$V$4,0)+1,11,1),1),1,0)","v":0},{"$f":"IF(COUNTIFS(【実施期間中】個別事業におけるPDCAシート!$E$7:$E$17,別紙１_実施報告書!AI255,OFFSET(【実施期間中】個別事業におけるPDCAシート!$F$7,,MATCH(別紙１_実施報告書!$C253,【実施期間中】個別事業におけるPDCAシート!$H$4:$V$4,0)+1,11,1),1),1,0)","v":0},{"$f":"IF(COUNTIFS(【実施期間中】個別事業におけるPDCAシート!$E$7:$E$17,別紙１_実施報告書!AJ255,OFFSET(【実施期間中】個別事業におけるPDCAシート!$F$7,,MATCH(別紙１_実施報告書!$C253,【実施期間中】個別事業におけるPDCAシート!$H$4:$V$4,0)+1,11,1),1),1,0)","v":0},{"$f":"IF(COUNTIFS(【実施期間中】個別事業におけるPDCAシート!$E$7:$E$17,別紙１_実施報告書!AK255,OFFSET(【実施期間中】個別事業におけるPDCAシート!$F$7,,MATCH(別紙１_実施報告書!$C253,【実施期間中】個別事業におけるPDCAシート!$H$4:$V$4,0)+1,11,1),1),1,0)","v":0},{"$f":"IF(COUNTIFS(【実施期間中】個別事業におけるPDCAシート!$E$7:$E$17,別紙１_実施報告書!AL255,OFFSET(【実施期間中】個別事業におけるPDCAシート!$F$7,,MATCH(別紙１_実施報告書!$C253,【実施期間中】個別事業におけるPDCAシート!$H$4:$V$4,0)+1,11,1),1),1,0)","v":0},{"$f":"IF(COUNTIFS(【実施期間中】個別事業におけるPDCAシート!$E$7:$E$17,別紙１_実施報告書!AM255,OFFSET(【実施期間中】個別事業におけるPDCAシート!$F$7,,MATCH(別紙１_実施報告書!$C253,【実施期間中】個別事業におけるPDCAシート!$H$4:$V$4,0)+1,11,1),1),1,0)","v":0},{"$f":"IF(COUNTIFS(【実施期間中】個別事業におけるPDCAシート!$E$7:$E$17,別紙１_実施報告書!AN255,OFFSET(【実施期間中】個別事業におけるPDCAシート!$F$7,,MATCH(別紙１_実施報告書!$C253,【実施期間中】個別事業におけるPDCAシート!$H$4:$V$4,0)+1,11,1),1),1,0)","v":0},{"$f":"IF(COUNTIFS(【実施期間中】個別事業におけるPDCAシート!$E$7:$E$17,別紙１_実施報告書!AO255,OFFSET(【実施期間中】個別事業におけるPDCAシート!$F$7,,MATCH(別紙１_実施報告書!$C253,【実施期間中】個別事業におけるPDCAシート!$H$4:$V$4,0)+1,11,1),1),1,0)","v":0},{"$f":"IF(COUNTIFS(【実施期間中】個別事業におけるPDCAシート!$E$7:$E$18,別紙１_実施報告書!AP255,OFFSET(【実施期間中】個別事業におけるPDCAシート!$F$7,,MATCH(別紙１_実施報告書!$C253,【実施期間中】個別事業におけるPDCAシート!$H$4:$V$4,0)+1,12,1),1),1,0)","v":0},{"$f":"COUNTIFS(AE257:AP257,1)+COUNTIFS(AE257:AP257,\"TRUE\")","v":0}]
[null,null,"訴求手法",null,"※訴求手法については、該当する欄にチェックしてください。"]
[{"$nulls":4},"a) 情報発信型（受動型）",{"$nulls":7},"b) 情報発信型（能動型）",{"$nulls":7},"c) 双方向体験交流型"]
[{"$nulls":4},"ラジオ、新聞・広報紙等",{"$nulls":7},"講演会・パネル展示等",{"$nulls":7},"試乗・体験会、省ｴﾈ診断等",{"$nulls":22},"a)","b)","c)"]
[{"$nulls":43},{"$f":"IF(COUNTIFS(【実施期間中】個別事業におけるPDCAシート!$E$19:$E$21,別紙１_実施報告書!AR260,OFFSET(【実施期間中】個別事業におけるPDCAシート!$F$19,,MATCH(別紙１_実施報告書!$C253,【実施期間中】個別事業におけるPDCAシート!$H$4:$V$4,0)+1,3,1),1),1,0)","v":0},{"$f":"IF(COUNTIFS(【実施期間中】個別事業におけるPDCAシート!$E$19:$E$21,別紙１_実施報告書!AS260,OFFSET(【実施期間中】個別事業におけるPDCAシート!$F$19,,MATCH(別紙１_実施報告書!$C253,【実施期間中】個別事業におけるPDCAシート!$H$4:$V$4,0)+1,3,1),1),1,0)","v":0},{"$f":"IF(COUNTIFS(【実施期間中】個別事業におけるPDCAシート!$E$19:$E$21,別紙１_実施報告書!AT260,OFFSET(【実施期間中】個別事業におけるPDCAシート!$F$19,,MATCH(別紙１_実施報告書!$C253,【実施期間中】個別事業におけるPDCAシート!$H$4:$V$4,0)+1,3,1),1),1,0)","v":0},{"$nulls":8},{"$f":"COUNTIFS(AR261:BB261,1)","v":0}]
[null,null,"実施期間",null,{"$f":"OFFSET(【実施期間中】個別事業におけるPDCAシート!$A$6,【実施期間中】個別事業におけるPDCAシート!$A$22,MATCH($C253,【実施期間中】個別事業におけるPDCAシート!$H$4:$V$4,0)+6)","v":""},{"$nulls":9},"～",{"$nulls":3},{"$f":"OFFSET(【実施期間中】個別事業におけるPDCAシート!$A$6,【実施期間中】個別事業におけるPDCAシート!$A$24,MATCH($C253,【実施期間中】個別事業におけるPDCAシート!$H$4:$V$4,0)+6)","v":""}]
[null,null,"（備考）",null,{"$f":"OFFSET(【実施期間中】個別事業におけるPDCAシート!$A$6,【実施期間中】個別事業におけるPDCAシート!$A$25,MATCH($C253,【実施期間中】個別事業におけるPDCAシート!$H$4:$V$4,0)+6)","v":""}]
[null,null,"実施日\n（※同一事業内で、\n同一の内容・場所において\n複数日実施する場合）",null,1,null,{"$f":"OFFSET(【実施期間中】個別事業におけるPDCAシート!$A$6,【実施期間中】個別事業におけるPDCAシート!$A$26,MATCH($C253,【実施期間中】個別事業におけるPDCAシート!$H$4:$V$4,0)+6)","v":""},{"$nulls":9},6,null,{"$f":"OFFSET(【実施期間中】個別事業におけるPDCAシート!$A$6,【実施期間中】個別事業におけるPDCAシート!$A$31,MATCH($C253,【実施期間中】個別事業におけるPDCAシート!$H$4:$V$4,0)+6)","v":""}]
[{"$nulls":4},2,null,{"$f":"OFFSET(【実施期間中】個別事業におけるPDCAシート!$A$6,【実施期間中】個別事業におけるPDCAシート!$A$27,MATCH($C253,【実施期間中】個別事業におけるPDCAシート!$H$4:$V$4,0)+6)","v":""},{"$nulls":9},7,null,{"$f":"OFFSET(【実施期間中】個別事業におけるPDCAシート!$A$6,【実施期間中】個別事業におけるPDCAシート!$A$32,MATCH($C253,【実施期間中】個別事業におけるPDCAシート!$H$4:$V$4,0)+6)","v":""}]
[{"$nulls":4},3,null,{"$f":"OFFSET(【実施期間中】個別事業におけるPDCAシート!$A$6,【実施期間中】個別事業におけるPDCAシート!$A$28,MATCH($C253,【実施期間中】個別事業におけるPDCAシート!$H$4:$V$4,0)+6)","v":""},{"$nulls":9},8,null,{"$f":"OFFSET(【実施期間中】個別事業におけるPDCAシート!$A$6,【実施期間中】個別事業におけるPDCAシート!$A$33,MATCH($C253,【実施期間中】個別事業におけるPDCAシート!$H$4:$V$4,0)+6)","v":""}]
[{"$nulls":4},4,null,{"$f":"OFFSET(【実施期間中】個別事業におけるPDCAシート!$A$6,【実施期間中】個別事業におけるPDCAシート!$A$29,MATCH($C253,【実施期間中】個別事業におけるPDCAシート!$H$4:$V$4,0)+6)","v":""},{"$nulls":9},9,null,{"$f":"OFFSET(【実施期間中】個別事業におけるPDCAシート!$A$6,【実施期間中】個別事業におけるPDCAシート!$A$34,MATCH($C253,【実施期間中】個別事業におけるPDCAシート!$H$4:$V$4,0)+6)","v":""}]
[{"$nulls":4},5,null,{"$f":"OFFSET(【実施期間中】個別事業におけるPDCAシート!$A$6,【実施期間中】個別事業におけるPDCAシート!$A$30,MATCH($C253,【実施期間中】個別事業におけるPDCAシート!$H$4:$V$4,0)+6)","v":""},{"$nulls":9},10,null,{"$f":"OFFSET(【実施期間中】個別事業におけるPDCAシート!$A$6,【実施期間中】個別事業におけるPDCAシート!$A$35,MATCH($C253,【実施期間中】個別事業におけるPDCAシート!$H$4:$V$4,0)+6)","v":""}]
[null,null,"事業の概要",null,{"$f":"OFFSET(【実施期間中】個別事業におけるPDCAシート!$A$6,【実施期間中】個別事業におけるPDCAシート!$A$36,MATCH($C253,【実施期間中】個別事業におけるPDCAシート!$H$4:$V$4,0)+6)","v":""}]
[null,null,"指定自治体等との連携",null,{"$f":"別紙１_実施計画書!E261","v":0}]
[null,null,"実施結果",null,{"$f":"OFFSET(【実施期間中】個別事業におけるPDCAシート!$A$6,【実施期間中】個別事業におけるPDCAシート!$A$38,MATCH($C253,【実施期間中】個別事業におけるPDCAシート!$H$4:$V$4,0)+6)","v":0}]
[]
[null,null,"主な訴求対象","計画",{"$f":"OFFSET(【実施期間中】個別事業におけるPDCAシート!$A$6,【実施期間中】個別事業におけるPDCAシート!$A$39,MATCH($C253,【実施期間中】個別事業におけるPDCAシート!$H$4:$V$4,0)+6)","v":""}]
[{"$nulls":3},"結果",{"$f":"OFFSET(【実施期間中】個別事業におけるPDCAシート!$A$6,【実施期間中】個別事業におけるPDCAシート!$A$40,MATCH($C253,【実施期間中】個別事業におけるPDCAシート!$H$4:$V$4,0)+6)","v":0}]
[null,null,"目標アウトプット\n（リーチ数）\n（想定及び実績）",null,"カテゴリ①（プルダウン選択）⇒",{"$nulls":10},{"$f":"OFFSET(【実施期間中】個別事業におけるPDCAシート!$A$6,【実施期間中】個別事業におけるPDCAシート!$A$41,MATCH($C253,【実施期間中】個別事業におけるPDCAシート!$H$4:$V$4,0)+6)","v":""}]
[{"$nulls":4},"計画値",{"$nulls":3},"計",null,{"$f":"別紙１_実施計画書!K267","v":{"v":0,"d":"0名"}}]
[{"$nulls":4},"実績値",{"$nulls":3},"計",null,{"$f":"OFFSET(【実施期間中】個別事業におけるPDCAシート!$A$6,【実施期間中】個別事業におけるPDCAシート!$A$44,MATCH($C253,【実施期間中】個別事業におけるPDCAシート!$H$4:$V$4,0)+6)","v":{"v":0,"d":"0名"}}]
[{"$nulls":4},"算出根拠",{"$nulls":3},{"$f":"OFFSET(【実施期間中】個別事業におけるPDCAシート!$A$6,【実施期間中】個別事業におけるPDCAシート!$A$45,MATCH($C253,【実施期間中】個別事業におけるPDCAシート!$H$4:$V$4,0)+6)","v":""}]
[{"$nulls":4},"カテゴリ②（プルダウン選択）⇒",{"$nulls":10},{"$f":"OFFSET(【実施期間中】個別事業におけるPDCAシート!$A$6,【実施期間中】個別事業におけるPDCAシート!$A$46,MATCH($C253,【実施期間中】個別事業におけるPDCAシート!$H$4:$V$4,0)+6)","v":""}]
[{"$nulls":4},"計画値",{"$nulls":3},"計",null,{"$f":"別紙１_実施計画書!K271","v":{"v":0,"d":"0名"}}]
[{"$nulls":4},"実績値",{"$nulls":3},"計",null,{"$f":"OFFSET(【実施期間中】個別事業におけるPDCAシート!$A$6,【実施期間中】個別事業におけるPDCAシート!$A$49,MATCH($C253,【実施期間中】個別事業におけるPDCAシート!$H$4:$V$4,0)+6)","v":{"v":0,"d":"0名"}}]
[{"$nulls":4},"算出根拠",{"$nulls":3},{"$f":"OFFSET(【実施期間中】個別事業におけるPDCAシート!$A$6,【実施期間中】個別事業におけるPDCAシート!$A$50,MATCH($C253,【実施期間中】個別事業におけるPDCAシート!$H$4:$V$4,0)+6)","v":""}]
[null,null,"目標アウトカム\n（想定及び実績）",null,"計画",{"$nulls":3},{"$f":"OFFSET(【実施期間中】個別事業におけるPDCAシート!$A$6,【実施期間中】個別事業におけるPDCAシート!$A$51,MATCH($C253,【実施期間中】個別事業におけるPDCAシート!$H$4:$V$4,0)+6)","v":""}]
[{"$nulls":4},"実績"]
[null,null,"賛同数（想定及び実績）",null,"計画値",{"$nulls":3},"団体",null,{"$f":"OFFSET(【実施期間中】個別事業におけるPDCAシート!$A$6,【実施期間中】個別事業におけるPDCAシート!$A$54,MATCH($C253,【実施期間中】個別事業におけるPDCAシート!$H$4:$V$4,0)+6)","v":{"v":0,"d":"0団体"}},{"$nulls":4},"、個人",null,{"$f":"OFFSET(【実施期間中】個別事業におけるPDCAシート!$A$6,【実施期間中】個別事業におけるPDCAシート!$A$57,MATCH($C253,【実施期間中】個別事業におけるPDCAシート!$H$4:$V$4,0)+6)","v":{"v":0,"d":"0名"}}]
[{"$nulls":4},"実績値",{"$nulls":3},"団体",null,{"$f":"OFFSET(【実施期間中】個別事業におけるPDCAシート!$A$6,【実施期間中】個別事業におけるPDCAシート!$A$55,MATCH($C253,【実施期間中】個別事業におけるPDCAシート!$H$4:$V$4,0)+6)","v":{"v":0,"d":"0団体"}},{"$nulls":4},"、個人",null,{"$f":"OFFSET(【実施期間中】個別事業におけるPDCAシート!$A$6,【実施期間中】個別事業におけるPDCAシート!$A$58,MATCH($C253,【実施期間中】個別事業におけるPDCAシート!$H$4:$V$4,0)+6)","v":{"v":0,"d":"0名"}}]
[null,null,"効果検証\n（アンケート）予定",null,"※アンケートの実施予定をプルダウンより選択してください。"]
[{"$nulls":4},"公募要領に規定のアンケート",{"$nulls":16},"貴事業者独自のアンケート"]
[{"$nulls":4},"省エネ機器",{"$nulls":3},"省エネ住宅",{"$nulls":3},"エコドライブ",{"$nulls":3},"低炭素物流（宅配便の再配達防止）"]
[{"$nulls":4},{"$f":"OFFSET(【実施期間中】個別事業におけるPDCAシート!$A$6,【実施期間中】個別事業におけるPDCAシート!$A$59,MATCH($C253,【実施期間中】個別事業におけるPDCAシート!$H$4:$V$4,0)+6)","v":"- 選択 -"},{"$nulls":3},{"$f":"OFFSET(【実施期間中】個別事業におけるPDCAシート!$A$6,【実施期間中】個別事業におけるPDCAシート!$A$60,MATCH($C253,【実施期間中】個別事業におけるPDCAシート!$H$4:$V$4,0)+6)","v":"- 選択 -"},{"$nulls":3},{"$f":"OFFSET(【実施期間中】個別事業におけるPDCAシート!$A$6,【実施期間中】個別事業におけるPDCAシート!$A$61,MATCH($C253,【実施期間中】個別事業におけるPDCAシート!$H$4:$V$4,0)+6)","v":"- 選択 -"},{"$nulls":3},{"$f":"OFFSET(【実施期間中】個別事業におけるPDCAシート!$A$6,【実施期間中】個別事業におけるPDCAシート!$A$62,MATCH($C253,【実施期間中】個別事業におけるPDCAシート!$H$4:$V$4,0)+6)","v":"- 選択 -"},{"$nulls":4},{"$f":"OFFSET(【実施期間中】個別事業におけるPDCAシート!$A$6,【実施期間中】個別事業におけるPDCAシート!$A$63,MATCH($C253,【実施期間中】個別事業におけるPDCAシート!$H$4:$V$4,0)+6)","v":"- 選択 -"}]
[{"$nulls":4},"内容（",null,{"$f":"OFFSET(【実施期間中】個別事業におけるPDCAシート!$A$6,【実施期間中】個別事業におけるPDCAシート!$A$64,MATCH($C253,【実施期間中】個別事業におけるPDCAシート!$H$4:$V$4,0)+6)","v":""},{"$nulls":20},"）"]
[{"$nulls":4},"目標回収数",{"$nulls":3},"計",{"$f":"OFFSET(【実施期間中】個別事業におけるPDCAシート!$A$6,【実施期間中】個別事業におけるPDCAシート!$A$66,MATCH($C253,【実施期間中】個別事業におけるPDCAシート!$H$4:$V$4,0)+6)","v":0},null,null,"枚",null,"※複数ある場合は、平均アンケート回収数"]
[{"$nulls":4},"実績値",{"$nulls":3},"計",{"$f":"OFFSET(【実施期間中】個別事業におけるPDCAシート!$A$6,【実施期間中】個別事業におけるPDCAシート!$A$67,MATCH($C253,【実施期間中】個別事業におけるPDCAシート!$H$4:$V$4,0)+6)","v":0},null,null,"枚",null,"※複数ある場合は、平均アンケート回収数"]
[]
[null,null,"項目",null,"内容"]
[null,null,"事業7","事業名",{"$f":"OFFSET(【実施期間中】個別事業におけるPDCAシート!$A$6,,MATCH(C296,【実施期間中】個別事業におけるPDCAシート!$H$4:$V$4,0)+6)","v":0}]
[null,null,"普及啓発テーマ",null,"※該当する普及啓発テーマすべてをチェックしてください。"]
[{"$nulls":4},"①",null,"②",null,"③",null,"④",null,"⑤",null,"⑥",null,"⑦",null,"⑧",null,"⑨",null,"⑩",null,"⑪",null,"⑫",{"$nulls":3},"①","②","③","④","⑤","⑥","⑦","⑧","⑨","⑩","⑪","⑫"]
[{"$nulls":4},"省ｴﾈ機器",null,"省ｴﾈ住宅",null,"ｴｺｶｰ",null,"ｸｰﾙﾋﾞｽﾞ",null,"ｳｫｰﾑﾋﾞｽﾞ",null,"照明の\n高効率利用",null,"ｴｺﾄﾞﾗｲﾌﾞ",null,"ｶｰｼｪｱ",null,"公共交通\n機関の利用",null,"再配達防止",null,"シェアエコ",null,"地球温暖化",{"$nulls":3},"省ｴﾈ機器","省ｴﾈ住宅","ｴｺｶｰ","ｸｰﾙﾋﾞｽﾞ","ｳｫｰﾑﾋﾞｽﾞ","照明の\n高効率利用","ｴｺﾄﾞﾗｲﾌﾞ","ｶｰｼｪｱ","公共交通\n機関の利用","再配達防止","シェアエコ","地球温暖化"]
[{"$nulls":30},{"$f":"IF(COUNTIFS(【実施期間中】個別事業におけるPDCAシート!$E$7:$E$17,別紙１_実施報告書!AE298,OFFSET(【実施期間中】個別事業におけるPDCAシート!$F$7,,MATCH(別紙１_実施報告書!$C296,【実施期間中】個別事業におけるPDCAシート!$H$4:$V$4,0)+1,11,1),1),1,0)","v":0},{"$f":"IF(COUNTIFS(【実施期間中】個別事業におけるPDCAシート!$E$7:$E$17,別紙１_実施報告書!AF298,OFFSET(【実施期間中】個別事業におけるPDCAシート!$F$7,,MATCH(別紙１_実施報告書!$C296,【実施期間中】個別事業におけるPDCAシート!$H$4:$V$4,0)+1,11,1),1),1,0)","v":0},{"$f":"IF(COUNTIFS(【実施期間中】個別事業におけるPDCAシート!$E$7:$E$17,別紙１_実施報告書!AG298,OFFSET(【実施期間中】個別事業におけるPDCAシート!$F$7,,MATCH(別紙１_実施報告書!$C296,【実施期間中】個別事業におけるPDCAシート!$H$4:$V$4,0)+1,11,1),1),1,0)","v":0},{"$f":"IF(COUNTIFS(【実施期間中】個別事業におけるPDCAシート!$E$7:$E$17,別紙１_実施報告書!AH298,OFFSET(【実施期間中】個別事業におけるPDCAシート!$F$7,,MATCH(別紙１_実施報告書!$C296,【実施期間中】個別事業におけるPDCAシート!$H$4:$V$4,0)+1,11,1),1),1,0)","v":0},{"$f":"IF(COUNTIFS(【実施期間中】個別事業におけるPDCAシート!$E$7:$E$17,別紙１_実施報告書!AI298,OFFSET(【実施期間中】個別事業におけるPDCAシート!$F$7,,MATCH(別紙１_実施報告書!$C296,【実施期間中】個別事業におけるPDCAシート!$H$4:$V$4,0)+1,11,1),1),1,0)","v":0},{"$f":"IF(COUNTIFS(【実施期間中】個別事業におけるPDCAシート!$E$7:$E$17,別紙１_実施報告書!AJ298,OFFSET(【実施期間中】個別事業におけるPDCAシート!$F$7,,MATCH(別紙１_実施報告書!$C296,【実施期間中】個別事業におけるPDCAシート!$H$4:$V$4,0)+1,11,1),1),1,0)","v":0},{"$f":"IF(COUNTIFS(【実施期間中】個別事業におけるPDCAシート!$E$7:$E$17,別紙１_実施報告書!AK298,OFFSET(【実施期間中】個別事業におけるPDCAシート!$F$7,,MATCH(別紙１_実施報告書!$C296,【実施期間中】個別事業におけるPDCAシート!$H$4:$V$4,0)+1,11,1),1),1,0)","v":0},{"$f":"IF(COUNTIFS(【実施期間中】個別事業におけるPDCAシート!$E$7:$E$17,別紙１_実施報告書!AL298,OFFSET(【実施期間中】個別事業におけるPDCAシート!$F$7,,MATCH(別紙１_実施報告書!$C296,【実施期間中】個別事業におけるPDCAシート!$H$4:$V$4,0)+1,11,1),1),1,0)","v":0},{"$f":"IF(COUNTIFS(【実施期間中】個別事業におけるPDCAシート!$E$7:$E$17,別紙１_実施報告書!AM298,OFFSET(【実施期間中】個別事業におけるPDCAシート!$F$7,,MATCH(別紙１_実施報告書!$C296,【実施期間中】個別事業におけるPDCAシート!$H$4:$V$4,0)+1,11,1),1),1,0)","v":0},{"$f":"IF(COUNTIFS(【実施期間中】個別事業におけるPDCAシート!$E$7:$E$17,別紙１_実施報告書!AN298,OFFSET(【実施期間中】個別事業におけるPDCAシート!$F$7,,MATCH(別紙１_実施報告書!$C296,【実施期間中】個別事業におけるPDCAシート!$H$4:$V$4,0)+1,11,1),1),1,0)","v":0},{"$f":"IF(COUNTIFS(【実施期間中】個別事業におけるPDCAシート!$E$7:$E$17,別紙１_実施報告書!AO298,OFFSET(【実施期間中】個別事業におけるPDCAシート!$F$7,,MATCH(別紙１_実施報告書!$C296,【実施期間中】個別事業におけるPDCAシート!$H$4:$V$4,0)+1,11,1),1),1,0)","v":0},{"$f":"IF(COUNTIFS(【実施期間中】個別事業におけるPDCAシート!$E$7:$E$18,別紙１_実施報告書!AP298,OFFSET(【実施期間中】個別事業におけるPDCAシート!$F$7,,MATCH(別紙１_実施報告書!$C296,【実施期間中】個別事業におけるPDCAシート!$H$4:$V$4,0)+1,12,1),1),1,0)","v":0},{"$f":"COUNTIFS(AE300:AP300,1)+COUNTIFS(AE300:AP300,\"TRUE\")","v":0}]
[null,null,"訴求手法",null,"※訴求手法については、該当する欄にチェックしてください。"]
[{"$nulls":4},"a) 情報発信型（受動型）",{"$nulls":7},"b) 情報発信型（能動型）",{"$nulls":7},"c) 双方向体験交流型"]
[{"$nulls":4},"ラジオ、新聞・広報紙等",{"$nulls":7},"講演会・パネル展示等",{"$nulls":7},"試乗・体験会、省ｴﾈ診断等",{"$nulls":22},"a)","b)","c)"]
[{"$nulls":43},{"$f":"IF(COUNTIFS(【実施期間中】個別事業におけるPDCAシート!$E$19:$E$21,別紙１_実施報告書!AR303,OFFSET(【実施期間中】個別事業におけるPDCAシート!$F$19,,MATCH(別紙１_実施報告書!$C296,【実施期間中】個別事業におけるPDCAシート!$H$4:$V$4,0)+1,3,1),1),1,0)","v":0},{"$f":"IF(COUNTIFS(【実施期間中】個別事業におけるPDCAシート!$E$19:$E$21,別紙１_実施報告書!AS303,OFFSET(【実施期間中】個別事業におけるPDCAシート!$F$19,,MATCH(別紙１_実施報告書!$C296,【実施期間中】個別事業におけるPDCAシート!$H$4:$V$4,0)+1,3,1),1),1,0)","v":0},{"$f":"IF(COUNTIFS(【実施期間中】個別事業におけるPDCAシート!$E$19:$E$21,別紙１_実施報告書!AT303,OFFSET(【実施期間中】個別事業におけるPDCAシート!$F$19,,MATCH(別紙１_実施報告書!$C296,【実施期間中】個別事業におけるPDCAシート!$H$4:$V$4,0)+1,3,1),1),1,0)","v":0},{"$nulls":8},{"$f":"COUNTIFS(AR304:BB304,1)","v":0}]
[null,null,"実施期間",null,{"$f":"OFFSET(【実施期間中】個別事業におけるPDCAシート!$A$6,【実施期間中】個別事業におけるPDCAシート!$A$22,MATCH($C296,【実施期間中】個別事業におけるPDCAシート!$H$4:$V$4,0)+6)","v":""},{"$nulls":9},"～",{"$nulls":3},{"$f":"OFFSET(【実施期間中】個別事業におけるPDCAシート!$A$6,【実施期間中】個別事業におけるPDCAシート!$A$24,MATCH($C296,【実施期間中】個別事業におけるPDCAシート!$H$4:$V$4,0)+6)","v":""}]
[null,null,"（備考）",null,{"$f":"OFFSET(【実施期間中】個別事業におけるPDCAシート!$A$6,【実施期間中】個別事業におけるPDCAシート!$A$25,MATCH($C296,【実施期間中】個別事業におけるPDCAシート!$H$4:$V$4,0)+6)","v":""}]
[null,null,"実施日\n（※同一事業内で、\n同一の内容・場所において\n複数日実施する場合）",null,1,null,{"$f":"OFFSET(【実施期間中】個別事業におけるPDCAシート!$A$6,【実施期間中】個別事業におけるPDCAシート!$A$26,MATCH($C296,【実施期間中】個別事業におけるPDCAシート!$H$4:$V$4,0)+6)","v":""},{"$nulls":9},6,null,{"$f":"OFFSET(【実施期間中】個別事業におけるPDCAシート!$A$6,【実施期間中】個別事業におけるPDCAシート!$A$31,MATCH($C296,【実施期間中】個別事業におけるPDCAシート!$H$4:$V$4,0)+6)","v":""}]
[{"$nulls":4},2,null,{"$f":"OFFSET(【実施期間中】個別事業におけるPDCAシート!$A$6,【実施期間中】個別事業におけるPDCAシート!$A$27,MATCH($C296,【実施期間中】個別事業におけるPDCAシート!$H$4:$V$4,0)+6)","v":""},{"$nulls":9},7,null,{"$f":"OFFSET(【実施期間中】個別事業におけるPDCAシート!$A$6,【実施期間中】個別事業におけるPDCAシート!$A$32,MATCH($C296,【実施期間中】個別事業におけるPDCAシート!$H$4:$V$4,0)+6)","v":""}]
[{"$nulls":4},3,null,{"$f":"OFFSET(【実施期間中】個別事業におけるPDCAシート!$A$6,【実施期間中】個別事業におけるPDCAシート!$A$28,MATCH($C296,【実施期間中】個別事業におけるPDCAシート!$H$4:$V$4,0)+6)","v":""},{"$nulls":9},8,null,{"$f":"OFFSET(【実施期間中】個別事業におけるPDCAシート!$A$6,【実施期間中】個別事業におけるPDCAシート!$A$33,MATCH($C296,【実施期間中】個別事業におけるPDCAシート!$H$4:$V$4,0)+6)","v":""}]
[{"$nulls":4},4,null,{"$f":"OFFSET(【実施期間中】個別事業におけるPDCAシート!$A$6,【実施期間中】個別事業におけるPDCAシート!$A$29,MATCH($C296,【実施期間中】個別事業におけるPDCAシート!$H$4:$V$4,0)+6)","v":""},{"$nulls":9},9,null,{"$f":"OFFSET(【実施期間中】個別事業におけるPDCAシート!$A$6,【実施期間中】個別事業におけるPDCAシート!$A$34,MATCH($C296,【実施期間中】個別事業におけるPDCAシート!$H$4:$V$4,0)+6)","v":""}]
[{"$nulls":4},5,null,{"$f":"OFFSET(【実施期間中】個別事業におけるPDCAシート!$A$6,【実施期間中】個別事業におけるPDCAシート!$A$30,MATCH($C296,【実施期間中】個別事業におけるPDCAシート!$H$4:$V$4,0)+6)","v":""},{"$nulls":9},10,null,{"$f":"OFFSET(【実施期間中】個別事業におけるPDCAシート!$A$6,【実施期間中】個別事業におけるPDCAシート!$A$35,MATCH($C296,【実施期間中】個別事業におけるPDCAシート!$H$4:$V$4,0)+6)","v":""}]
[null,null,"事業の概要",null,{"$f":"OFFSET(【実施期間中】個別事業におけるPDCAシート!$A$6,【実施期間中】個別事業におけるPDCAシート!$A$36,MATCH($C296,【実施期間中】個別事業におけるPDCAシート!$H$4:$V$4,0)+6)","v":""}]
[null,null,"指定自治体等との連携",null,{"$f":"別紙１_実施計画書!E302","v":0}]
[null,null,"実施結果",null,{"$f":"OFFSET(【実施期間中】個別事業におけるPDCAシート!$A$6,【実施期間中】個別事業におけるPDCAシート!$A$38,MATCH($C296,【実施期間中】個別事業におけるPDCAシート!$H$4:$V$4,0)+6)","v":0}]
[]
[null,null,"主な訴求対象","計画",{"$f":"OFFSET(【実施期間中】個別事業におけるPDCAシート!$A$6,【実施期間中】個別事業におけるPDCAシート!$A$39,MATCH($C296,【実施期間中】個別事業におけるPDCAシート!$H$4:$V$4,0)+6)","v":""}]
[{"$nulls":3},"結果",{"$f":"OFFSET(【実施期間中】個別事業におけるPDCAシート!$A$6,【実施期間中】個別事業におけるPDCAシート!$A$40,MATCH($C296,【実施期間中】個別事業におけるPDCAシート!$H$4:$V$4,0)+6)","v":0}]
[null,null,"目標アウトプット\n（リーチ数）\n（想定及び実績）",null,"カテゴリ①（プルダウン選択）⇒",{"$nulls":10},{"$f":"OFFSET(【実施期間中】個別事業におけるPDCAシート!$A$6,【実施期間中】個別事業におけるPDCAシート!$A$41,MATCH($C296,【実施期間中】個別事業におけるPDCAシート!$H$4:$V$4,0)+6)","v":""}]
[{"$nulls":4},"計画値",{"$nulls":3},"計",null,{"$f":"別紙１_実施計画書!K308","v":{"v":0,"d":"0名"}}]
[{"$nulls":4},"実績値",{"$nulls":3},"計",null,{"$f":"OFFSET(【実施期間中】個別事業におけるPDCAシート!$A$6,【実施期間中】個別事業におけるPDCAシート!$A$44,MATCH($C296,【実施期間中】個別事業におけるPDCAシート!$H$4:$V$4,0)+6)","v":{"v":0,"d":"0名"}}]
[{"$nulls":4},"算出根拠",{"$nulls":3},{"$f":"OFFSET(【実施期間中】個別事業におけるPDCAシート!$A$6,【実施期間中】個別事業におけるPDCAシート!$A$45,MATCH($C296,【実施期間中】個別事業におけるPDCAシート!$H$4:$V$4,0)+6)","v":""}]
[{"$nulls":4},"カテゴリ②（プルダウン選択）⇒",{"$nulls":10},{"$f":"OFFSET(【実施期間中】個別事業におけるPDCAシート!$A$6,【実施期間中】個別事業におけるPDCAシート!$A$46,MATCH($C296,【実施期間中】個別事業におけるPDCAシート!$H$4:$V$4,0)+6)","v":""}]
[{"$nulls":4},"計画値",{"$nulls":3},"計",null,{"$f":"別紙１_実施計画書!K312","v":{"v":0,"d":"0名"}}]
[{"$nulls":4},"実績値",{"$nulls":3},"計",null,{"$f":"OFFSET(【実施期間中】個別事業におけるPDCAシート!$A$6,【実施期間中】個別事業におけるPDCAシート!$A$49,MATCH($C296,【実施期間中】個別事業におけるPDCAシート!$H$4:$V$4,0)+6)","v":{"v":0,"d":"0名"}}]
[{"$nulls":4},"算出根拠",{"$nulls":3},{"$f":"OFFSET(【実施期間中】個別事業におけるPDCAシート!$A$6,【実施期間中】個別事業におけるPDCAシート!$A$50,MATCH($C296,【実施期間中】個別事業におけるPDCAシート!$H$4:$V$4,0)+6)","v":""}]
[null,null,"目標アウトカム\n（想定及び実績）",null,"計画",{"$nulls":3},{"$f":"OFFSET(【実施期間中】個別事業におけるPDCAシート!$A$6,【実施期間中】個別事業におけるPDCAシート!$A$51,MATCH($C296,【実施期間中】個別事業におけるPDCAシート!$H$4:$V$4,0)+6)","v":""}]
[{"$nulls":4},"実績"]
[null,null,"賛同数（想定及び実績）",null,"計画値",{"$nulls":3},"団体",null,{"$f":"OFFSET(【実施期間中】個別事業におけるPDCAシート!$A$6,【実施期間中】個別事業におけるPDCAシート!$A$54,MATCH($C296,【実施期間中】個別事業におけるPDCAシート!$H$4:$V$4,0)+6)","v":{"v":0,"d":"0団体"}},{"$nulls":4},"、個人",null,{"$f":"OFFSET(【実施期間中】個別事業におけるPDCAシート!$A$6,【実施期間中】個別事業におけるPDCAシート!$A$57,MATCH($C296,【実施期間中】個別事業におけるPDCAシート!$H$4:$V$4,0)+6)","v":{"v":0,"d":"0名"}}]
[{"$nulls":4},"実績値",{"$nulls":3},"団体",null,{"$f":"OFFSET(【実施期間中】個別事業におけるPDCAシート!$A$6,【実施期間中】個別事業におけるPDCAシート!$A$55,MATCH($C296,【実施期間中】個別事業におけるPDCAシート!$H$4:$V$4,0)+6)","v":{"v":0,"d":"0団体"}},{"$nulls":4},"、個人",null,{"$f":"OFFSET(【実施期間中】個別事業におけるPDCAシート!$A$6,【実施期間中】個別事業におけるPDCAシート!$A$58,MATCH($C296,【実施期間中】個別事業におけるPDCAシート!$H$4:$V$4,0)+6)","v":{"v":0,"d":"0名"}}]
[null,null,"効果検証\n（アンケート）予定",null,"※アンケートの実施予定をプルダウンより選択してください。"]
[{"$nulls":4},"公募要領に規定のアンケート",{"$nulls":16},"貴事業者独自のアンケート"]
[{"$nulls":4},"省エネ機器",{"$nulls":3},"省エネ住宅",{"$nulls":3},"エコドライブ",{"$nulls":3},"低炭素物流（宅配便の再配達防止）"]
[{"$nulls":4},{"$f":"OFFSET(【実施期間中】個別事業におけるPDCAシート!$A$6,【実施期間中】個別事業におけるPDCAシート!$A$59,MATCH($C296,【実施期間中】個別事業におけるPDCAシート!$H$4:$V$4,0)+6)","v":"- 選択 -"},{"$nulls":3},{"$f":"OFFSET(【実施期間中】個別事業におけるPDCAシート!$A$6,【実施期間中】個別事業におけるPDCAシート!$A$60,MATCH($C296,【実施期間中】個別事業におけるPDCAシート!$H$4:$V$4,0)+6)","v":"- 選択 -"},{"$nulls":3},{"$f":"OFFSET(【実施期間中】個別事業におけるPDCAシート!$A$6,【実施期間中】個別事業におけるPDCAシート!$A$61,MATCH($C296,【実施期間中】個別事業におけるPDCAシート!$H$4:$V$4,0)+6)","v":"- 選択 -"},{"$nulls":3},{"$f":"OFFSET(【実施期間中】個別事業におけるPDCAシート!$A$6,【実施期間中】個別事業におけるPDCAシート!$A$62,MATCH($C296,【実施期間中】個別事業におけるPDCAシート!$H$4:$V$4,0)+6)","v":"- 選択 -"},{"$nulls":4},{"$f":"OFFSET(【実施期間中】個別事業におけるPDCAシート!$A$6,【実施期間中】個別事業におけるPDCAシート!$A$63,MATCH($C296,【実施期間中】個別事業におけるPDCAシート!$H$4:$V$4,0)+6)","v":"- 選択 -"}]
[{"$nulls":4},"内容（",null,{"$f":"OFFSET(【実施期間中】個別事業におけるPDCAシート!$A$6,【実施期間中】個別事業におけるPDCAシート!$A$64,MATCH($C296,【実施期間中】個別事業におけるPDCAシート!$H$4:$V$4,0)+6)","v":""},{"$nulls":20},"）"]
[{"$nulls":4},"目標回収数",{"$nulls":3},"計",{"$f":"OFFSET(【実施期間中】個別事業におけるPDCAシート!$A$6,【実施期間中】個別事業におけるPDCAシート!$A$66,MATCH($C296,【実施期間中】個別事業におけるPDCAシート!$H$4:$V$4,0)+6)","v":0},null,null,"枚",null,"※複数ある場合は、平均アンケート回収数"]
[{"$nulls":4},"実績値",{"$nulls":3},"計",{"$f":"OFFSET(【実施期間中】個別事業におけるPDCAシート!$A$6,【実施期間中】個別事業におけるPDCAシート!$A$67,MATCH($C296,【実施期間中】個別事業におけるPDCAシート!$H$4:$V$4,0)+6)","v":0},null,null,"枚",null,"※複数ある場合は、平均アンケート回収数"]
[]
[null,null,"項目",null,"内容"]
[null,null,"事業8","事業名",{"$f":"OFFSET(【実施期間中】個別事業におけるPDCAシート!$A$6,,MATCH(C339,【実施期間中】個別事業におけるPDCAシート!$H$4:$V$4,0)+6)","v":0}]
[null,null,"普及啓発テーマ",null,"※該当する普及啓発テーマすべてをチェックしてください。"]
[{"$nulls":4},"①",null,"②",null,"③",null,"④",null,"⑤",null,"⑥",null,"⑦",null,"⑧",null,"⑨",null,"⑩",null,"⑪",null,"⑫",{"$nulls":3},"①","②","③","④","⑤","⑥","⑦","⑧","⑨","⑩","⑪","⑫"]
[{"$nulls":4},"省ｴﾈ機器",null,"省ｴﾈ住宅",null,"ｴｺｶｰ",null,"ｸｰﾙﾋﾞｽﾞ",null,"ｳｫｰﾑﾋﾞｽﾞ",null,"照明の\n高効率利用",null,"ｴｺﾄﾞﾗｲﾌﾞ",null,"ｶｰｼｪｱ",null,"公共交通\n機関の利用",null,"再配達防止",null,"シェアエコ",null,"地球温暖化",{"$nulls":3},"省ｴﾈ機器","省ｴﾈ住宅","ｴｺｶｰ","ｸｰﾙﾋﾞｽﾞ","ｳｫｰﾑﾋﾞｽﾞ","照明の\n高効率利用","ｴｺﾄﾞﾗｲﾌﾞ","ｶｰｼｪｱ","公共交通\n機関の利用","再配達防止","シェアエコ","地球温暖化"]
[{"$nulls":30},{"$f":"IF(COUNTIFS(【実施期間中】個別事業におけるPDCAシート!$E$7:$E$17,別紙１_実施報告書!AE341,OFFSET(【実施期間中】個別事業におけるPDCAシート!$F$7,,MATCH(別紙１_実施報告書!$C339,【実施期間中】個別事業におけるPDCAシート!$H$4:$V$4,0)+1,11,1),1),1,0)","v":0},{"$f":"IF(COUNTIFS(【実施期間中】個別事業におけるPDCAシート!$E$7:$E$17,別紙１_実施報告書!AF341,OFFSET(【実施期間中】個別事業におけるPDCAシート!$F$7,,MATCH(別紙１_実施報告書!$C339,【実施期間中】個別事業におけるPDCAシート!$H$4:$V$4,0)+1,11,1),1),1,0)","v":0},{"$f":"IF(COUNTIFS(【実施期間中】個別事業におけるPDCAシート!$E$7:$E$17,別紙１_実施報告書!AG341,OFFSET(【実施期間中】個別事業におけるPDCAシート!$F$7,,MATCH(別紙１_実施報告書!$C339,【実施期間中】個別事業におけるPDCAシート!$H$4:$V$4,0)+1,11,1),1),1,0)","v":0},{"$f":"IF(COUNTIFS(【実施期間中】個別事業におけるPDCAシート!$E$7:$E$17,別紙１_実施報告書!AH341,OFFSET(【実施期間中】個別事業におけるPDCAシート!$F$7,,MATCH(別紙１_実施報告書!$C339,【実施期間中】個別事業におけるPDCAシート!$H$4:$V$4,0)+1,11,1),1),1,0)","v":0},{"$f":"IF(COUNTIFS(【実施期間中】個別事業におけるPDCAシート!$E$7:$E$17,別紙１_実施報告書!AI341,OFFSET(【実施期間中】個別事業におけるPDCAシート!$F$7,,MATCH(別紙１_実施報告書!$C339,【実施期間中】個別事業におけるPDCAシート!$H$4:$V$4,0)+1,11,1),1),1,0)","v":0},{"$f":"IF(COUNTIFS(【実施期間中】個別事業におけるPDCAシート!$E$7:$E$17,別紙１_実施報告書!AJ341,OFFSET(【実施期間中】個別事業におけるPDCAシート!$F$7,,MATCH(別紙１_実施報告書!$C339,【実施期間中】個別事業におけるPDCAシート!$H$4:$V$4,0)+1,11,1),1),1,0)","v":0},{"$f":"IF(COUNTIFS(【実施期間中】個別事業におけるPDCAシート!$E$7:$E$17,別紙１_実施報告書!AK341,OFFSET(【実施期間中】個別事業におけるPDCAシート!$F$7,,MATCH(別紙１_実施報告書!$C339,【実施期間中】個別事業におけるPDCAシート!$H$4:$V$4,0)+1,11,1),1),1,0)","v":0},{"$f":"IF(COUNTIFS(【実施期間中】個別事業におけるPDCAシート!$E$7:$E$17,別紙１_実施報告書!AL341,OFFSET(【実施期間中】個別事業におけるPDCAシート!$F$7,,MATCH(別紙１_実施報告書!$C339,【実施期間中】個別事業におけるPDCAシート!$H$4:$V$4,0)+1,11,1),1),1,0)","v":0},{"$f":"IF(COUNTIFS(【実施期間中】個別事業におけるPDCAシート!$E$7:$E$17,別紙１_実施報告書!AM341,OFFSET(【実施期間中】個別事業におけるPDCAシート!$F$7,,MATCH(別紙１_実施報告書!$C339,【実施期間中】個別事業におけるPDCAシート!$H$4:$V$4,0)+1,11,1),1),1,0)","v":0},{"$f":"IF(COUNTIFS(【実施期間中】個別事業におけるPDCAシート!$E$7:$E$17,別紙１_実施報告書!AN341,OFFSET(【実施期間中】個別事業におけるPDCAシート!$F$7,,MATCH(別紙１_実施報告書!$C339,【実施期間中】個別事業におけるPDCAシート!$H$4:$V$4,0)+1,11,1),1),1,0)","v":0},{"$f":"IF(COUNTIFS(【実施期間中】個別事業におけるPDCAシート!$E$7:$E$17,別紙１_実施報告書!AO341,OFFSET(【実施期間中】個別事業におけるPDCAシート!$F$7,,MATCH(別紙１_実施報告書!$C339,【実施期間中】個別事業におけるPDCAシート!$H$4:$V$4,0)+1,11,1),1),1,0)","v":0},{"$f":"IF(COUNTIFS(【実施期間中】個別事業におけるPDCAシート!$E$7:$E$18,別紙１_実施報告書!AP341,OFFSET(【実施期間中】個別事業におけるPDCAシート!$F$7,,MATCH(別紙１_実施報告書!$C339,【実施期間中】個別事業におけるPDCAシート!$H$4:$V$4,0)+1,12,1),1),1,0)","v":0},{"$f":"COUNTIFS(AE343:AP343,1)+COUNTIFS(AE343:AP343,\"TRUE\")","v":0}]
[null,null,"訴求手法",null,"※訴求手法については、該当する欄にチェックしてください。"]
[{"$nulls":4},"a) 情報発信型（受動型）",{"$nulls":7},"b) 情報発信型（能動型）",{"$nulls":7},"c) 双方向体験交流型"]
[{"$nulls":4},"ラジオ、新聞・広報紙等",{"$nulls":7},"講演会・パネル展示等",{"$nulls":7},"試乗・体験会、省ｴﾈ診断等",{"$nulls":22},"a)","b)","c)"]
[{"$nulls":43},{"$f":"IF(COUNTIFS(【実施期間中】個別事業におけるPDCAシート!$E$19:$E$21,別紙１_実施報告書!AR346,OFFSET(【実施期間中】個別事業におけるPDCAシート!$F$19,,MATCH(別紙１_実施報告書!$C339,【実施期間中】個別事業におけるPDCAシート!$H$4:$V$4,0)+1,3,1),1),1,0)","v":0},{"$f":"IF(COUNTIFS(【実施期間中】個別事業におけるPDCAシート!$E$19:$E$21,別紙１_実施報告書!AS346,OFFSET(【実施期間中】個別事業におけるPDCAシート!$F$19,,MATCH(別紙１_実施報告書!$C339,【実施期間中】個別事業におけるPDCAシート!$H$4:$V$4,0)+1,3,1),1),1,0)","v":0},{"$f":"IF(COUNTIFS(【実施期間中】個別事業におけるPDCAシート!$E$19:$E$21,別紙１_実施報告書!AT346,OFFSET(【実施期間中】個別事業におけるPDCAシート!$F$19,,MATCH(別紙１_実施報告書!$C339,【実施期間中】個別事業におけるPDCAシート!$H$4:$V$4,0)+1,3,1),1),1,0)","v":0},{"$nulls":8},{"$f":"COUNTIFS(AR347:BB347,1)","v":0}]
[null,null,"実施期間",null,{"$f":"OFFSET(【実施期間中】個別事業におけるPDCAシート!$A$6,【実施期間中】個別事業におけるPDCAシート!$A$22,MATCH($C339,【実施期間中】個別事業におけるPDCAシート!$H$4:$V$4,0)+6)","v":""},{"$nulls":9},"～",{"$nulls":3},{"$f":"OFFSET(【実施期間中】個別事業におけるPDCAシート!$A$6,【実施期間中】個別事業におけるPDCAシート!$A$24,MATCH($C339,【実施期間中】個別事業におけるPDCAシート!$H$4:$V$4,0)+6)","v":""}]
[null,null,"（備考）",null,{"$f":"OFFSET(【実施期間中】個別事業におけるPDCAシート!$A$6,【実施期間中】個別事業におけるPDCAシート!$A$25,MATCH($C339,【実施期間中】個別事業におけるPDCAシート!$H$4:$V$4,0)+6)","v":""}]
[null,null,"実施日\n（※同一事業内で、\n同一の内容・場所において\n複数日実施する場合）",null,1,null,{"$f":"OFFSET(【実施期間中】個別事業におけるPDCAシート!$A$6,【実施期間中】個別事業におけるPDCAシート!$A$26,MATCH($C339,【実施期間中】個別事業におけるPDCAシート!$H$4:$V$4,0)+6)","v":""},{"$nulls":9},6,null,{"$f":"OFFSET(【実施期間中】個別事業におけるPDCAシート!$A$6,【実施期間中】個別事業におけるPDCAシート!$A$31,MATCH($C339,【実施期間中】個別事業におけるPDCAシート!$H$4:$V$4,0)+6)","v":""}]
[{"$nulls":4},2,null,{"$f":"OFFSET(【実施期間中】個別事業におけるPDCAシート!$A$6,【実施期間中】個別事業におけるPDCAシート!$A$27,MATCH($C339,【実施期間中】個別事業におけるPDCAシート!$H$4:$V$4,0)+6)","v":""},{"$nulls":9},7]
[{"$nulls":4},3,null,{"$f":"OFFSET(【実施期間中】個別事業におけるPDCAシート!$A$6,【実施期間中】個別事業におけるPDCAシート!$A$28,MATCH($C339,【実施期間中】個別事業におけるPDCAシート!$H$4:$V$4,0)+6)","v":""},{"$nulls":9},8,null,{"$f":"OFFSET(【実施期間中】個別事業におけるPDCAシート!$A$6,【実施期間中】個別事業におけるPDCAシート!$A$33,MATCH($C339,【実施期間中】個別事業におけるPDCAシート!$H$4:$V$4,0)+6)","v":""}]
[{"$nulls":4},4,null,{"$f":"OFFSET(【実施期間中】個別事業におけるPDCAシート!$A$6,【実施期間中】個別事業におけるPDCAシート!$A$29,MATCH($C339,【実施期間中】個別事業におけるPDCAシート!$H$4:$V$4,0)+6)","v":""},{"$nulls":9},9,null,{"$f":"OFFSET(【実施期間中】個別事業におけるPDCAシート!$A$6,【実施期間中】個別事業におけるPDCAシート!$A$34,MATCH($C339,【実施期間中】個別事業におけるPDCAシート!$H$4:$V$4,0)+6)","v":""}]
[{"$nulls":4},5,null,{"$f":"OFFSET(【実施期間中】個別事業におけるPDCAシート!$A$6,【実施期間中】個別事業におけるPDCAシート!$A$30,MATCH($C339,【実施期間中】個別事業におけるPDCAシート!$H$4:$V$4,0)+6)","v":""},{"$nulls":9},10,null,{"$f":"OFFSET(【実施期間中】個別事業におけるPDCAシート!$A$6,【実施期間中】個別事業におけるPDCAシート!$A$35,MATCH($C339,【実施期間中】個別事業におけるPDCAシート!$H$4:$V$4,0)+6)","v":""}]
[null,null,"事業の概要",null,{"$f":"OFFSET(【実施期間中】個別事業におけるPDCAシート!$A$6,【実施期間中】個別事業におけるPDCAシート!$A$36,MATCH($C339,【実施期間中】個別事業におけるPDCAシート!$H$4:$V$4,0)+6)","v":""}]
[null,null,"指定自治体等との連携",null,{"$f":"別紙１_実施計画書!E343","v":0}]
[null,null,"実施結果",null,{"$f":"OFFSET(【実施期間中】個別事業におけるPDCAシート!$A$6,【実施期間中】個別事業におけるPDCAシート!$A$38,MATCH($C339,【実施期間中】個別事業におけるPDCAシート!$H$4:$V$4,0)+6)","v":0}]
[]
[null,null,"主な訴求対象","計画",{"$f":"OFFSET(【実施期間中】個別事業におけるPDCAシート!$A$6,【実施期間中】個別事業におけるPDCAシート!$A$39,MATCH($C339,【実施期間中】個別事業におけるPDCAシート!$H$4:$V$4,0)+6)","v":""}]
[{"$nulls":3},"結果",{"$f":"OFFSET(【実施期間中】個別事業におけるPDCAシート!$A$6,【実施期間中】個別事業におけるPDCAシート!$A$40,MATCH($C339,【実施期間中】個別事業におけるPDCAシート!$H$4:$V$4,0)+6)","v":0}]
[null,null,"目標アウトプット\n（リーチ数）\n（想定及び実績）",null,"カテゴリ①（プルダウン選択）⇒",{"$nulls":10},{"$f":"OFFSET(【実施期間中】個別事業におけるPDCAシート!$A$6,【実施期間中】個別事業におけるPDCAシート!$A$41,MATCH($C339,【実施期間中】個別事業におけるPDCAシート!$H$4:$V$4,0)+6)","v":""}]
[{"$nulls":4},"計画値",{"$nulls":3},"計",null,{"$f":"別紙１_実施計画書!K349","v":{"v":0,"d":"0名"}}]
[{"$nulls":4},"実績値",{"$nulls":3},"計",null,{"$f":"OFFSET(【実施期間中】個別事業におけるPDCAシート!$A$6,【実施期間中】個別事業におけるPDCAシート!$A$44,MATCH($C339,【実施期間中】個別事業におけるPDCAシート!$H$4:$V$4,0)+6)","v":{"v":0,"d":"0名"}}]
[{"$nulls":4},"算出根拠",{"$nulls":3},{"$f":"OFFSET(【実施期間中】個別事業におけるPDCAシート!$A$6,【実施期間中】個別事業におけるPDCAシート!$A$45,MATCH($C339,【実施期間中】個別事業におけるPDCAシート!$H$4:$V$4,0)+6)","v":""}]
[{"$nulls":4},"カテゴリ②（プルダウン選択）⇒",{"$nulls":10},{"$f":"OFFSET(【実施期間中】個別事業におけるPDCAシート!$A$6,【実施期間中】個別事業におけるPDCAシート!$A$46,MATCH($C339,【実施期間中】個別事業におけるPDCAシート!$H$4:$V$4,0)+6)","v":""}]
[{"$nulls":4},"計画値",{"$nulls":3},"計",null,{"$f":"別紙１_実施計画書!K353","v":{"v":0,"d":"0名"}}]
[{"$nulls":4},"実績値",{"$nulls":3},"計",null,{"$f":"OFFSET(【実施期間中】個別事業におけるPDCAシート!$A$6,【実施期間中】個別事業におけるPDCAシート!$A$49,MATCH($C339,【実施期間中】個別事業におけるPDCAシート!$H$4:$V$4,0)+6)","v":{"v":0,"d":"0名"}}]
[{"$nulls":4},"算出根拠",{"$nulls":3},{"$f":"OFFSET(【実施期間中】個別事業におけるPDCAシート!$A$6,【実施期間中】個別事業におけるPDCAシート!$A$50,MATCH($C339,【実施期間中】個別事業におけるPDCAシート!$H$4:$V$4,0)+6)","v":""}]
[null,null,"目標アウトカム\n（想定及び実績）",null,"計画",{"$nulls":3},{"$f":"OFFSET(【実施期間中】個別事業におけるPDCAシート!$A$6,【実施期間中】個別事業におけるPDCAシート!$A$51,MATCH($C339,【実施期間中】個別事業におけるPDCAシート!$H$4:$V$4,0)+6)","v":""}]
[{"$nulls":4},"実績"]
[null,null,"賛同数（想定及び実績）",null,"計画値",{"$nulls":3},"団体",null,{"$f":"OFFSET(【実施期間中】個別事業におけるPDCAシート!$A$6,【実施期間中】個別事業におけるPDCAシート!$A$54,MATCH($C339,【実施期間中】個別事業におけるPDCAシート!$H$4:$V$4,0)+6)","v":{"v":0,"d":"0団体"}},{"$nulls":4},"、個人",null,{"$f":"OFFSET(【実施期間中】個別事業におけるPDCAシート!$A$6,【実施期間中】個別事業におけるPDCAシート!$A$57,MATCH($C339,【実施期間中】個別事業におけるPDCAシート!$H$4:$V$4,0)+6)","v":{"v":0,"d":"0名"}}]
[{"$nulls":4},"実績値",{"$nulls":3},"団体",null,{"$f":"OFFSET(【実施期間中】個別事業におけるPDCAシート!$A$6,【実施期間中】個別事業におけるPDCAシート!$A$55,MATCH($C339,【実施期間中】個別事業におけるPDCAシート!$H$4:$V$4,0)+6)","v":{"v":0,"d":"0団体"}},{"$nulls":4},"、個人",null,{"$f":"OFFSET(【実施期間中】個別事業におけるPDCAシート!$A$6,【実施期間中】個別事業におけるPDCAシート!$A$58,MATCH($C339,【実施期間中】個別事業におけるPDCAシート!$H$4:$V$4,0)+6)","v":{"v":0,"d":"0名"}}]
[null,null,"効果検証\n（アンケート）予定",null,"※アンケートの実施予定をプルダウンより選択してください。"]
[{"$nulls":4},"公募要領に規定のアンケート",{"$nulls":16},"貴事業者独自のアンケート"]
[{"$nulls":4},"省エネ機器",{"$nulls":3},"省エネ住宅",{"$nulls":3},"エコドライブ",{"$nulls":3},"低炭素物流（宅配便の再配達防止）"]
[{"$nulls":4},{"$f":"OFFSET(【実施期間中】個別事業におけるPDCAシート!$A$6,【実施期間中】個別事業におけるPDCAシート!$A$59,MATCH($C339,【実施期間中】個別事業におけるPDCAシート!$H$4:$V$4,0)+6)","v":"- 選択 -"},{"$nulls":3},{"$f":"OFFSET(【実施期間中】個別事業におけるPDCAシート!$A$6,【実施期間中】個別事業におけるPDCAシート!$A$60,MATCH($C339,【実施期間中】個別事業におけるPDCAシート!$H$4:$V$4,0)+6)","v":"- 選択 -"},{"$nulls":3},{"$f":"OFFSET(【実施期間中】個別事業におけるPDCAシート!$A$6,【実施期間中】個別事業におけるPDCAシート!$A$61,MATCH($C339,【実施期間中】個別事業におけるPDCAシート!$H$4:$V$4,0)+6)","v":"- 選択 -"},{"$nulls":3},{"$f":"OFFSET(【実施期間中】個別事業におけるPDCAシート!$A$6,【実施期間中】個別事業におけるPDCAシート!$A$62,MATCH($C339,【実施期間中】個別事業におけるPDCAシート!$H$4:$V$4,0)+6)","v":"- 選択 -"},{"$nulls":4},{"$f":"OFFSET(【実施期間中】個別事業におけるPDCAシート!$A$6,【実施期間中】個別事業におけるPDCAシート!$A$63,MATCH($C339,【実施期間中】個別事業におけるPDCAシート!$H$4:$V$4,0)+6)","v":"- 選択 -"}]
[{"$nulls":4},"内容（",null,{"$f":"OFFSET(【実施期間中】個別事業におけるPDCAシート!$A$6,【実施期間中】個別事業におけるPDCAシート!$A$64,MATCH($C339,【実施期間中】個別事業におけるPDCAシート!$H$4:$V$4,0)+6)","v":""},{"$nulls":20},"）"]
[{"$nulls":4},"目標回収数",{"$nulls":3},"計",{"$f":"OFFSET(【実施期間中】個別事業におけるPDCAシート!$A$6,【実施期間中】個別事業におけるPDCAシート!$A$66,MATCH($C339,【実施期間中】個別事業におけるPDCAシート!$H$4:$V$4,0)+6)","v":0},null,null,"枚",null,"※複数ある場合は、平均アンケート回収数"]
[{"$nulls":4},"実績値",{"$nulls":3},"計",{"$f":"OFFSET(【実施期間中】個別事業におけるPDCAシート!$A$6,【実施期間中】個別事業におけるPDCAシート!$A$67,MATCH($C339,【実施期間中】個別事業におけるPDCAシート!$H$4:$V$4,0)+6)","v":0},null,null,"枚",null,"※複数ある場合は、平均アンケート回収数"]
[]
[null,null,"項目",null,"内容"]
[null,null,"事業9","事業名",{"$f":"OFFSET(【実施期間中】個別事業におけるPDCAシート!$A$6,,MATCH(C382,【実施期間中】個別事業におけるPDCAシート!$H$4:$V$4,0)+6)","v":0}]
[null,null,"普及啓発テーマ",null,"※該当する普及啓発テーマすべてをチェックしてください。"]
[{"$nulls":4},"①",null,"②",null,"③",null,"④",null,"⑤",null,"⑥",null,"⑦",null,"⑧",null,"⑨",null,"⑩",null,"⑪",null,"⑫",{"$nulls":3},"①","②","③","④","⑤","⑥","⑦","⑧","⑨","⑩","⑪","⑫"]
[{"$nulls":4},"省ｴﾈ機器",null,"省ｴﾈ住宅",null,"ｴｺｶｰ",null,"ｸｰﾙﾋﾞｽﾞ",null,"ｳｫｰﾑﾋﾞｽﾞ",null,"照明の\n高効率利用",null,"ｴｺﾄﾞﾗｲﾌﾞ",null,"ｶｰｼｪｱ",null,"公共交通\n機関の利用",null,"再配達防止",null,"シェアエコ",null,"地球温暖化",{"$nulls":3},"省ｴﾈ機器","省ｴﾈ住宅","ｴｺｶｰ","ｸｰﾙﾋﾞｽﾞ","ｳｫｰﾑﾋﾞｽﾞ","照明の\n高効率利用","ｴｺﾄﾞﾗｲﾌﾞ","ｶｰｼｪｱ","公共交通\n機関の利用","再配達防止","シェアエコ","地球温暖化"]
[{"$nulls":30},{"$f":"IF(COUNTIFS(【実施期間中】個別事業におけるPDCAシート!$E$7:$E$17,別紙１_実施報告書!AE384,OFFSET(【実施期間中】個別事業におけるPDCAシート!$F$7,,MATCH(別紙１_実施報告書!$C382,【実施期間中】個別事業におけるPDCAシート!$H$4:$V$4,0)+1,11,1),1),1,0)","v":0},{"$f":"IF(COUNTIFS(【実施期間中】個別事業におけるPDCAシート!$E$7:$E$17,別紙１_実施報告書!AF384,OFFSET(【実施期間中】個別事業におけるPDCAシート!$F$7,,MATCH(別紙１_実施報告書!$C382,【実施期間中】個別事業におけるPDCAシート!$H$4:$V$4,0)+1,11,1),1),1,0)","v":0},{"$f":"IF(COUNTIFS(【実施期間中】個別事業におけるPDCAシート!$E$7:$E$17,別紙１_実施報告書!AG384,OFFSET(【実施期間中】個別事業におけるPDCAシート!$F$7,,MATCH(別紙１_実施報告書!$C382,【実施期間中】個別事業におけるPDCAシート!$H$4:$V$4,0)+1,11,1),1),1,0)","v":0},{"$f":"IF(COUNTIFS(【実施期間中】個別事業におけるPDCAシート!$E$7:$E$17,別紙１_実施報告書!AH384,OFFSET(【実施期間中】個別事業におけるPDCAシート!$F$7,,MATCH(別紙１_実施報告書!$C382,【実施期間中】個別事業におけるPDCAシート!$H$4:$V$4,0)+1,11,1),1),1,0)","v":0},{"$f":"IF(COUNTIFS(【実施期間中】個別事業におけるPDCAシート!$E$7:$E$17,別紙１_実施報告書!AI384,OFFSET(【実施期間中】個別事業におけるPDCAシート!$F$7,,MATCH(別紙１_実施報告書!$C382,【実施期間中】個別事業におけるPDCAシート!$H$4:$V$4,0)+1,11,1),1),1,0)","v":0},{"$f":"IF(COUNTIFS(【実施期間中】個別事業におけるPDCAシート!$E$7:$E$17,別紙１_実施報告書!AJ384,OFFSET(【実施期間中】個別事業におけるPDCAシート!$F$7,,MATCH(別紙１_実施報告書!$C382,【実施期間中】個別事業におけるPDCAシート!$H$4:$V$4,0)+1,11,1),1),1,0)","v":0},{"$f":"IF(COUNTIFS(【実施期間中】個別事業におけるPDCAシート!$E$7:$E$17,別紙１_実施報告書!AK384,OFFSET(【実施期間中】個別事業におけるPDCAシート!$F$7,,MATCH(別紙１_実施報告書!$C382,【実施期間中】個別事業におけるPDCAシート!$H$4:$V$4,0)+1,11,1),1),1,0)","v":0},{"$f":"IF(COUNTIFS(【実施期間中】個別事業におけるPDCAシート!$E$7:$E$17,別紙１_実施報告書!AL384,OFFSET(【実施期間中】個別事業におけるPDCAシート!$F$7,,MATCH(別紙１_実施報告書!$C382,【実施期間中】個別事業におけるPDCAシート!$H$4:$V$4,0)+1,11,1),1),1,0)","v":0},{"$f":"IF(COUNTIFS(【実施期間中】個別事業におけるPDCAシート!$E$7:$E$17,別紙１_実施報告書!AM384,OFFSET(【実施期間中】個別事業におけるPDCAシート!$F$7,,MATCH(別紙１_実施報告書!$C382,【実施期間中】個別事業におけるPDCAシート!$H$4:$V$4,0)+1,11,1),1),1,0)","v":0},{"$f":"IF(COUNTIFS(【実施期間中】個別事業におけるPDCAシート!$E$7:$E$17,別紙１_実施報告書!AN384,OFFSET(【実施期間中】個別事業におけるPDCAシート!$F$7,,MATCH(別紙１_実施報告書!$C382,【実施期間中】個別事業におけるPDCAシート!$H$4:$V$4,0)+1,11,1),1),1,0)","v":0},{"$f":"IF(COUNTIFS(【実施期間中】個別事業におけるPDCAシート!$E$7:$E$17,別紙１_実施報告書!AO384,OFFSET(【実施期間中】個別事業におけるPDCAシート!$F$7,,MATCH(別紙１_実施報告書!$C382,【実施期間中】個別事業におけるPDCAシート!$H$4:$V$4,0)+1,11,1),1),1,0)","v":0},{"$f":"IF(COUNTIFS(【実施期間中】個別事業におけるPDCAシート!$E$7:$E$18,別紙１_実施報告書!AP384,OFFSET(【実施期間中】個別事業におけるPDCAシート!$F$7,,MATCH(別紙１_実施報告書!$C382,【実施期間中】個別事業におけるPDCAシート!$H$4:$V$4,0)+1,12,1),1),1,0)","v":0},{"$f":"COUNTIFS(AE386:AP386,1)+COUNTIFS(AE386:AP386,\"TRUE\")","v":0}]
[null,null,"訴求手法",null,"※訴求手法については、該当する欄にチェックしてください。"]
[{"$nulls":4},"a) 情報発信型（受動型）",{"$nulls":7},"b) 情報発信型（能動型）",{"$nulls":7},"c) 双方向体験交流型"]
[{"$nulls":4},"ラジオ、新聞・広報紙等",{"$nulls":7},"講演会・パネル展示等",{"$nulls":7},"試乗・体験会、省ｴﾈ診断等",{"$nulls":22},"a)","b)","c)"]
[{"$nulls":43},{"$f":"IF(COUNTIFS(【実施期間中】個別事業におけるPDCAシート!$E$19:$E$21,別紙１_実施報告書!AR389,OFFSET(【実施期間中】個別事業におけるPDCAシート!$F$19,,MATCH(別紙１_実施報告書!$C382,【実施期間中】個別事業におけるPDCAシート!$H$4:$V$4,0)+1,3,1),1),1,0)","v":0},{"$f":"IF(COUNTIFS(【実施期間中】個別事業におけるPDCAシート!$E$19:$E$21,別紙１_実施報告書!AS389,OFFSET(【実施期間中】個別事業におけるPDCAシート!$F$19,,MATCH(別紙１_実施報告書!$C382,【実施期間中】個別事業におけるPDCAシート!$H$4:$V$4,0)+1,3,1),1),1,0)","v":0},{"$f":"IF(COUNTIFS(【実施期間中】個別事業におけるPDCAシート!$E$19:$E$21,別紙１_実施報告書!AT389,OFFSET(【実施期間中】個別事業におけるPDCAシート!$F$19,,MATCH(別紙１_実施報告書!$C382,【実施期間中】個別事業におけるPDCAシート!$H$4:$V$4,0)+1,3,1),1),1,0)","v":0},{"$nulls":8},{"$f":"COUNTIFS(AR390:BB390,1)","v":0}]
[null,null,"実施期間",null,{"$f":"OFFSET(【実施期間中】個別事業におけるPDCAシート!$A$6,【実施期間中】個別事業におけるPDCAシート!$A$22,MATCH($C382,【実施期間中】個別事業におけるPDCAシート!$H$4:$V$4,0)+6)","v":""},{"$nulls":9},"～",{"$nulls":3},{"$f":"OFFSET(【実施期間中】個別事業におけるPDCAシート!$A$6,【実施期間中】個別事業におけるPDCAシート!$A$24,MATCH($C382,【実施期間中】個別事業におけるPDCAシート!$H$4:$V$4,0)+6)","v":""}]
[null,null,"（備考）",null,{"$f":"OFFSET(【実施期間中】個別事業におけるPDCAシート!$A$6,【実施期間中】個別事業におけるPDCAシート!$A$25,MATCH($C382,【実施期間中】個別事業におけるPDCAシート!$H$4:$V$4,0)+6)","v":""}]
[null,null,"実施日\n（※同一事業内で、\n同一の内容・場所において\n複数日実施する場合）",null,1,null,{"$f":"OFFSET(【実施期間中】個別事業におけるPDCAシート!$A$6,【実施期間中】個別事業におけるPDCAシート!$A$26,MATCH($C382,【実施期間中】個別事業におけるPDCAシート!$H$4:$V$4,0)+6)","v":""},{"$nulls":9},6,null,{"$f":"OFFSET(【実施期間中】個別事業におけるPDCAシート!$A$6,【実施期間中】個別事業におけるPDCAシート!$A$31,MATCH($C382,【実施期間中】個別事業におけるPDCAシート!$H$4:$V$4,0)+6)","v":""}]
[{"$nulls":4},2,null,{"$f":"OFFSET(【実施期間中】個別事業におけるPDCAシート!$A$6,【実施期間中】個別事業におけるPDCAシート!$A$27,MATCH($C382,【実施期間中】個別事業におけるPDCAシート!$H$4:$V$4,0)+6)","v":""},{"$nulls":9},7,null,{"$f":"OFFSET(【実施期間中】個別事業におけるPDCAシート!$A$6,【実施期間中】個別事業におけるPDCAシート!$A$32,MATCH($C382,【実施期間中】個別事業におけるPDCAシート!$H$4:$V$4,0)+6)","v":""}]
[{"$nulls":4},3,null,{"$f":"OFFSET(【実施期間中】個別事業におけるPDCAシート!$A$6,【実施期間中】個別事業におけるPDCAシート!$A$28,MATCH($C382,【実施期間中】個別事業におけるPDCAシート!$H$4:$V$4,0)+6)","v":""},{"$nulls":9},8,null,{"$f":"OFFSET(【実施期間中】個別事業におけるPDCAシート!$A$6,【実施期間中】個別事業におけるPDCAシート!$A$33,MATCH($C382,【実施期間中】個別事業におけるPDCAシート!$H$4:$V$4,0)+6)","v":""}]
[{"$nulls":4},4,null,{"$f":"OFFSET(【実施期間中】個別事業におけるPDCAシート!$A$6,【実施期間中】個別事業におけるPDCAシート!$A$29,MATCH($C382,【実施期間中】個別事業におけるPDCAシート!$H$4:$V$4,0)+6)","v":""},{"$nulls":9},9,null,{"$f":"OFFSET(【実施期間中】個別事業におけるPDCAシート!$A$6,【実施期間中】個別事業におけるPDCAシート!$A$34,MATCH($C382,【実施期間中】個別事業におけるPDCAシート!$H$4:$V$4,0)+6)","v":""}]
[{"$nulls":4},5,null,{"$f":"OFFSET(【実施期間中】個別事業におけるPDCAシート!$A$6,【実施期間中】個別事業におけるPDCAシート!$A$30,MATCH($C382,【実施期間中】個別事業におけるPDCAシート!$H$4:$V$4,0)+6)","v":""},{"$nulls":9},10,null,{"$f":"OFFSET(【実施期間中】個別事業におけるPDCAシート!$A$6,【実施期間中】個別事業におけるPDCAシート!$A$35,MATCH($C382,【実施期間中】個別事業におけるPDCAシート!$H$4:$V$4,0)+6)","v":""}]
[null,null,"事業の概要",null,{"$f":"OFFSET(【実施期間中】個別事業におけるPDCAシート!$A$6,【実施期間中】個別事業におけるPDCAシート!$A$36,MATCH($C382,【実施期間中】個別事業におけるPDCAシート!$H$4:$V$4,0)+6)","v":""}]
[null,null,"指定自治体等との連携",null,{"$f":"別紙１_実施計画書!E384","v":0}]
[null,null,"実施結果",null,{"$f":"OFFSET(【実施期間中】個別事業におけるPDCAシート!$A$6,【実施期間中】個別事業におけるPDCAシート!$A$38,MATCH($C382,【実施期間中】個別事業におけるPDCAシート!$H$4:$V$4,0)+6)","v":0}]
[]
[null,null,"主な訴求対象","計画",{"$f":"OFFSET(【実施期間中】個別事業におけるPDCAシート!$A$6,【実施期間中】個別事業におけるPDCAシート!$A$39,MATCH($C382,【実施期間中】個別事業におけるPDCAシート!$H$4:$V$4,0)+6)","v":""}]
[{"$nulls":3},"結果",{"$f":"OFFSET(【実施期間中】個別事業におけるPDCAシート!$A$6,【実施期間中】個別事業におけるPDCAシート!$A$40,MATCH($C382,【実施期間中】個別事業におけるPDCAシート!$H$4:$V$4,0)+6)","v":0}]
[null,null,"目標アウトプット\n（リーチ数）\n（想定及び実績）",null,"カテゴリ①（プルダウン選択）⇒",{"$nulls":10},{"$f":"OFFSET(【実施期間中】個別事業におけるPDCAシート!$A$6,【実施期間中】個別事業におけるPDCAシート!$A$41,MATCH($C382,【実施期間中】個別事業におけるPDCAシート!$H$4:$V$4,0)+6)","v":""}]
[{"$nulls":4},"計画値",{"$nulls":3},"計",null,{"$f":"別紙１_実施計画書!K390","v":{"v":0,"d":"0名"}}]
[{"$nulls":4},"実績値",{"$nulls":3},"計",null,{"$f":"OFFSET(【実施期間中】個別事業におけるPDCAシート!$A$6,【実施期間中】個別事業におけるPDCAシート!$A$44,MATCH($C382,【実施期間中】個別事業におけるPDCAシート!$H$4:$V$4,0)+6)","v":{"v":0,"d":"0名"}}]
[{"$nulls":4},"算出根拠",{"$nulls":3},{"$f":"OFFSET(【実施期間中】個別事業におけるPDCAシート!$A$6,【実施期間中】個別事業におけるPDCAシート!$A$45,MATCH($C382,【実施期間中】個別事業におけるPDCAシート!$H$4:$V$4,0)+6)","v":""}]
[{"$nulls":4},"カテゴリ②（プルダウン選択）⇒",{"$nulls":10},{"$f":"OFFSET(【実施期間中】個別事業におけるPDCAシート!$A$6,【実施期間中】個別事業におけるPDCAシート!$A$46,MATCH($C382,【実施期間中】個別事業におけるPDCAシート!$H$4:$V$4,0)+6)","v":""}]
[{"$nulls":4},"計画値",{"$nulls":3},"計",null,{"$f":"別紙１_実施計画書!K394","v":{"v":0,"d":"0名"}}]
[{"$nulls":4},"実績値",{"$nulls":3},"計",null,{"$f":"OFFSET(【実施期間中】個別事業におけるPDCAシート!$A$6,【実施期間中】個別事業におけるPDCAシート!$A$49,MATCH($C382,【実施期間中】個別事業におけるPDCAシート!$H$4:$V$4,0)+6)","v":{"v":0,"d":"0名"}}]
[{"$nulls":4},"算出根拠",{"$nulls":3},{"$f":"OFFSET(【実施期間中】個別事業におけるPDCAシート!$A$6,【実施期間中】個別事業におけるPDCAシート!$A$50,MATCH($C382,【実施期間中】個別事業におけるPDCAシート!$H$4:$V$4,0)+6)","v":""}]
[null,null,"目標アウトカム\n（想定及び実績）",null,"計画",{"$nulls":3},{"$f":"OFFSET(【実施期間中】個別事業におけるPDCAシート!$A$6,【実施期間中】個別事業におけるPDCAシート!$A$51,MATCH($C382,【実施期間中】個別事業におけるPDCAシート!$H$4:$V$4,0)+6)","v":""}]
[{"$nulls":4},"実績"]
[null,null,"賛同数（想定及び実績）",null,"計画値",{"$nulls":3},"団体",null,{"$f":"OFFSET(【実施期間中】個別事業におけるPDCAシート!$A$6,【実施期間中】個別事業におけるPDCAシート!$A$54,MATCH($C382,【実施期間中】個別事業におけるPDCAシート!$H$4:$V$4,0)+6)","v":{"v":0,"d":"0団体"}},{"$nulls":4},"、個人",null,{"$f":"OFFSET(【実施期間中】個別事業におけるPDCAシート!$A$6,【実施期間中】個別事業におけるPDCAシート!$A$57,MATCH($C382,【実施期間中】個別事業におけるPDCAシート!$H$4:$V$4,0)+6)","v":{"v":0,"d":"0名"}}]
[{"$nulls":4},"実績値",{"$nulls":3},"団体",null,{"$f":"OFFSET(【実施期間中】個別事業におけるPDCAシート!$A$6,【実施期間中】個別事業におけるPDCAシート!$A$55,MATCH($C382,【実施期間中】個別事業におけるPDCAシート!$H$4:$V$4,0)+6)","v":{"v":0,"d":"0団体"}},{"$nulls":4},"、個人",null,{"$f":"OFFSET(【実施期間中】個別事業におけるPDCAシート!$A$6,【実施期間中】個別事業におけるPDCAシート!$A$58,MATCH($C382,【実施期間中】個別事業におけるPDCAシート!$H$4:$V$4,0)+6)","v":{"v":0,"d":"0名"}}]
[null,null,"効果検証\n（アンケート）予定",null,"※アンケートの実施予定をプルダウンより選択してください。"]
[{"$nulls":4},"公募要領に規定のアンケート",{"$nulls":16},"貴事業者独自のアンケート"]
[{"$nulls":4},"省エネ機器",{"$nulls":3},"省エネ住宅",{"$nulls":3},"エコドライブ",{"$nulls":3},"低炭素物流（宅配便の再配達防止）"]
[{"$nulls":4},{"$f":"OFFSET(【実施期間中】個別事業におけるPDCAシート!$A$6,【実施期間中】個別事業におけるPDCAシート!$A$59,MATCH($C382,【実施期間中】個別事業におけるPDCAシート!$H$4:$V$4,0)+6)","v":"- 選択 -"},{"$nulls":3},{"$f":"OFFSET(【実施期間中】個別事業におけるPDCAシート!$A$6,【実施期間中】個別事業におけるPDCAシート!$A$60,MATCH($C382,【実施期間中】個別事業におけるPDCAシート!$H$4:$V$4,0)+6)","v":"- 選択 -"},{"$nulls":3},{"$f":"OFFSET(【実施期間中】個別事業におけるPDCAシート!$A$6,【実施期間中】個別事業におけるPDCAシート!$A$61,MATCH($C382,【実施期間中】個別事業におけるPDCAシート!$H$4:$V$4,0)+6)","v":"- 選択 -"},{"$nulls":3},{"$f":"OFFSET(【実施期間中】個別事業におけるPDCAシート!$A$6,【実施期間中】個別事業におけるPDCAシート!$A$62,MATCH($C382,【実施期間中】個別事業におけるPDCAシート!$H$4:$V$4,0)+6)","v":"- 選択 -"},{"$nulls":4},{"$f":"OFFSET(【実施期間中】個別事業におけるPDCAシート!$A$6,【実施期間中】個別事業におけるPDCAシート!$A$63,MATCH($C382,【実施期間中】個別事業におけるPDCAシート!$H$4:$V$4,0)+6)","v":"- 選択 -"}]
[{"$nulls":4},"内容（",null,{"$f":"OFFSET(【実施期間中】個別事業におけるPDCAシート!$A$6,【実施期間中】個別事業におけるPDCAシート!$A$64,MATCH($C382,【実施期間中】個別事業におけるPDCAシート!$H$4:$V$4,0)+6)","v":""},{"$nulls":20},"）"]
[{"$nulls":4},"目標回収数",{"$nulls":3},"計",{"$f":"OFFSET(【実施期間中】個別事業におけるPDCAシート!$A$6,【実施期間中】個別事業におけるPDCAシート!$A$66,MATCH($C382,【実施期間中】個別事業におけるPDCAシート!$H$4:$V$4,0)+6)","v":0},null,null,"枚",null,"※複数ある場合は、平均アンケート回収数"]
[{"$nulls":4},"実績値",{"$nulls":3},"計",{"$f":"OFFSET(【実施期間中】個別事業におけるPDCAシート!$A$6,【実施期間中】個別事業におけるPDCAシート!$A$67,MATCH($C382,【実施期間中】個別事業におけるPDCAシート!$H$4:$V$4,0)+6)","v":0},null,null,"枚",null,"※複数ある場合は、平均アンケート回収数"]
[]
[null,null,"項目",null,"内容"]
[null,null,"事業10","事業名",{"$f":"OFFSET(【実施期間中】個別事業におけるPDCAシート!$A$6,,MATCH(C425,【実施期間中】個別事業におけるPDCAシート!$H$4:$V$4,0)+6)","v":0}]
[null,null,"普及啓発テーマ",null,"※該当する普及啓発テーマすべてをチェックしてください。"]
[{"$nulls":4},"①",null,"②",null,"③",null,"④",null,"⑤",null,"⑥",null,"⑦",null,"⑧",null,"⑨",null,"⑩",null,"⑪",null,"⑫",{"$nulls":3},"①","②","③","④","⑤","⑥","⑦","⑧","⑨","⑩","⑪","⑫"]
[{"$nulls":4},"省ｴﾈ機器",null,"省ｴﾈ住宅",null,"ｴｺｶｰ",null,"ｸｰﾙﾋﾞｽﾞ",null,"ｳｫｰﾑﾋﾞｽﾞ",null,"照明の\n高効率利用",null,"ｴｺﾄﾞﾗｲﾌﾞ",null,"ｶｰｼｪｱ",null,"公共交通\n機関の利用",null,"再配達防止",null,"シェアエコ",null,"地球温暖化",{"$nulls":3},"省ｴﾈ機器","省ｴﾈ住宅","ｴｺｶｰ","ｸｰﾙﾋﾞｽﾞ","ｳｫｰﾑﾋﾞｽﾞ","照明の\n高効率利用","ｴｺﾄﾞﾗｲﾌﾞ","ｶｰｼｪｱ","公共交通\n機関の利用","再配達防止","シェアエコ","地球温暖化"]
[{"$nulls":30},{"$f":"IF(COUNTIFS(【実施期間中】個別事業におけるPDCAシート!$E$7:$E$17,別紙１_実施報告書!AE427,OFFSET(【実施期間中】個別事業におけるPDCAシート!$F$7,,MATCH(別紙１_実施報告書!$C425,【実施期間中】個別事業におけるPDCAシート!$H$4:$V$4,0)+1,11,1),1),1,0)","v":0},{"$f":"IF(COUNTIFS(【実施期間中】個別事業におけるPDCAシート!$E$7:$E$17,別紙１_実施報告書!AF427,OFFSET(【実施期間中】個別事業におけるPDCAシート!$F$7,,MATCH(別紙１_実施報告書!$C425,【実施期間中】個別事業におけるPDCAシート!$H$4:$V$4,0)+1,11,1),1),1,0)","v":0},{"$f":"IF(COUNTIFS(【実施期間中】個別事業におけるPDCAシート!$E$7:$E$17,別紙１_実施報告書!AG427,OFFSET(【実施期間中】個別事業におけるPDCAシート!$F$7,,MATCH(別紙１_実施報告書!$C425,【実施期間中】個別事業におけるPDCAシート!$H$4:$V$4,0)+1,11,1),1),1,0)","v":0},{"$f":"IF(COUNTIFS(【実施期間中】個別事業におけるPDCAシート!$E$7:$E$17,別紙１_実施報告書!AH427,OFFSET(【実施期間中】個別事業におけるPDCAシート!$F$7,,MATCH(別紙１_実施報告書!$C425,【実施期間中】個別事業におけるPDCAシート!$H$4:$V$4,0)+1,11,1),1),1,0)","v":0},{"$f":"IF(COUNTIFS(【実施期間中】個別事業におけるPDCAシート!$E$7:$E$17,別紙１_実施報告書!AI427,OFFSET(【実施期間中】個別事業におけるPDCAシート!$F$7,,MATCH(別紙１_実施報告書!$C425,【実施期間中】個別事業におけるPDCAシート!$H$4:$V$4,0)+1,11,1),1),1,0)","v":0},{"$f":"IF(COUNTIFS(【実施期間中】個別事業におけるPDCAシート!$E$7:$E$17,別紙１_実施報告書!AJ427,OFFSET(【実施期間中】個別事業におけるPDCAシート!$F$7,,MATCH(別紙１_実施報告書!$C425,【実施期間中】個別事業におけるPDCAシート!$H$4:$V$4,0)+1,11,1),1),1,0)","v":0},{"$f":"IF(COUNTIFS(【実施期間中】個別事業におけるPDCAシート!$E$7:$E$17,別紙１_実施報告書!AK427,OFFSET(【実施期間中】個別事業におけるPDCAシート!$F$7,,MATCH(別紙１_実施報告書!$C425,【実施期間中】個別事業におけるPDCAシート!$H$4:$V$4,0)+1,11,1),1),1,0)","v":0},{"$f":"IF(COUNTIFS(【実施期間中】個別事業におけるPDCAシート!$E$7:$E$17,別紙１_実施報告書!AL427,OFFSET(【実施期間中】個別事業におけるPDCAシート!$F$7,,MATCH(別紙１_実施報告書!$C425,【実施期間中】個別事業におけるPDCAシート!$H$4:$V$4,0)+1,11,1),1),1,0)","v":0},{"$f":"IF(COUNTIFS(【実施期間中】個別事業におけるPDCAシート!$E$7:$E$17,別紙１_実施報告書!AM427,OFFSET(【実施期間中】個別事業におけるPDCAシート!$F$7,,MATCH(別紙１_実施報告書!$C425,【実施期間中】個別事業におけるPDCAシート!$H$4:$V$4,0)+1,11,1),1),1,0)","v":0},{"$f":"IF(COUNTIFS(【実施期間中】個別事業におけるPDCAシート!$E$7:$E$17,別紙１_実施報告書!AN427,OFFSET(【実施期間中】個別事業におけるPDCAシート!$F$7,,MATCH(別紙１_実施報告書!$C425,【実施期間中】個別事業におけるPDCAシート!$H$4:$V$4,0)+1,11,1),1),1,0)","v":0},{"$f":"IF(COUNTIFS(【実施期間中】個別事業におけるPDCAシート!$E$7:$E$17,別紙１_実施報告書!AO427,OFFSET(【実施期間中】個別事業におけるPDCAシート!$F$7,,MATCH(別紙１_実施報告書!$C425,【実施期間中】個別事業におけるPDCAシート!$H$4:$V$4,0)+1,11,1),1),1,0)","v":0},{"$f":"IF(COUNTIFS(【実施期間中】個別事業におけるPDCAシート!$E$7:$E$18,別紙１_実施報告書!AP427,OFFSET(【実施期間中】個別事業におけるPDCAシート!$F$7,,MATCH(別紙１_実施報告書!$C425,【実施期間中】個別事業におけるPDCAシート!$H$4:$V$4,0)+1,12,1),1),1,0)","v":0},{"$f":"COUNTIFS(AE429:AP429,1)+COUNTIFS(AE429:AP429,\"TRUE\")","v":0}]
[null,null,"訴求手法",null,"※訴求手法については、該当する欄にチェックしてください。"]
[{"$nulls":4},"a) 情報発信型（受動型）",{"$nulls":7},"b) 情報発信型（能動型）",{"$nulls":7},"c) 双方向体験交流型"]
[{"$nulls":4},"ラジオ、新聞・広報紙等",{"$nulls":7},"講演会・パネル展示等",{"$nulls":7},"試乗・体験会、省ｴﾈ診断等",{"$nulls":22},"a)","b)","c)"]
[{"$nulls":43},{"$f":"IF(COUNTIFS(【実施期間中】個別事業におけるPDCAシート!$E$19:$E$21,別紙１_実施報告書!AR432,OFFSET(【実施期間中】個別事業におけるPDCAシート!$F$19,,MATCH(別紙１_実施報告書!$C425,【実施期間中】個別事業におけるPDCAシート!$H$4:$V$4,0)+1,3,1),1),1,0)","v":0},{"$f":"IF(COUNTIFS(【実施期間中】個別事業におけるPDCAシート!$E$19:$E$21,別紙１_実施報告書!AS432,OFFSET(【実施期間中】個別事業におけるPDCAシート!$F$19,,MATCH(別紙１_実施報告書!$C425,【実施期間中】個別事業におけるPDCAシート!$H$4:$V$4,0)+1,3,1),1),1,0)","v":0},{"$f":"IF(COUNTIFS(【実施期間中】個別事業におけるPDCAシート!$E$19:$E$21,別紙１_実施報告書!AT432,OFFSET(【実施期間中】個別事業におけるPDCAシート!$F$19,,MATCH(別紙１_実施報告書!$C425,【実施期間中】個別事業におけるPDCAシート!$H$4:$V$4,0)+1,3,1),1),1,0)","v":0},{"$nulls":8},{"$f":"COUNTIFS(AR433:BB433,1)","v":0}]
[null,null,"実施期間",null,{"$f":"OFFSET(【実施期間中】個別事業におけるPDCAシート!$A$6,【実施期間中】個別事業におけるPDCAシート!$A$22,MATCH($C425,【実施期間中】個別事業におけるPDCAシート!$H$4:$V$4,0)+6)","v":""},{"$nulls":9},"～",{"$nulls":3},{"$f":"OFFSET(【実施期間中】個別事業におけるPDCAシート!$A$6,【実施期間中】個別事業におけるPDCAシート!$A$24,MATCH($C425,【実施期間中】個別事業におけるPDCAシート!$H$4:$V$4,0)+6)","v":""}]
[null,null,"（備考）",null,{"$f":"OFFSET(【実施期間中】個別事業におけるPDCAシート!$A$6,【実施期間中】個別事業におけるPDCAシート!$A$25,MATCH($C425,【実施期間中】個別事業におけるPDCAシート!$H$4:$V$4,0)+6)","v":""}]
[null,null,"実施日\n（※同一事業内で、\n同一の内容・場所において\n複数日実施する場合）",null,1,null,{"$f":"OFFSET(【実施期間中】個別事業におけるPDCAシート!$A$6,【実施期間中】個別事業におけるPDCAシート!$A$26,MATCH($C425,【実施期間中】個別事業におけるPDCAシート!$H$4:$V$4,0)+6)","v":""},{"$nulls":9},6,null,{"$f":"OFFSET(【実施期間中】個別事業におけるPDCAシート!$A$6,【実施期間中】個別事業におけるPDCAシート!$A$31,MATCH($C425,【実施期間中】個別事業におけるPDCAシート!$H$4:$V$4,0)+6)","v":""}]
[{"$nulls":4},2,null,{"$f":"OFFSET(【実施期間中】個別事業におけるPDCAシート!$A$6,【実施期間中】個別事業におけるPDCAシート!$A$27,MATCH($C425,【実施期間中】個別事業におけるPDCAシート!$H$4:$V$4,0)+6)","v":""},{"$nulls":9},7,null,{"$f":"OFFSET(【実施期間中】個別事業におけるPDCAシート!$A$6,【実施期間中】個別事業におけるPDCAシート!$A$32,MATCH($C425,【実施期間中】個別事業におけるPDCAシート!$H$4:$V$4,0)+6)","v":""}]
[{"$nulls":4},3,null,{"$f":"OFFSET(【実施期間中】個別事業におけるPDCAシート!$A$6,【実施期間中】個別事業におけるPDCAシート!$A$28,MATCH($C425,【実施期間中】個別事業におけるPDCAシート!$H$4:$V$4,0)+6)","v":""},{"$nulls":9},8,null,{"$f":"OFFSET(【実施期間中】個別事業におけるPDCAシート!$A$6,【実施期間中】個別事業におけるPDCAシート!$A$33,MATCH($C425,【実施期間中】個別事業におけるPDCAシート!$H$4:$V$4,0)+6)","v":""}]
[{"$nulls":4},4,null,{"$f":"OFFSET(【実施期間中】個別事業におけるPDCAシート!$A$6,【実施期間中】個別事業におけるPDCAシート!$A$29,MATCH($C425,【実施期間中】個別事業におけるPDCAシート!$H$4:$V$4,0)+6)","v":""},{"$nulls":9},9,null,{"$f":"OFFSET(【実施期間中】個別事業におけるPDCAシート!$A$6,【実施期間中】個別事業におけるPDCAシート!$A$34,MATCH($C425,【実施期間中】個別事業におけるPDCAシート!$H$4:$V$4,0)+6)","v":""}]
[{"$nulls":4},5,null,{"$f":"OFFSET(【実施期間中】個別事業におけるPDCAシート!$A$6,【実施期間中】個別事業におけるPDCAシート!$A$30,MATCH($C425,【実施期間中】個別事業におけるPDCAシート!$H$4:$V$4,0)+6)","v":""},{"$nulls":9},10,null,{"$f":"OFFSET(【実施期間中】個別事業におけるPDCAシート!$A$6,【実施期間中】個別事業におけるPDCAシート!$A$35,MATCH($C425,【実施期間中】個別事業におけるPDCAシート!$H$4:$V$4,0)+6)","v":""}]
[null,null,"事業の概要",null,{"$f":"OFFSET(【実施期間中】個別事業におけるPDCAシート!$A$6,【実施期間中】個別事業におけるPDCAシート!$A$36,MATCH($C425,【実施期間中】個別事業におけるPDCAシート!$H$4:$V$4,0)+6)","v":""}]
[null,null,"指定自治体等との連携",null,{"$f":"別紙１_実施計画書!E425","v":0}]
[null,null,"実施結果",null,{"$f":"OFFSET(【実施期間中】個別事業におけるPDCAシート!$A$6,【実施期間中】個別事業におけるPDCAシート!$A$38,MATCH($C425,【実施期間中】個別事業におけるPDCAシート!$H$4:$V$4,0)+6)","v":0}]
[]
[null,null,"主な訴求対象","計画",{"$f":"OFFSET(【実施期間中】個別事業におけるPDCAシート!$A$6,【実施期間中】個別事業におけるPDCAシート!$A$39,MATCH($C425,【実施期間中】個別事業におけるPDCAシート!$H$4:$V$4,0)+6)","v":""}]
[{"$nulls":3},"結果",{"$f":"OFFSET(【実施期間中】個別事業におけるPDCAシート!$A$6,【実施期間中】個別事業におけるPDCAシート!$A$40,MATCH($C425,【実施期間中】個別事業におけるPDCAシート!$H$4:$V$4,0)+6)","v":0}]
[null,null,"目標アウトプット\n（リーチ数）\n（想定及び実績）",null,"カテゴリ①（プルダウン選択）⇒",{"$nulls":10},{"$f":"OFFSET(【実施期間中】個別事業におけるPDCAシート!$A$6,【実施期間中】個別事業におけるPDCAシート!$A$41,MATCH($C425,【実施期間中】個別事業におけるPDCAシート!$H$4:$V$4,0)+6)","v":""}]
[{"$nulls":4},"計画値",{"$nulls":3},"計",null,{"$f":"別紙１_実施計画書!K431","v":{"v":0,"d":"0名"}}]
[{"$nulls":4},"実績値",{"$nulls":3},"計",null,{"$f":"OFFSET(【実施期間中】個別事業におけるPDCAシート!$A$6,【実施期間中】個別事業におけるPDCAシート!$A$44,MATCH($C425,【実施期間中】個別事業におけるPDCAシート!$H$4:$V$4,0)+6)","v":{"v":0,"d":"0名"}}]
[{"$nulls":4},"算出根拠",{"$nulls":3},{"$f":"OFFSET(【実施期間中】個別事業におけるPDCAシート!$A$6,【実施期間中】個別事業におけるPDCAシート!$A$45,MATCH($C425,【実施期間中】個別事業におけるPDCAシート!$H$4:$V$4,0)+6)","v":""}]
[{"$nulls":4},"カテゴリ②（プルダウン選択）⇒",{"$nulls":10},{"$f":"OFFSET(【実施期間中】個別事業におけるPDCAシート!$A$6,【実施期間中】個別事業におけるPDCAシート!$A$46,MATCH($C425,【実施期間中】個別事業におけるPDCAシート!$H$4:$V$4,0)+6)","v":""}]
[{"$nulls":4},"計画値",{"$nulls":3},"計",null,{"$f":"別紙１_実施計画書!K435","v":{"v":0,"d":"0名"}}]
[{"$nulls":4},"実績値",{"$nulls":3},"計",null,{"$f":"OFFSET(【実施期間中】個別事業におけるPDCAシート!$A$6,【実施期間中】個別事業におけるPDCAシート!$A$49,MATCH($C425,【実施期間中】個別事業におけるPDCAシート!$H$4:$V$4,0)+6)","v":{"v":0,"d":"0名"}}]
[{"$nulls":4},"算出根拠",{"$nulls":3},{"$f":"OFFSET(【実施期間中】個別事業におけるPDCAシート!$A$6,【実施期間中】個別事業におけるPDCAシート!$A$50,MATCH($C425,【実施期間中】個別事業におけるPDCAシート!$H$4:$V$4,0)+6)","v":""}]
[null,null,"目標アウトカム\n（想定及び実績）",null,"計画",{"$nulls":3},{"$f":"OFFSET(【実施期間中】個別事業におけるPDCAシート!$A$6,【実施期間中】個別事業におけるPDCAシート!$A$51,MATCH($C425,【実施期間中】個別事業におけるPDCAシート!$H$4:$V$4,0)+6)","v":""}]
[{"$nulls":4},"実績"]
[null,null,"賛同数（想定及び実績）",null,"計画値",{"$nulls":3},"団体",null,{"$f":"OFFSET(【実施期間中】個別事業におけるPDCAシート!$A$6,【実施期間中】個別事業におけるPDCAシート!$A$54,MATCH($C425,【実施期間中】個別事業におけるPDCAシート!$H$4:$V$4,0)+6)","v":{"v":0,"d":"0団体"}},{"$nulls":4},"、個人",null,{"$f":"OFFSET(【実施期間中】個別事業におけるPDCAシート!$A$6,【実施期間中】個別事業におけるPDCAシート!$A$57,MATCH($C425,【実施期間中】個別事業におけるPDCAシート!$H$4:$V$4,0)+6)","v":{"v":0,"d":"0名"}}]
[{"$nulls":4},"実績値",{"$nulls":3},"団体",null,{"$f":"OFFSET(【実施期間中】個別事業におけるPDCAシート!$A$6,【実施期間中】個別事業におけるPDCAシート!$A$55,MATCH($C425,【実施期間中】個別事業におけるPDCAシート!$H$4:$V$4,0)+6)","v":{"v":0,"d":"0団体"}},{"$nulls":4},"、個人",null,{"$f":"OFFSET(【実施期間中】個別事業におけるPDCAシート!$A$6,【実施期間中】個別事業におけるPDCAシート!$A$58,MATCH($C425,【実施期間中】個別事業におけるPDCAシート!$H$4:$V$4,0)+6)","v":{"v":0,"d":"0名"}}]
[null,null,"効果検証\n（アンケート）予定",null,"※アンケートの実施予定をプルダウンより選択してください。"]
[{"$nulls":4},"公募要領に規定のアンケート",{"$nulls":16},"貴事業者独自のアンケート"]
[{"$nulls":4},"省エネ機器",{"$nulls":3},"省エネ住宅",{"$nulls":3},"エコドライブ",{"$nulls":3},"低炭素物流（宅配便の再配達防止）"]
[{"$nulls":4},{"$f":"OFFSET(【実施期間中】個別事業におけるPDCAシート!$A$6,【実施期間中】個別事業におけるPDCAシート!$A$59,MATCH($C425,【実施期間中】個別事業におけるPDCAシート!$H$4:$V$4,0)+6)","v":"- 選択 -"},{"$nulls":3},{"$f":"OFFSET(【実施期間中】個別事業におけるPDCAシート!$A$6,【実施期間中】個別事業におけるPDCAシート!$A$60,MATCH($C425,【実施期間中】個別事業におけるPDCAシート!$H$4:$V$4,0)+6)","v":"- 選択 -"},{"$nulls":3},{"$f":"OFFSET(【実施期間中】個別事業におけるPDCAシート!$A$6,【実施期間中】個別事業におけるPDCAシート!$A$61,MATCH($C425,【実施期間中】個別事業におけるPDCAシート!$H$4:$V$4,0)+6)","v":"- 選択 -"},{"$nulls":3},{"$f":"OFFSET(【実施期間中】個別事業におけるPDCAシート!$A$6,【実施期間中】個別事業におけるPDCAシート!$A$62,MATCH($C425,【実施期間中】個別事業におけるPDCAシート!$H$4:$V$4,0)+6)","v":"- 選択 -"},{"$nulls":4},{"$f":"OFFSET(【実施期間中】個別事業におけるPDCAシート!$A$6,【実施期間中】個別事業におけるPDCAシート!$A$63,MATCH($C425,【実施期間中】個別事業におけるPDCAシート!$H$4:$V$4,0)+6)","v":"- 選択 -"}]
[{"$nulls":4},"内容（",null,{"$f":"OFFSET(【実施期間中】個別事業におけるPDCAシート!$A$6,【実施期間中】個別事業におけるPDCAシート!$A$64,MATCH($C425,【実施期間中】個別事業におけるPDCAシート!$H$4:$V$4,0)+6)","v":""},{"$nulls":20},"）"]
[{"$nulls":4},"目標回収数",{"$nulls":3},"計",{"$f":"OFFSET(【実施期間中】個別事業におけるPDCAシート!$A$6,【実施期間中】個別事業におけるPDCAシート!$A$66,MATCH($C425,【実施期間中】個別事業におけるPDCAシート!$H$4:$V$4,0)+6)","v":0},null,null,"枚",null,"※複数ある場合は、平均アンケート回収数"]
[{"$nulls":4},"実績値",{"$nulls":3},"計",{"$f":"OFFSET(【実施期間中】個別事業におけるPDCAシート!$A$6,【実施期間中】個別事業におけるPDCAシート!$A$67,MATCH($C425,【実施期間中】個別事業におけるPDCAシート!$H$4:$V$4,0)+6)","v":0},null,null,"枚",null,"※複数ある場合は、平均アンケート回収数"]
[]
[null,null,"項目",null,"内容"]
[null,null,"事業11","事業名",{"$f":"OFFSET(【実施期間中】個別事業におけるPDCAシート!$A$6,,MATCH(C468,【実施期間中】個別事業におけるPDCAシート!$H$4:$V$4,0)+6)","v":0}]
[null,null,"普及啓発テーマ",null,"※該当する普及啓発テーマすべてをチェックしてください。"]
[{"$nulls":4},"①",null,"②",null,"③",null,"④",null,"⑤",null,"⑥",null,"⑦",null,"⑧",null,"⑨",null,"⑩",null,"⑪",null,"⑫",{"$nulls":3},"①","②","③","④","⑤","⑥","⑦","⑧","⑨","⑩","⑪","⑫"]
[{"$nulls":4},"省ｴﾈ機器",null,"省ｴﾈ住宅",null,"ｴｺｶｰ",null,"ｸｰﾙﾋﾞｽﾞ",null,"ｳｫｰﾑﾋﾞｽﾞ",null,"照明の\n高効率利用",null,"ｴｺﾄﾞﾗｲﾌﾞ",null,"ｶｰｼｪｱ",null,"公共交通\n機関の利用",null,"再配達防止",null,"シェアエコ",null,"地球温暖化",{"$nulls":3},"省ｴﾈ機器","省ｴﾈ住宅","ｴｺｶｰ","ｸｰﾙﾋﾞｽﾞ","ｳｫｰﾑﾋﾞｽﾞ","照明の\n高効率利用","ｴｺﾄﾞﾗｲﾌﾞ","ｶｰｼｪｱ","公共交通\n機関の利用","再配達防止","シェアエコ","地球温暖化"]
[{"$nulls":30},{"$f":"IF(COUNTIFS(【実施期間中】個別事業におけるPDCAシート!$E$7:$E$17,別紙１_実施報告書!AE470,OFFSET(【実施期間中】個別事業におけるPDCAシート!$F$7,,MATCH(別紙１_実施報告書!$C468,【実施期間中】個別事業におけるPDCAシート!$H$4:$V$4,0)+1,11,1),1),1,0)","v":0},{"$f":"IF(COUNTIFS(【実施期間中】個別事業におけるPDCAシート!$E$7:$E$17,別紙１_実施報告書!AF470,OFFSET(【実施期間中】個別事業におけるPDCAシート!$F$7,,MATCH(別紙１_実施報告書!$C468,【実施期間中】個別事業におけるPDCAシート!$H$4:$V$4,0)+1,11,1),1),1,0)","v":0},{"$f":"IF(COUNTIFS(【実施期間中】個別事業におけるPDCAシート!$E$7:$E$17,別紙１_実施報告書!AG470,OFFSET(【実施期間中】個別事業におけるPDCAシート!$F$7,,MATCH(別紙１_実施報告書!$C468,【実施期間中】個別事業におけるPDCAシート!$H$4:$V$4,0)+1,11,1),1),1,0)","v":0},{"$f":"IF(COUNTIFS(【実施期間中】個別事業におけるPDCAシート!$E$7:$E$17,別紙１_実施報告書!AH470,OFFSET(【実施期間中】個別事業におけるPDCAシート!$F$7,,MATCH(別紙１_実施報告書!$C468,【実施期間中】個別事業におけるPDCAシート!$H$4:$V$4,0)+1,11,1),1),1,0)","v":0},{"$f":"IF(COUNTIFS(【実施期間中】個別事業におけるPDCAシート!$E$7:$E$17,別紙１_実施報告書!AI470,OFFSET(【実施期間中】個別事業におけるPDCAシート!$F$7,,MATCH(別紙１_実施報告書!$C468,【実施期間中】個別事業におけるPDCAシート!$H$4:$V$4,0)+1,11,1),1),1,0)","v":0},{"$f":"IF(COUNTIFS(【実施期間中】個別事業におけるPDCAシート!$E$7:$E$17,別紙１_実施報告書!AJ470,OFFSET(【実施期間中】個別事業におけるPDCAシート!$F$7,,MATCH(別紙１_実施報告書!$C468,【実施期間中】個別事業におけるPDCAシート!$H$4:$V$4,0)+1,11,1),1),1,0)","v":0},{"$f":"IF(COUNTIFS(【実施期間中】個別事業におけるPDCAシート!$E$7:$E$17,別紙１_実施報告書!AK470,OFFSET(【実施期間中】個別事業におけるPDCAシート!$F$7,,MATCH(別紙１_実施報告書!$C468,【実施期間中】個別事業におけるPDCAシート!$H$4:$V$4,0)+1,11,1),1),1,0)","v":0},{"$f":"IF(COUNTIFS(【実施期間中】個別事業におけるPDCAシート!$E$7:$E$17,別紙１_実施報告書!AL470,OFFSET(【実施期間中】個別事業におけるPDCAシート!$F$7,,MATCH(別紙１_実施報告書!$C468,【実施期間中】個別事業におけるPDCAシート!$H$4:$V$4,0)+1,11,1),1),1,0)","v":0},{"$f":"IF(COUNTIFS(【実施期間中】個別事業におけるPDCAシート!$E$7:$E$17,別紙１_実施報告書!AM470,OFFSET(【実施期間中】個別事業におけるPDCAシート!$F$7,,MATCH(別紙１_実施報告書!$C468,【実施期間中】個別事業におけるPDCAシート!$H$4:$V$4,0)+1,11,1),1),1,0)","v":0},{"$f":"IF(COUNTIFS(【実施期間中】個別事業におけるPDCAシート!$E$7:$E$17,別紙１_実施報告書!AN470,OFFSET(【実施期間中】個別事業におけるPDCAシート!$F$7,,MATCH(別紙１_実施報告書!$C468,【実施期間中】個別事業におけるPDCAシート!$H$4:$V$4,0)+1,11,1),1),1,0)","v":0},{"$f":"IF(COUNTIFS(【実施期間中】個別事業におけるPDCAシート!$E$7:$E$17,別紙１_実施報告書!AO470,OFFSET(【実施期間中】個別事業におけるPDCAシート!$F$7,,MATCH(別紙１_実施報告書!$C468,【実施期間中】個別事業におけるPDCAシート!$H$4:$V$4,0)+1,11,1),1),1,0)","v":0},{"$f":"IF(COUNTIFS(【実施期間中】個別事業におけるPDCAシート!$E$7:$E$18,別紙１_実施報告書!AP470,OFFSET(【実施期間中】個別事業におけるPDCAシート!$F$7,,MATCH(別紙１_実施報告書!$C468,【実施期間中】個別事業におけるPDCAシート!$H$4:$V$4,0)+1,12,1),1),1,0)","v":0},{"$f":"COUNTIFS(AE472:AP472,1)+COUNTIFS(AE472:AP472,\"TRUE\")","v":0}]
[null,null,"訴求手法",null,"※訴求手法については、該当する欄にチェックしてください。"]
[{"$nulls":4},"a) 情報発信型（受動型）",{"$nulls":7},"b) 情報発信型（能動型）",{"$nulls":7},"c) 双方向体験交流型"]
[{"$nulls":4},"ラジオ、新聞・広報紙等",{"$nulls":7},"講演会・パネル展示等",{"$nulls":7},"試乗・体験会、省ｴﾈ診断等",{"$nulls":22},"a)","b)","c)"]
[{"$nulls":43},{"$f":"IF(COUNTIFS(【実施期間中】個別事業におけるPDCAシート!$E$19:$E$21,別紙１_実施報告書!AR475,OFFSET(【実施期間中】個別事業におけるPDCAシート!$F$19,,MATCH(別紙１_実施報告書!$C468,【実施期間中】個別事業におけるPDCAシート!$H$4:$V$4,0)+1,3,1),1),1,0)","v":0},{"$f":"IF(COUNTIFS(【実施期間中】個別事業におけるPDCAシート!$E$19:$E$21,別紙１_実施報告書!AS475,OFFSET(【実施期間中】個別事業におけるPDCAシート!$F$19,,MATCH(別紙１_実施報告書!$C468,【実施期間中】個別事業におけるPDCAシート!$H$4:$V$4,0)+1,3,1),1),1,0)","v":0},{"$f":"IF(COUNTIFS(【実施期間中】個別事業におけるPDCAシート!$E$19:$E$21,別紙１_実施報告書!AT475,OFFSET(【実施期間中】個別事業におけるPDCAシート!$F$19,,MATCH(別紙１_実施報告書!$C468,【実施期間中】個別事業におけるPDCAシート!$H$4:$V$4,0)+1,3,1),1),1,0)","v":0},{"$nulls":8},{"$f":"COUNTIFS(AR476:BB476,1)","v":0}]
[null,null,"実施期間",null,{"$f":"OFFSET(【実施期間中】個別事業におけるPDCAシート!$A$6,【実施期間中】個別事業におけるPDCAシート!$A$22,MATCH($C468,【実施期間中】個別事業におけるPDCAシート!$H$4:$V$4,0)+6)","v":""},{"$nulls":9},"～",{"$nulls":3},{"$f":"OFFSET(【実施期間中】個別事業におけるPDCAシート!$A$6,【実施期間中】個別事業におけるPDCAシート!$A$24,MATCH($C468,【実施期間中】個別事業におけるPDCAシート!$H$4:$V$4,0)+6)","v":""}]
[null,null,"（備考）",null,{"$f":"OFFSET(【実施期間中】個別事業におけるPDCAシート!$A$6,【実施期間中】個別事業におけるPDCAシート!$A$25,MATCH($C468,【実施期間中】個別事業におけるPDCAシート!$H$4:$V$4,0)+6)","v":""}]
[null,null,"実施日\n（※同一事業内で、\n同一の内容・場所において\n複数日実施する場合）",null,1,null,{"$f":"OFFSET(【実施期間中】個別事業におけるPDCAシート!$A$6,【実施期間中】個別事業におけるPDCAシート!$A$26,MATCH($C468,【実施期間中】個別事業におけるPDCAシート!$H$4:$V$4,0)+6)","v":""},{"$nulls":9},6,null,{"$f":"OFFSET(【実施期間中】個別事業におけるPDCAシート!$A$6,【実施期間中】個別事業におけるPDCAシート!$A$31,MATCH($C468,【実施期間中】個別事業におけるPDCAシート!$H$4:$V$4,0)+6)","v":""}]
[{"$nulls":4},2,null,{"$f":"OFFSET(【実施期間中】個別事業におけるPDCAシート!$A$6,【実施期間中】個別事業におけるPDCAシート!$A$27,MATCH($C468,【実施期間中】個別事業におけるPDCAシート!$H$4:$V$4,0)+6)","v":""},{"$nulls":9},7,null,{"$f":"OFFSET(【実施期間中】個別事業におけるPDCAシート!$A$6,【実施期間中】個別事業におけるPDCAシート!$A$32,MATCH($C468,【実施期間中】個別事業におけるPDCAシート!$H$4:$V$4,0)+6)","v":""}]
[{"$nulls":4},3,null,{"$f":"OFFSET(【実施期間中】個別事業におけるPDCAシート!$A$6,【実施期間中】個別事業におけるPDCAシート!$A$28,MATCH($C468,【実施期間中】個別事業におけるPDCAシート!$H$4:$V$4,0)+6)","v":""},{"$nulls":9},8,null,{"$f":"OFFSET(【実施期間中】個別事業におけるPDCAシート!$A$6,【実施期間中】個別事業におけるPDCAシート!$A$33,MATCH($C468,【実施期間中】個別事業におけるPDCAシート!$H$4:$V$4,0)+6)","v":""}]
[{"$nulls":4},4,null,{"$f":"OFFSET(【実施期間中】個別事業におけるPDCAシート!$A$6,【実施期間中】個別事業におけるPDCAシート!$A$29,MATCH($C468,【実施期間中】個別事業におけるPDCAシート!$H$4:$V$4,0)+6)","v":""},{"$nulls":9},9,null,{"$f":"OFFSET(【実施期間中】個別事業におけるPDCAシート!$A$6,【実施期間中】個別事業におけるPDCAシート!$A$34,MATCH($C468,【実施期間中】個別事業におけるPDCAシート!$H$4:$V$4,0)+6)","v":""}]
[{"$nulls":4},5,null,{"$f":"OFFSET(【実施期間中】個別事業におけるPDCAシート!$A$6,【実施期間中】個別事業におけるPDCAシート!$A$30,MATCH($C468,【実施期間中】個別事業におけるPDCAシート!$H$4:$V$4,0)+6)","v":""},{"$nulls":9},10,null,{"$f":"OFFSET(【実施期間中】個別事業におけるPDCAシート!$A$6,【実施期間中】個別事業におけるPDCAシート!$A$35,MATCH($C468,【実施期間中】個別事業におけるPDCAシート!$H$4:$V$4,0)+6)","v":""}]
[null,null,"事業の概要",null,{"$f":"OFFSET(【実施期間中】個別事業におけるPDCAシート!$A$6,【実施期間中】個別事業におけるPDCAシート!$A$36,MATCH($C468,【実施期間中】個別事業におけるPDCAシート!$H$4:$V$4,0)+6)","v":""}]
[null,null,"指定自治体等との連携",null,{"$f":"別紙１_実施計画書!E466","v":0}]
[null,null,"実施結果",null,{"$f":"OFFSET(【実施期間中】個別事業におけるPDCAシート!$A$6,【実施期間中】個別事業におけるPDCAシート!$A$38,MATCH($C468,【実施期間中】個別事業におけるPDCAシート!$H$4:$V$4,0)+6)","v":0}]
[]
[null,null,"主な訴求対象","計画",{"$f":"OFFSET(【実施期間中】個別事業におけるPDCAシート!$A$6,【実施期間中】個別事業におけるPDCAシート!$A$39,MATCH($C468,【実施期間中】個別事業におけるPDCAシート!$H$4:$V$4,0)+6)","v":""}]
[{"$nulls":3},"結果",{"$f":"OFFSET(【実施期間中】個別事業におけるPDCAシート!$A$6,【実施期間中】個別事業におけるPDCAシート!$A$40,MATCH($C468,【実施期間中】個別事業におけるPDCAシート!$H$4:$V$4,0)+6)","v":0}]
[null,null,"目標アウトプット\n（リーチ数）\n（想定及び実績）",null,"カテゴリ①（プルダウン選択）⇒",{"$nulls":10},{"$f":"OFFSET(【実施期間中】個別事業におけるPDCAシート!$A$6,【実施期間中】個別事業におけるPDCAシート!$A$41,MATCH($C468,【実施期間中】個別事業におけるPDCAシート!$H$4:$V$4,0)+6)","v":""}]
[{"$nulls":4},"計画値",{"$nulls":3},"計",null,{"$f":"別紙１_実施計画書!K472","v":{"v":0,"d":"0名"}}]
[{"$nulls":4},"実績値",{"$nulls":3},"計",null,{"$f":"OFFSET(【実施期間中】個別事業におけるPDCAシート!$A$6,【実施期間中】個別事業におけるPDCAシート!$A$44,MATCH($C468,【実施期間中】個別事業におけるPDCAシート!$H$4:$V$4,0)+6)","v":{"v":0,"d":"0名"}}]
[{"$nulls":4},"算出根拠",{"$nulls":3},{"$f":"OFFSET(【実施期間中】個別事業におけるPDCAシート!$A$6,【実施期間中】個別事業におけるPDCAシート!$A$45,MATCH($C468,【実施期間中】個別事業におけるPDCAシート!$H$4:$V$4,0)+6)","v":""}]
[{"$nulls":4},"カテゴリ②（プルダウン選択）⇒",{"$nulls":10},{"$f":"OFFSET(【実施期間中】個別事業におけるPDCAシート!$A$6,【実施期間中】個別事業におけるPDCAシート!$A$46,MATCH($C468,【実施期間中】個別事業におけるPDCAシート!$H$4:$V$4,0)+6)","v":""}]
[{"$nulls":4},"計画値",{"$nulls":3},"計",null,{"$f":"別紙１_実施計画書!K476","v":{"v":0,"d":"0名"}}]
[{"$nulls":4},"実績値",{"$nulls":3},"計",null,{"$f":"OFFSET(【実施期間中】個別事業におけるPDCAシート!$A$6,【実施期間中】個別事業におけるPDCAシート!$A$49,MATCH($C468,【実施期間中】個別事業におけるPDCAシート!$H$4:$V$4,0)+6)","v":{"v":0,"d":"0名"}}]
[{"$nulls":4},"算出根拠",{"$nulls":3},{"$f":"OFFSET(【実施期間中】個別事業におけるPDCAシート!$A$6,【実施期間中】個別事業におけるPDCAシート!$A$50,MATCH($C468,【実施期間中】個別事業におけるPDCAシート!$H$4:$V$4,0)+6)","v":""}]
[null,null,"目標アウトカム\n（想定及び実績）",null,"計画",{"$nulls":3},{"$f":"OFFSET(【実施期間中】個別事業におけるPDCAシート!$A$6,【実施期間中】個別事業におけるPDCAシート!$A$51,MATCH($C468,【実施期間中】個別事業におけるPDCAシート!$H$4:$V$4,0)+6)","v":""}]
[{"$nulls":4},"実績"]
[null,null,"賛同数（想定及び実績）",null,"計画値",{"$nulls":3},"団体",null,{"$f":"OFFSET(【実施期間中】個別事業におけるPDCAシート!$A$6,【実施期間中】個別事業におけるPDCAシート!$A$54,MATCH($C468,【実施期間中】個別事業におけるPDCAシート!$H$4:$V$4,0)+6)","v":{"v":0,"d":"0団体"}},{"$nulls":4},"、個人",null,{"$f":"OFFSET(【実施期間中】個別事業におけるPDCAシート!$A$6,【実施期間中】個別事業におけるPDCAシート!$A$57,MATCH($C468,【実施期間中】個別事業におけるPDCAシート!$H$4:$V$4,0)+6)","v":{"v":0,"d":"0名"}}]
[{"$nulls":4},"実績値",{"$nulls":3},"団体",null,{"$f":"OFFSET(【実施期間中】個別事業におけるPDCAシート!$A$6,【実施期間中】個別事業におけるPDCAシート!$A$55,MATCH($C468,【実施期間中】個別事業におけるPDCAシート!$H$4:$V$4,0)+6)","v":{"v":0,"d":"0団体"}},{"$nulls":4},"、個人",null,{"$f":"OFFSET(【実施期間中】個別事業におけるPDCAシート!$A$6,【実施期間中】個別事業におけるPDCAシート!$A$58,MATCH($C468,【実施期間中】個別事業におけるPDCAシート!$H$4:$V$4,0)+6)","v":{"v":0,"d":"0名"}}]
[null,null,"効果検証\n（アンケート）予定",null,"※アンケートの実施予定をプルダウンより選択してください。"]
[{"$nulls":4},"公募要領に規定のアンケート",{"$nulls":16},"貴事業者独自のアンケート"]
[{"$nulls":4},"省エネ機器",{"$nulls":3},"省エネ住宅",{"$nulls":3},"エコドライブ",{"$nulls":3},"低炭素物流（宅配便の再配達防止）"]
[{"$nulls":4},{"$f":"OFFSET(【実施期間中】個別事業におけるPDCAシート!$A$6,【実施期間中】個別事業におけるPDCAシート!$A$59,MATCH($C468,【実施期間中】個別事業におけるPDCAシート!$H$4:$V$4,0)+6)","v":"- 選択 -"},{"$nulls":3},{"$f":"OFFSET(【実施期間中】個別事業におけるPDCAシート!$A$6,【実施期間中】個別事業におけるPDCAシート!$A$60,MATCH($C468,【実施期間中】個別事業におけるPDCAシート!$H$4:$V$4,0)+6)","v":"- 選択 -"},{"$nulls":3},{"$f":"OFFSET(【実施期間中】個別事業におけるPDCAシート!$A$6,【実施期間中】個別事業におけるPDCAシート!$A$61,MATCH($C468,【実施期間中】個別事業におけるPDCAシート!$H$4:$V$4,0)+6)","v":"- 選択 -"},{"$nulls":3},{"$f":"OFFSET(【実施期間中】個別事業におけるPDCAシート!$A$6,【実施期間中】個別事業におけるPDCAシート!$A$62,MATCH($C468,【実施期間中】個別事業におけるPDCAシート!$H$4:$V$4,0)+6)","v":"- 選択 -"},{"$nulls":4},{"$f":"OFFSET(【実施期間中】個別事業におけるPDCAシート!$A$6,【実施期間中】個別事業におけるPDCAシート!$A$63,MATCH($C468,【実施期間中】個別事業におけるPDCAシート!$H$4:$V$4,0)+6)","v":"- 選択 -"}]
[{"$nulls":4},"内容（",null,{"$f":"OFFSET(【実施期間中】個別事業におけるPDCAシート!$A$6,【実施期間中】個別事業におけるPDCAシート!$A$64,MATCH($C468,【実施期間中】個別事業におけるPDCAシート!$H$4:$V$4,0)+6)","v":""},{"$nulls":20},"）"]
[{"$nulls":4},"目標回収数",{"$nulls":3},"計",{"$f":"OFFSET(【実施期間中】個別事業におけるPDCAシート!$A$6,【実施期間中】個別事業におけるPDCAシート!$A$66,MATCH($C468,【実施期間中】個別事業におけるPDCAシート!$H$4:$V$4,0)+6)","v":0},null,null,"枚",null,"※複数ある場合は、平均アンケート回収数"]
[{"$nulls":4},"実績値",{"$nulls":3},"計",{"$f":"OFFSET(【実施期間中】個別事業におけるPDCAシート!$A$6,【実施期間中】個別事業におけるPDCAシート!$A$67,MATCH($C468,【実施期間中】個別事業におけるPDCAシート!$H$4:$V$4,0)+6)","v":0},null,null,"枚",null,"※複数ある場合は、平均アンケート回収数"]
[]
[null,null,"項目",null,"内容"]
[null,null,"事業12","事業名",{"$f":"OFFSET(【実施期間中】個別事業におけるPDCAシート!$A$6,,MATCH(C511,【実施期間中】個別事業におけるPDCAシート!$H$4:$V$4,0)+6)","v":0}]
[null,null,"普及啓発テーマ",null,"※該当する普及啓発テーマすべてをチェックしてください。"]
[{"$nulls":4},"①",null,"②",null,"③",null,"④",null,"⑤",null,"⑥",null,"⑦",null,"⑧",null,"⑨",null,"⑩",null,"⑪",null,"⑫",{"$nulls":3},"①","②","③","④","⑤","⑥","⑦","⑧","⑨","⑩","⑪","⑫"]
[{"$nulls":4},"省ｴﾈ機器",null,"省ｴﾈ住宅",null,"ｴｺｶｰ",null,"ｸｰﾙﾋﾞｽﾞ",null,"ｳｫｰﾑﾋﾞｽﾞ",null,"照明の\n高効率利用",null,"ｴｺﾄﾞﾗｲﾌﾞ",null,"ｶｰｼｪｱ",null,"公共交通\n機関の利用",null,"再配達防止",null,"シェアエコ",null,"地球温暖化",{"$nulls":3},"省ｴﾈ機器","省ｴﾈ住宅","ｴｺｶｰ","ｸｰﾙﾋﾞｽﾞ","ｳｫｰﾑﾋﾞｽﾞ","照明の\n高効率利用","ｴｺﾄﾞﾗｲﾌﾞ","ｶｰｼｪｱ","公共交通\n機関の利用","再配達防止","シェアエコ","地球温暖化"]
[{"$nulls":30},{"$f":"IF(COUNTIFS(【実施期間中】個別事業におけるPDCAシート!$E$7:$E$17,別紙１_実施報告書!AE513,OFFSET(【実施期間中】個別事業におけるPDCAシート!$F$7,,MATCH(別紙１_実施報告書!$C511,【実施期間中】個別事業におけるPDCAシート!$H$4:$V$4,0)+1,11,1),1),1,0)","v":0},{"$f":"IF(COUNTIFS(【実施期間中】個別事業におけるPDCAシート!$E$7:$E$17,別紙１_実施報告書!AF513,OFFSET(【実施期間中】個別事業におけるPDCAシート!$F$7,,MATCH(別紙１_実施報告書!$C511,【実施期間中】個別事業におけるPDCAシート!$H$4:$V$4,0)+1,11,1),1),1,0)","v":0},{"$f":"IF(COUNTIFS(【実施期間中】個別事業におけるPDCAシート!$E$7:$E$17,別紙１_実施報告書!AG513,OFFSET(【実施期間中】個別事業におけるPDCAシート!$F$7,,MATCH(別紙１_実施報告書!$C511,【実施期間中】個別事業におけるPDCAシート!$H$4:$V$4,0)+1,11,1),1),1,0)","v":0},{"$f":"IF(COUNTIFS(【実施期間中】個別事業におけるPDCAシート!$E$7:$E$17,別紙１_実施報告書!AH513,OFFSET(【実施期間中】個別事業におけるPDCAシート!$F$7,,MATCH(別紙１_実施報告書!$C511,【実施期間中】個別事業におけるPDCAシート!$H$4:$V$4,0)+1,11,1),1),1,0)","v":0},{"$f":"IF(COUNTIFS(【実施期間中】個別事業におけるPDCAシート!$E$7:$E$17,別紙１_実施報告書!AI513,OFFSET(【実施期間中】個別事業におけるPDCAシート!$F$7,,MATCH(別紙１_実施報告書!$C511,【実施期間中】個別事業におけるPDCAシート!$H$4:$V$4,0)+1,11,1),1),1,0)","v":0},{"$f":"IF(COUNTIFS(【実施期間中】個別事業におけるPDCAシート!$E$7:$E$17,別紙１_実施報告書!AJ513,OFFSET(【実施期間中】個別事業におけるPDCAシート!$F$7,,MATCH(別紙１_実施報告書!$C511,【実施期間中】個別事業におけるPDCAシート!$H$4:$V$4,0)+1,11,1),1),1,0)","v":0},{"$f":"IF(COUNTIFS(【実施期間中】個別事業におけるPDCAシート!$E$7:$E$17,別紙１_実施報告書!AK513,OFFSET(【実施期間中】個別事業におけるPDCAシート!$F$7,,MATCH(別紙１_実施報告書!$C511,【実施期間中】個別事業におけるPDCAシート!$H$4:$V$4,0)+1,11,1),1),1,0)","v":0},{"$f":"IF(COUNTIFS(【実施期間中】個別事業におけるPDCAシート!$E$7:$E$17,別紙１_実施報告書!AL513,OFFSET(【実施期間中】個別事業におけるPDCAシート!$F$7,,MATCH(別紙１_実施報告書!$C511,【実施期間中】個別事業におけるPDCAシート!$H$4:$V$4,0)+1,11,1),1),1,0)","v":0},{"$f":"IF(COUNTIFS(【実施期間中】個別事業におけるPDCAシート!$E$7:$E$17,別紙１_実施報告書!AM513,OFFSET(【実施期間中】個別事業におけるPDCAシート!$F$7,,MATCH(別紙１_実施報告書!$C511,【実施期間中】個別事業におけるPDCAシート!$H$4:$V$4,0)+1,11,1),1),1,0)","v":0},{"$f":"IF(COUNTIFS(【実施期間中】個別事業におけるPDCAシート!$E$7:$E$17,別紙１_実施報告書!AN513,OFFSET(【実施期間中】個別事業におけるPDCAシート!$F$7,,MATCH(別紙１_実施報告書!$C511,【実施期間中】個別事業におけるPDCAシート!$H$4:$V$4,0)+1,11,1),1),1,0)","v":0},{"$f":"IF(COUNTIFS(【実施期間中】個別事業におけるPDCAシート!$E$7:$E$17,別紙１_実施報告書!AO513,OFFSET(【実施期間中】個別事業におけるPDCAシート!$F$7,,MATCH(別紙１_実施報告書!$C511,【実施期間中】個別事業におけるPDCAシート!$H$4:$V$4,0)+1,11,1),1),1,0)","v":0},{"$f":"IF(COUNTIFS(【実施期間中】個別事業におけるPDCAシート!$E$7:$E$18,別紙１_実施報告書!AP513,OFFSET(【実施期間中】個別事業におけるPDCAシート!$F$7,,MATCH(別紙１_実施報告書!$C511,【実施期間中】個別事業におけるPDCAシート!$H$4:$V$4,0)+1,12,1),1),1,0)","v":0},{"$f":"COUNTIFS(AE515:AP515,1)+COUNTIFS(AE515:AP515,\"TRUE\")","v":0}]
[null,null,"訴求手法",null,"※訴求手法については、該当する欄にチェックしてください。"]
[{"$nulls":4},"a) 情報発信型（受動型）",{"$nulls":7},"b) 情報発信型（能動型）",{"$nulls":7},"c) 双方向体験交流型"]
[{"$nulls":4},"ラジオ、新聞・広報紙等",{"$nulls":7},"講演会・パネル展示等",{"$nulls":7},"試乗・体験会、省ｴﾈ診断等",{"$nulls":22},"a)","b)","c)"]
[{"$nulls":43},{"$f":"IF(COUNTIFS(【実施期間中】個別事業におけるPDCAシート!$E$19:$E$21,別紙１_実施報告書!AR518,OFFSET(【実施期間中】個別事業におけるPDCAシート!$F$19,,MATCH(別紙１_実施報告書!$C511,【実施期間中】個別事業におけるPDCAシート!$H$4:$V$4,0)+1,3,1),1),1,0)","v":0},{"$f":"IF(COUNTIFS(【実施期間中】個別事業におけるPDCAシート!$E$19:$E$21,別紙１_実施報告書!AS518,OFFSET(【実施期間中】個別事業におけるPDCAシート!$F$19,,MATCH(別紙１_実施報告書!$C511,【実施期間中】個別事業におけるPDCAシート!$H$4:$V$4,0)+1,3,1),1),1,0)","v":0},{"$f":"IF(COUNTIFS(【実施期間中】個別事業におけるPDCAシート!$E$19:$E$21,別紙１_実施報告書!AT518,OFFSET(【実施期間中】個別事業におけるPDCAシート!$F$19,,MATCH(別紙１_実施報告書!$C511,【実施期間中】個別事業におけるPDCAシート!$H$4:$V$4,0)+1,3,1),1),1,0)","v":0},{"$nulls":8},{"$f":"COUNTIFS(AR519:BB519,1)","v":0}]
[null,null,"実施期間",null,{"$f":"OFFSET(【実施期間中】個別事業におけるPDCAシート!$A$6,【実施期間中】個別事業におけるPDCAシート!$A$22,MATCH($C511,【実施期間中】個別事業におけるPDCAシート!$H$4:$V$4,0)+6)","v":""},{"$nulls":9},"～",{"$nulls":3},{"$f":"OFFSET(【実施期間中】個別事業におけるPDCAシート!$A$6,【実施期間中】個別事業におけるPDCAシート!$A$24,MATCH($C511,【実施期間中】個別事業におけるPDCAシート!$H$4:$V$4,0)+6)","v":""}]
[null,null,"（備考）",null,{"$f":"OFFSET(【実施期間中】個別事業におけるPDCAシート!$A$6,【実施期間中】個別事業におけるPDCAシート!$A$25,MATCH($C511,【実施期間中】個別事業におけるPDCAシート!$H$4:$V$4,0)+6)","v":""}]
[null,null,"実施日\n（※同一事業内で、\n同一の内容・場所において\n複数日実施する場合）",null,1,null,{"$f":"OFFSET(【実施期間中】個別事業におけるPDCAシート!$A$6,【実施期間中】個別事業におけるPDCAシート!$A$26,MATCH($C511,【実施期間中】個別事業におけるPDCAシート!$H$4:$V$4,0)+6)","v":""},{"$nulls":9},6,null,{"$f":"OFFSET(【実施期間中】個別事業におけるPDCAシート!$A$6,【実施期間中】個別事業におけるPDCAシート!$A$31,MATCH($C511,【実施期間中】個別事業におけるPDCAシート!$H$4:$V$4,0)+6)","v":""}]
[{"$nulls":4},2,null,{"$f":"OFFSET(【実施期間中】個別事業におけるPDCAシート!$A$6,【実施期間中】個別事業におけるPDCAシート!$A$27,MATCH($C511,【実施期間中】個別事業におけるPDCAシート!$H$4:$V$4,0)+6)","v":""},{"$nulls":9},7,null,{"$f":"OFFSET(【実施期間中】個別事業におけるPDCAシート!$A$6,【実施期間中】個別事業におけるPDCAシート!$A$32,MATCH($C511,【実施期間中】個別事業におけるPDCAシート!$H$4:$V$4,0)+6)","v":""}]
[{"$nulls":4},3,null,{"$f":"OFFSET(【実施期間中】個別事業におけるPDCAシート!$A$6,【実施期間中】個別事業におけるPDCAシート!$A$28,MATCH($C511,【実施期間中】個別事業におけるPDCAシート!$H$4:$V$4,0)+6)","v":""},{"$nulls":9},8,null,{"$f":"OFFSET(【実施期間中】個別事業におけるPDCAシート!$A$6,【実施期間中】個別事業におけるPDCAシート!$A$33,MATCH($C511,【実施期間中】個別事業におけるPDCAシート!$H$4:$V$4,0)+6)","v":""}]
[{"$nulls":4},4,null,{"$f":"OFFSET(【実施期間中】個別事業におけるPDCAシート!$A$6,【実施期間中】個別事業におけるPDCAシート!$A$29,MATCH($C511,【実施期間中】個別事業におけるPDCAシート!$H$4:$V$4,0)+6)","v":""},{"$nulls":9},9,null,{"$f":"OFFSET(【実施期間中】個別事業におけるPDCAシート!$A$6,【実施期間中】個別事業におけるPDCAシート!$A$34,MATCH($C511,【実施期間中】個別事業におけるPDCAシート!$H$4:$V$4,0)+6)","v":""}]
[{"$nulls":4},5,null,{"$f":"OFFSET(【実施期間中】個別事業におけるPDCAシート!$A$6,【実施期間中】個別事業におけるPDCAシート!$A$30,MATCH($C511,【実施期間中】個別事業におけるPDCAシート!$H$4:$V$4,0)+6)","v":""},{"$nulls":9},10,null,{"$f":"OFFSET(【実施期間中】個別事業におけるPDCAシート!$A$6,【実施期間中】個別事業におけるPDCAシート!$A$35,MATCH($C511,【実施期間中】個別事業におけるPDCAシート!$H$4:$V$4,0)+6)","v":""}]
[null,null,"事業の概要",null,{"$f":"OFFSET(【実施期間中】個別事業におけるPDCAシート!$A$6,【実施期間中】個別事業におけるPDCAシート!$A$36,MATCH($C511,【実施期間中】個別事業におけるPDCAシート!$H$4:$V$4,0)+6)","v":""}]
[null,null,"指定自治体等との連携",null,{"$f":"別紙１_実施計画書!E507","v":0}]
[null,null,"実施結果",null,{"$f":"OFFSET(【実施期間中】個別事業におけるPDCAシート!$A$6,【実施期間中】個別事業におけるPDCAシート!$A$38,MATCH($C511,【実施期間中】個別事業におけるPDCAシート!$H$4:$V$4,0)+6)","v":0}]
[]
[null,null,"主な訴求対象","計画",{"$f":"OFFSET(【実施期間中】個別事業におけるPDCAシート!$A$6,【実施期間中】個別事業におけるPDCAシート!$A$39,MATCH($C511,【実施期間中】個別事業におけるPDCAシート!$H$4:$V$4,0)+6)","v":""}]
[{"$nulls":3},"結果",{"$f":"OFFSET(【実施期間中】個別事業におけるPDCAシート!$A$6,【実施期間中】個別事業におけるPDCAシート!$A$40,MATCH($C511,【実施期間中】個別事業におけるPDCAシート!$H$4:$V$4,0)+6)","v":0}]
[null,null,"目標アウトプット\n（リーチ数）\n（想定及び実績）",null,"カテゴリ①（プルダウン選択）⇒",{"$nulls":10},{"$f":"OFFSET(【実施期間中】個別事業におけるPDCAシート!$A$6,【実施期間中】個別事業におけるPDCAシート!$A$41,MATCH($C511,【実施期間中】個別事業におけるPDCAシート!$H$4:$V$4,0)+6)","v":""}]
[{"$nulls":4},"計画値",{"$nulls":3},"計",null,{"$f":"別紙１_実施計画書!K513","v":{"v":0,"d":"0名"}}]
[{"$nulls":4},"実績値",{"$nulls":3},"計",null,{"$f":"OFFSET(【実施期間中】個別事業におけるPDCAシート!$A$6,【実施期間中】個別事業におけるPDCAシート!$A$44,MATCH($C511,【実施期間中】個別事業におけるPDCAシート!$H$4:$V$4,0)+6)","v":{"v":0,"d":"0名"}}]
[{"$nulls":4},"算出根拠",{"$nulls":3},{"$f":"OFFSET(【実施期間中】個別事業におけるPDCAシート!$A$6,【実施期間中】個別事業におけるPDCAシート!$A$45,MATCH($C511,【実施期間中】個別事業におけるPDCAシート!$H$4:$V$4,0)+6)","v":""}]
[{"$nulls":4},"カテゴリ②（プルダウン選択）⇒",{"$nulls":10},{"$f":"OFFSET(【実施期間中】個別事業におけるPDCAシート!$A$6,【実施期間中】個別事業におけるPDCAシート!$A$46,MATCH($C511,【実施期間中】個別事業におけるPDCAシート!$H$4:$V$4,0)+6)","v":""}]
[{"$nulls":4},"計画値",{"$nulls":3},"計",null,{"$f":"別紙１_実施計画書!K517","v":{"v":0,"d":"0名"}}]
[{"$nulls":4},"実績値",{"$nulls":3},"計",null,{"$f":"OFFSET(【実施期間中】個別事業におけるPDCAシート!$A$6,【実施期間中】個別事業におけるPDCAシート!$A$49,MATCH($C511,【実施期間中】個別事業におけるPDCAシート!$H$4:$V$4,0)+6)","v":{"v":0,"d":"0名"}}]
[{"$nulls":4},"算出根拠",{"$nulls":3},{"$f":"OFFSET(【実施期間中】個別事業におけるPDCAシート!$A$6,【実施期間中】個別事業におけるPDCAシート!$A$50,MATCH($C511,【実施期間中】個別事業におけるPDCAシート!$H$4:$V$4,0)+6)","v":""}]
[null,null,"目標アウトカム\n（想定及び実績）",null,"計画",{"$nulls":3},{"$f":"OFFSET(【実施期間中】個別事業におけるPDCAシート!$A$6,【実施期間中】個別事業におけるPDCAシート!$A$51,MATCH($C511,【実施期間中】個別事業におけるPDCAシート!$H$4:$V$4,0)+6)","v":""}]
[{"$nulls":4},"実績"]
[null,null,"賛同数（想定及び実績）",null,"計画値",{"$nulls":3},"団体",null,{"$f":"OFFSET(【実施期間中】個別事業におけるPDCAシート!$A$6,【実施期間中】個別事業におけるPDCAシート!$A$54,MATCH($C511,【実施期間中】個別事業におけるPDCAシート!$H$4:$V$4,0)+6)","v":{"v":0,"d":"0団体"}},{"$nulls":4},"、個人",null,{"$f":"OFFSET(【実施期間中】個別事業におけるPDCAシート!$A$6,【実施期間中】個別事業におけるPDCAシート!$A$57,MATCH($C511,【実施期間中】個別事業におけるPDCAシート!$H$4:$V$4,0)+6)","v":{"v":0,"d":"0名"}}]
[{"$nulls":4},"実績値",{"$nulls":3},"団体",null,{"$f":"OFFSET(【実施期間中】個別事業におけるPDCAシート!$A$6,【実施期間中】個別事業におけるPDCAシート!$A$55,MATCH($C511,【実施期間中】個別事業におけるPDCAシート!$H$4:$V$4,0)+6)","v":{"v":0,"d":"0団体"}},{"$nulls":4},"、個人",null,{"$f":"OFFSET(【実施期間中】個別事業におけるPDCAシート!$A$6,【実施期間中】個別事業におけるPDCAシート!$A$58,MATCH($C511,【実施期間中】個別事業におけるPDCAシート!$H$4:$V$4,0)+6)","v":{"v":0,"d":"0名"}}]
[null,null,"効果検証\n（アンケート）予定",null,"※アンケートの実施予定をプルダウンより選択してください。"]
[{"$nulls":4},"公募要領に規定のアンケート",{"$nulls":16},"貴事業者独自のアンケート"]
[{"$nulls":4},"省エネ機器",{"$nulls":3},"省エネ住宅",{"$nulls":3},"エコドライブ",{"$nulls":3},"低炭素物流（宅配便の再配達防止）"]
[{"$nulls":4},{"$f":"OFFSET(【実施期間中】個別事業におけるPDCAシート!$A$6,【実施期間中】個別事業におけるPDCAシート!$A$59,MATCH($C511,【実施期間中】個別事業におけるPDCAシート!$H$4:$V$4,0)+6)","v":"- 選択 -"},{"$nulls":3},{"$f":"OFFSET(【実施期間中】個別事業におけるPDCAシート!$A$6,【実施期間中】個別事業におけるPDCAシート!$A$60,MATCH($C511,【実施期間中】個別事業におけるPDCAシート!$H$4:$V$4,0)+6)","v":"- 選択 -"},{"$nulls":3},{"$f":"OFFSET(【実施期間中】個別事業におけるPDCAシート!$A$6,【実施期間中】個別事業におけるPDCAシート!$A$61,MATCH($C511,【実施期間中】個別事業におけるPDCAシート!$H$4:$V$4,0)+6)","v":"- 選択 -"},{"$nulls":3},{"$f":"OFFSET(【実施期間中】個別事業におけるPDCAシート!$A$6,【実施期間中】個別事業におけるPDCAシート!$A$62,MATCH($C511,【実施期間中】個別事業におけるPDCAシート!$H$4:$V$4,0)+6)","v":"- 選択 -"},{"$nulls":4},{"$f":"OFFSET(【実施期間中】個別事業におけるPDCAシート!$A$6,【実施期間中】個別事業におけるPDCAシート!$A$63,MATCH($C511,【実施期間中】個別事業におけるPDCAシート!$H$4:$V$4,0)+6)","v":"- 選択 -"}]
[{"$nulls":4},"内容（",null,{"$f":"OFFSET(【実施期間中】個別事業におけるPDCAシート!$A$6,【実施期間中】個別事業におけるPDCAシート!$A$64,MATCH($C511,【実施期間中】個別事業におけるPDCAシート!$H$4:$V$4,0)+6)","v":""},{"$nulls":20},"）"]
[{"$nulls":4},"目標回収数",{"$nulls":3},"計",{"$f":"OFFSET(【実施期間中】個別事業におけるPDCAシート!$A$6,【実施期間中】個別事業におけるPDCAシート!$A$66,MATCH($C511,【実施期間中】個別事業におけるPDCAシート!$H$4:$V$4,0)+6)","v":0},null,null,"枚",null,"※複数ある場合は、平均アンケート回収数"]
[{"$nulls":4},"実績値",{"$nulls":3},"計",{"$f":"OFFSET(【実施期間中】個別事業におけるPDCAシート!$A$6,【実施期間中】個別事業におけるPDCAシート!$A$67,MATCH($C511,【実施期間中】個別事業におけるPDCAシート!$H$4:$V$4,0)+6)","v":0},null,null,"枚",null,"※複数ある場合は、平均アンケート回収数"]
[]
[null,null,"項目",null,"内容"]
[null,null,"事業13","事業名",{"$f":"OFFSET(【実施期間中】個別事業におけるPDCAシート!$A$6,,MATCH(C554,【実施期間中】個別事業におけるPDCAシート!$H$4:$V$4,0)+6)","v":0}]
[null,null,"普及啓発テーマ",null,"※該当する普及啓発テーマすべてをチェックしてください。"]
[{"$nulls":4},"①",null,"②",null,"③",null,"④",null,"⑤",null,"⑥",null,"⑦",null,"⑧",null,"⑨",null,"⑩",null,"⑪",null,"⑫",{"$nulls":3},"①","②","③","④","⑤","⑥","⑦","⑧","⑨","⑩","⑪","⑫"]
[{"$nulls":4},"省ｴﾈ機器",null,"省ｴﾈ住宅",null,"ｴｺｶｰ",null,"ｸｰﾙﾋﾞｽﾞ",null,"ｳｫｰﾑﾋﾞｽﾞ",null,"照明の\n高効率利用",null,"ｴｺﾄﾞﾗｲﾌﾞ",null,"ｶｰｼｪｱ",null,"公共交通\n機関の利用",null,"再配達防止",null,"シェアエコ",null,"地球温暖化",{"$nulls":3},"省ｴﾈ機器","省ｴﾈ住宅","ｴｺｶｰ","ｸｰﾙﾋﾞｽﾞ","ｳｫｰﾑﾋﾞｽﾞ","照明の\n高効率利用","ｴｺﾄﾞﾗｲﾌﾞ","ｶｰｼｪｱ","公共交通\n機関の利用","再配達防止","シェアエコ","地球温暖化"]
[{"$nulls":30},{"$f":"IF(COUNTIFS(【実施期間中】個別事業におけるPDCAシート!$E$7:$E$17,別紙１_実施報告書!AE556,OFFSET(【実施期間中】個別事業におけるPDCAシート!$F$7,,MATCH(別紙１_実施報告書!$C554,【実施期間中】個別事業におけるPDCAシート!$H$4:$V$4,0)+1,11,1),1),1,0)","v":0},{"$f":"IF(COUNTIFS(【実施期間中】個別事業におけるPDCAシート!$E$7:$E$17,別紙１_実施報告書!AF556,OFFSET(【実施期間中】個別事業におけるPDCAシート!$F$7,,MATCH(別紙１_実施報告書!$C554,【実施期間中】個別事業におけるPDCAシート!$H$4:$V$4,0)+1,11,1),1),1,0)","v":0},{"$f":"IF(COUNTIFS(【実施期間中】個別事業におけるPDCAシート!$E$7:$E$17,別紙１_実施報告書!AG556,OFFSET(【実施期間中】個別事業におけるPDCAシート!$F$7,,MATCH(別紙１_実施報告書!$C554,【実施期間中】個別事業におけるPDCAシート!$H$4:$V$4,0)+1,11,1),1),1,0)","v":0},{"$f":"IF(COUNTIFS(【実施期間中】個別事業におけるPDCAシート!$E$7:$E$17,別紙１_実施報告書!AH556,OFFSET(【実施期間中】個別事業におけるPDCAシート!$F$7,,MATCH(別紙１_実施報告書!$C554,【実施期間中】個別事業におけるPDCAシート!$H$4:$V$4,0)+1,11,1),1),1,0)","v":0},{"$f":"IF(COUNTIFS(【実施期間中】個別事業におけるPDCAシート!$E$7:$E$17,別紙１_実施報告書!AI556,OFFSET(【実施期間中】個別事業におけるPDCAシート!$F$7,,MATCH(別紙１_実施報告書!$C554,【実施期間中】個別事業におけるPDCAシート!$H$4:$V$4,0)+1,11,1),1),1,0)","v":0},{"$f":"IF(COUNTIFS(【実施期間中】個別事業におけるPDCAシート!$E$7:$E$17,別紙１_実施報告書!AJ556,OFFSET(【実施期間中】個別事業におけるPDCAシート!$F$7,,MATCH(別紙１_実施報告書!$C554,【実施期間中】個別事業におけるPDCAシート!$H$4:$V$4,0)+1,11,1),1),1,0)","v":0},{"$f":"IF(COUNTIFS(【実施期間中】個別事業におけるPDCAシート!$E$7:$E$17,別紙１_実施報告書!AK556,OFFSET(【実施期間中】個別事業におけるPDCAシート!$F$7,,MATCH(別紙１_実施報告書!$C554,【実施期間中】個別事業におけるPDCAシート!$H$4:$V$4,0)+1,11,1),1),1,0)","v":0},{"$f":"IF(COUNTIFS(【実施期間中】個別事業におけるPDCAシート!$E$7:$E$17,別紙１_実施報告書!AL556,OFFSET(【実施期間中】個別事業におけるPDCAシート!$F$7,,MATCH(別紙１_実施報告書!$C554,【実施期間中】個別事業におけるPDCAシート!$H$4:$V$4,0)+1,11,1),1),1,0)","v":0},{"$f":"IF(COUNTIFS(【実施期間中】個別事業におけるPDCAシート!$E$7:$E$17,別紙１_実施報告書!AM556,OFFSET(【実施期間中】個別事業におけるPDCAシート!$F$7,,MATCH(別紙１_実施報告書!$C554,【実施期間中】個別事業におけるPDCAシート!$H$4:$V$4,0)+1,11,1),1),1,0)","v":0},{"$f":"IF(COUNTIFS(【実施期間中】個別事業におけるPDCAシート!$E$7:$E$17,別紙１_実施報告書!AN556,OFFSET(【実施期間中】個別事業におけるPDCAシート!$F$7,,MATCH(別紙１_実施報告書!$C554,【実施期間中】個別事業におけるPDCAシート!$H$4:$V$4,0)+1,11,1),1),1,0)","v":0},{"$f":"IF(COUNTIFS(【実施期間中】個別事業におけるPDCAシート!$E$7:$E$17,別紙１_実施報告書!AO556,OFFSET(【実施期間中】個別事業におけるPDCAシート!$F$7,,MATCH(別紙１_実施報告書!$C554,【実施期間中】個別事業におけるPDCAシート!$H$4:$V$4,0)+1,11,1),1),1,0)","v":0},{"$f":"IF(COUNTIFS(【実施期間中】個別事業におけるPDCAシート!$E$7:$E$18,別紙１_実施報告書!AP556,OFFSET(【実施期間中】個別事業におけるPDCAシート!$F$7,,MATCH(別紙１_実施報告書!$C554,【実施期間中】個別事業におけるPDCAシート!$H$4:$V$4,0)+1,12,1),1),1,0)","v":0},{"$f":"COUNTIFS(AE558:AP558,1)+COUNTIFS(AE558:AP558,\"TRUE\")","v":0}]
[null,null,"訴求手法",null,"※訴求手法については、該当する欄にチェックしてください。"]
[{"$nulls":4},"a) 情報発信型（受動型）",{"$nulls":7},"b) 情報発信型（能動型）",{"$nulls":7},"c) 双方向体験交流型"]
[{"$nulls":4},"ラジオ、新聞・広報紙等",{"$nulls":7},"講演会・パネル展示等",{"$nulls":7},"試乗・体験会、省ｴﾈ診断等",{"$nulls":22},"a)","b)","c)"]
[{"$nulls":43},{"$f":"IF(COUNTIFS(【実施期間中】個別事業におけるPDCAシート!$E$19:$E$21,別紙１_実施報告書!AR561,OFFSET(【実施期間中】個別事業におけるPDCAシート!$F$19,,MATCH(別紙１_実施報告書!$C554,【実施期間中】個別事業におけるPDCAシート!$H$4:$V$4,0)+1,3,1),1),1,0)","v":0},{"$f":"IF(COUNTIFS(【実施期間中】個別事業におけるPDCAシート!$E$19:$E$21,別紙１_実施報告書!AS561,OFFSET(【実施期間中】個別事業におけるPDCAシート!$F$19,,MATCH(別紙１_実施報告書!$C554,【実施期間中】個別事業におけるPDCAシート!$H$4:$V$4,0)+1,3,1),1),1,0)","v":0},{"$f":"IF(COUNTIFS(【実施期間中】個別事業におけるPDCAシート!$E$19:$E$21,別紙１_実施報告書!AT561,OFFSET(【実施期間中】個別事業におけるPDCAシート!$F$19,,MATCH(別紙１_実施報告書!$C554,【実施期間中】個別事業におけるPDCAシート!$H$4:$V$4,0)+1,3,1),1),1,0)","v":0},{"$nulls":8},{"$f":"COUNTIFS(AR562:BB562,1)","v":0}]
[null,null,"実施期間",null,{"$f":"OFFSET(【実施期間中】個別事業におけるPDCAシート!$A$6,【実施期間中】個別事業におけるPDCAシート!$A$22,MATCH($C554,【実施期間中】個別事業におけるPDCAシート!$H$4:$V$4,0)+6)","v":""},{"$nulls":9},"～",{"$nulls":3},{"$f":"OFFSET(【実施期間中】個別事業におけるPDCAシート!$A$6,【実施期間中】個別事業におけるPDCAシート!$A$24,MATCH($C554,【実施期間中】個別事業におけるPDCAシート!$H$4:$V$4,0)+6)","v":""}]
[null,null,"（備考）",null,{"$f":"OFFSET(【実施期間中】個別事業におけるPDCAシート!$A$6,【実施期間中】個別事業におけるPDCAシート!$A$25,MATCH($C554,【実施期間中】個別事業におけるPDCAシート!$H$4:$V$4,0)+6)","v":""}]
[null,null,"実施日\n（※同一事業内で、\n同一の内容・場所において\n複数日実施する場合）",null,1,null,{"$f":"OFFSET(【実施期間中】個別事業におけるPDCAシート!$A$6,【実施期間中】個別事業におけるPDCAシート!$A$26,MATCH($C554,【実施期間中】個別事業におけるPDCAシート!$H$4:$V$4,0)+6)","v":""},{"$nulls":9},6,null,{"$f":"OFFSET(【実施期間中】個別事業におけるPDCAシート!$A$6,【実施期間中】個別事業におけるPDCAシート!$A$31,MATCH($C554,【実施期間中】個別事業におけるPDCAシート!$H$4:$V$4,0)+6)","v":""}]
[{"$nulls":4},2,null,{"$f":"OFFSET(【実施期間中】個別事業におけるPDCAシート!$A$6,【実施期間中】個別事業におけるPDCAシート!$A$27,MATCH($C554,【実施期間中】個別事業におけるPDCAシート!$H$4:$V$4,0)+6)","v":""},{"$nulls":9},7,null,{"$f":"OFFSET(【実施期間中】個別事業におけるPDCAシート!$A$6,【実施期間中】個別事業におけるPDCAシート!$A$32,MATCH($C554,【実施期間中】個別事業におけるPDCAシート!$H$4:$V$4,0)+6)","v":""}]
[{"$nulls":4},3,null,{"$f":"OFFSET(【実施期間中】個別事業におけるPDCAシート!$A$6,【実施期間中】個別事業におけるPDCAシート!$A$28,MATCH($C554,【実施期間中】個別事業におけるPDCAシート!$H$4:$V$4,0)+6)","v":""},{"$nulls":9},8,null,{"$f":"OFFSET(【実施期間中】個別事業におけるPDCAシート!$A$6,【実施期間中】個別事業におけるPDCAシート!$A$33,MATCH($C554,【実施期間中】個別事業におけるPDCAシート!$H$4:$V$4,0)+6)","v":""}]
[{"$nulls":4},4,null,{"$f":"OFFSET(【実施期間中】個別事業におけるPDCAシート!$A$6,【実施期間中】個別事業におけるPDCAシート!$A$29,MATCH($C554,【実施期間中】個別事業におけるPDCAシート!$H$4:$V$4,0)+6)","v":""},{"$nulls":9},9,null,{"$f":"OFFSET(【実施期間中】個別事業におけるPDCAシート!$A$6,【実施期間中】個別事業におけるPDCAシート!$A$34,MATCH($C554,【実施期間中】個別事業におけるPDCAシート!$H$4:$V$4,0)+6)","v":""}]
[{"$nulls":4},5,null,{"$f":"OFFSET(【実施期間中】個別事業におけるPDCAシート!$A$6,【実施期間中】個別事業におけるPDCAシート!$A$30,MATCH($C554,【実施期間中】個別事業におけるPDCAシート!$H$4:$V$4,0)+6)","v":""},{"$nulls":9},10,null,{"$f":"OFFSET(【実施期間中】個別事業におけるPDCAシート!$A$6,【実施期間中】個別事業におけるPDCAシート!$A$35,MATCH($C554,【実施期間中】個別事業におけるPDCAシート!$H$4:$V$4,0)+6)","v":""}]
[null,null,"事業の概要",null,{"$f":"OFFSET(【実施期間中】個別事業におけるPDCAシート!$A$6,【実施期間中】個別事業におけるPDCAシート!$A$36,MATCH($C554,【実施期間中】個別事業におけるPDCAシート!$H$4:$V$4,0)+6)","v":""}]
[null,null,"指定自治体等との連携",null,{"$f":"別紙１_実施計画書!E548","v":0}]
[null,null,"実施結果",null,{"$f":"OFFSET(【実施期間中】個別事業におけるPDCAシート!$A$6,【実施期間中】個別事業におけるPDCAシート!$A$38,MATCH($C554,【実施期間中】個別事業におけるPDCAシート!$H$4:$V$4,0)+6)","v":0}]
[]
[null,null,"主な訴求対象","計画",{"$f":"OFFSET(【実施期間中】個別事業におけるPDCAシート!$A$6,【実施期間中】個別事業におけるPDCAシート!$A$39,MATCH($C554,【実施期間中】個別事業におけるPDCAシート!$H$4:$V$4,0)+6)","v":""}]
[{"$nulls":3},"結果",{"$f":"OFFSET(【実施期間中】個別事業におけるPDCAシート!$A$6,【実施期間中】個別事業におけるPDCAシート!$A$40,MATCH($C554,【実施期間中】個別事業におけるPDCAシート!$H$4:$V$4,0)+6)","v":0}]
[null,null,"目標アウトプット\n（リーチ数）\n（想定及び実績）",null,"カテゴリ①（プルダウン選択）⇒",{"$nulls":10},{"$f":"OFFSET(【実施期間中】個別事業におけるPDCAシート!$A$6,【実施期間中】個別事業におけるPDCAシート!$A$41,MATCH($C554,【実施期間中】個別事業におけるPDCAシート!$H$4:$V$4,0)+6)","v":""}]
[{"$nulls":4},"計画値",{"$nulls":3},"計",null,{"$f":"別紙１_実施計画書!K554","v":{"v":0,"d":"0名"}}]
[{"$nulls":4},"実績値",{"$nulls":3},"計",null,{"$f":"OFFSET(【実施期間中】個別事業におけるPDCAシート!$A$6,【実施期間中】個別事業におけるPDCAシート!$A$44,MATCH($C554,【実施期間中】個別事業におけるPDCAシート!$H$4:$V$4,0)+6)","v":{"v":0,"d":"0名"}}]
[{"$nulls":4},"算出根拠",{"$nulls":3},{"$f":"OFFSET(【実施期間中】個別事業におけるPDCAシート!$A$6,【実施期間中】個別事業におけるPDCAシート!$A$45,MATCH($C554,【実施期間中】個別事業におけるPDCAシート!$H$4:$V$4,0)+6)","v":""}]
[{"$nulls":4},"カテゴリ②（プルダウン選択）⇒",{"$nulls":10},{"$f":"OFFSET(【実施期間中】個別事業におけるPDCAシート!$A$6,【実施期間中】個別事業におけるPDCAシート!$A$46,MATCH($C554,【実施期間中】個別事業におけるPDCAシート!$H$4:$V$4,0)+6)","v":""}]
[{"$nulls":4},"計画値",{"$nulls":3},"計",null,{"$f":"別紙１_実施計画書!K558","v":{"v":0,"d":"0名"}}]
[{"$nulls":4},"実績値",{"$nulls":3},"計",null,{"$f":"OFFSET(【実施期間中】個別事業におけるPDCAシート!$A$6,【実施期間中】個別事業におけるPDCAシート!$A$49,MATCH($C554,【実施期間中】個別事業におけるPDCAシート!$H$4:$V$4,0)+6)","v":{"v":0,"d":"0名"}}]
[{"$nulls":4},"算出根拠",{"$nulls":3},{"$f":"OFFSET(【実施期間中】個別事業におけるPDCAシート!$A$6,【実施期間中】個別事業におけるPDCAシート!$A$50,MATCH($C554,【実施期間中】個別事業におけるPDCAシート!$H$4:$V$4,0)+6)","v":""}]
[null,null,"目標アウトカム\n（想定及び実績）",null,"計画",{"$nulls":3},{"$f":"OFFSET(【実施期間中】個別事業におけるPDCAシート!$A$6,【実施期間中】個別事業におけるPDCAシート!$A$51,MATCH($C554,【実施期間中】個別事業におけるPDCAシート!$H$4:$V$4,0)+6)","v":""}]
[{"$nulls":4},"実績"]
[null,null,"賛同数（想定及び実績）",null,"計画値",{"$nulls":3},"団体",null,{"$f":"OFFSET(【実施期間中】個別事業におけるPDCAシート!$A$6,【実施期間中】個別事業におけるPDCAシート!$A$54,MATCH($C554,【実施期間中】個別事業におけるPDCAシート!$H$4:$V$4,0)+6)","v":{"v":0,"d":"0団体"}},{"$nulls":4},"、個人",null,{"$f":"OFFSET(【実施期間中】個別事業におけるPDCAシート!$A$6,【実施期間中】個別事業におけるPDCAシート!$A$57,MATCH($C554,【実施期間中】個別事業におけるPDCAシート!$H$4:$V$4,0)+6)","v":{"v":0,"d":"0名"}}]
[{"$nulls":4},"実績値",{"$nulls":3},"団体",null,{"$f":"OFFSET(【実施期間中】個別事業におけるPDCAシート!$A$6,【実施期間中】個別事業におけるPDCAシート!$A$55,MATCH($C554,【実施期間中】個別事業におけるPDCAシート!$H$4:$V$4,0)+6)","v":{"v":0,"d":"0団体"}},{"$nulls":4},"、個人",null,{"$f":"OFFSET(【実施期間中】個別事業におけるPDCAシート!$A$6,【実施期間中】個別事業におけるPDCAシート!$A$58,MATCH($C554,【実施期間中】個別事業におけるPDCAシート!$H$4:$V$4,0)+6)","v":{"v":0,"d":"0名"}}]
[null,null,"効果検証\n（アンケート）予定",null,"※アンケートの実施予定をプルダウンより選択してください。"]
[{"$nulls":4},"公募要領に規定のアンケート",{"$nulls":16},"貴事業者独自のアンケート"]
[{"$nulls":4},"省エネ機器",{"$nulls":3},"省エネ住宅",{"$nulls":3},"エコドライブ",{"$nulls":3},"低炭素物流（宅配便の再配達防止）"]
[{"$nulls":4},{"$f":"OFFSET(【実施期間中】個別事業におけるPDCAシート!$A$6,【実施期間中】個別事業におけるPDCAシート!$A$59,MATCH($C554,【実施期間中】個別事業におけるPDCAシート!$H$4:$V$4,0)+6)","v":"- 選択 -"},{"$nulls":3},{"$f":"OFFSET(【実施期間中】個別事業におけるPDCAシート!$A$6,【実施期間中】個別事業におけるPDCAシート!$A$60,MATCH($C554,【実施期間中】個別事業におけるPDCAシート!$H$4:$V$4,0)+6)","v":"- 選択 -"},{"$nulls":3},{"$f":"OFFSET(【実施期間中】個別事業におけるPDCAシート!$A$6,【実施期間中】個別事業におけるPDCAシート!$A$61,MATCH($C554,【実施期間中】個別事業におけるPDCAシート!$H$4:$V$4,0)+6)","v":"- 選択 -"},{"$nulls":3},{"$f":"OFFSET(【実施期間中】個別事業におけるPDCAシート!$A$6,【実施期間中】個別事業におけるPDCAシート!$A$62,MATCH($C554,【実施期間中】個別事業におけるPDCAシート!$H$4:$V$4,0)+6)","v":"- 選択 -"},{"$nulls":4},{"$f":"OFFSET(【実施期間中】個別事業におけるPDCAシート!$A$6,【実施期間中】個別事業におけるPDCAシート!$A$63,MATCH($C554,【実施期間中】個別事業におけるPDCAシート!$H$4:$V$4,0)+6)","v":"- 選択 -"}]
[{"$nulls":4},"内容（",null,{"$f":"OFFSET(【実施期間中】個別事業におけるPDCAシート!$A$6,【実施期間中】個別事業におけるPDCAシート!$A$64,MATCH($C554,【実施期間中】個別事業におけるPDCAシート!$H$4:$V$4,0)+6)","v":""},{"$nulls":20},"）"]
[{"$nulls":4},"目標回収数",{"$nulls":3},"計",{"$f":"OFFSET(【実施期間中】個別事業におけるPDCAシート!$A$6,【実施期間中】個別事業におけるPDCAシート!$A$66,MATCH($C554,【実施期間中】個別事業におけるPDCAシート!$H$4:$V$4,0)+6)","v":0},null,null,"枚",null,"※複数ある場合は、平均アンケート回収数"]
[{"$nulls":4},"実績値",{"$nulls":3},"計",{"$f":"OFFSET(【実施期間中】個別事業におけるPDCAシート!$A$6,【実施期間中】個別事業におけるPDCAシート!$A$67,MATCH($C554,【実施期間中】個別事業におけるPDCAシート!$H$4:$V$4,0)+6)","v":0},null,null,"枚",null,"※複数ある場合は、平均アンケート回収数"]
[]
[null,null,"項目",null,"内容"]
[null,null,"事業14","事業名",{"$f":"OFFSET(【実施期間中】個別事業におけるPDCAシート!$A$6,,MATCH(C597,【実施期間中】個別事業におけるPDCAシート!$H$4:$V$4,0)+6)","v":0}]
[null,null,"普及啓発テーマ",null,"※該当する普及啓発テーマすべてをチェックしてください。"]
[{"$nulls":4},"①",null,"②",null,"③",null,"④",null,"⑤",null,"⑥",null,"⑦",null,"⑧",null,"⑨",null,"⑩",null,"⑪",null,"⑫",{"$nulls":3},"①","②","③","④","⑤","⑥","⑦","⑧","⑨","⑩","⑪","⑫"]
[{"$nulls":4},"省ｴﾈ機器",null,"省ｴﾈ住宅",null,"ｴｺｶｰ",null,"ｸｰﾙﾋﾞｽﾞ",null,"ｳｫｰﾑﾋﾞｽﾞ",null,"照明の\n高効率利用",null,"ｴｺﾄﾞﾗｲﾌﾞ",null,"ｶｰｼｪｱ",null,"公共交通\n機関の利用",null,"再配達防止",null,"シェアエコ",null,"地球温暖化",{"$nulls":3},"省ｴﾈ機器","省ｴﾈ住宅","ｴｺｶｰ","ｸｰﾙﾋﾞｽﾞ","ｳｫｰﾑﾋﾞｽﾞ","照明の\n高効率利用","ｴｺﾄﾞﾗｲﾌﾞ","ｶｰｼｪｱ","公共交通\n機関の利用","再配達防止","シェアエコ","地球温暖化"]
[{"$nulls":30},{"$f":"IF(COUNTIFS(【実施期間中】個別事業におけるPDCAシート!$E$7:$E$17,別紙１_実施報告書!AE599,OFFSET(【実施期間中】個別事業におけるPDCAシート!$F$7,,MATCH(別紙１_実施報告書!$C597,【実施期間中】個別事業におけるPDCAシート!$H$4:$V$4,0)+1,11,1),1),1,0)","v":0},{"$f":"IF(COUNTIFS(【実施期間中】個別事業におけるPDCAシート!$E$7:$E$17,別紙１_実施報告書!AF599,OFFSET(【実施期間中】個別事業におけるPDCAシート!$F$7,,MATCH(別紙１_実施報告書!$C597,【実施期間中】個別事業におけるPDCAシート!$H$4:$V$4,0)+1,11,1),1),1,0)","v":0},{"$f":"IF(COUNTIFS(【実施期間中】個別事業におけるPDCAシート!$E$7:$E$17,別紙１_実施報告書!AG599,OFFSET(【実施期間中】個別事業におけるPDCAシート!$F$7,,MATCH(別紙１_実施報告書!$C597,【実施期間中】個別事業におけるPDCAシート!$H$4:$V$4,0)+1,11,1),1),1,0)","v":0},{"$f":"IF(COUNTIFS(【実施期間中】個別事業におけるPDCAシート!$E$7:$E$17,別紙１_実施報告書!AH599,OFFSET(【実施期間中】個別事業におけるPDCAシート!$F$7,,MATCH(別紙１_実施報告書!$C597,【実施期間中】個別事業におけるPDCAシート!$H$4:$V$4,0)+1,11,1),1),1,0)","v":0},{"$f":"IF(COUNTIFS(【実施期間中】個別事業におけるPDCAシート!$E$7:$E$17,別紙１_実施報告書!AI599,OFFSET(【実施期間中】個別事業におけるPDCAシート!$F$7,,MATCH(別紙１_実施報告書!$C597,【実施期間中】個別事業におけるPDCAシート!$H$4:$V$4,0)+1,11,1),1),1,0)","v":0},{"$f":"IF(COUNTIFS(【実施期間中】個別事業におけるPDCAシート!$E$7:$E$17,別紙１_実施報告書!AJ599,OFFSET(【実施期間中】個別事業におけるPDCAシート!$F$7,,MATCH(別紙１_実施報告書!$C597,【実施期間中】個別事業におけるPDCAシート!$H$4:$V$4,0)+1,11,1),1),1,0)","v":0},{"$f":"IF(COUNTIFS(【実施期間中】個別事業におけるPDCAシート!$E$7:$E$17,別紙１_実施報告書!AK599,OFFSET(【実施期間中】個別事業におけるPDCAシート!$F$7,,MATCH(別紙１_実施報告書!$C597,【実施期間中】個別事業におけるPDCAシート!$H$4:$V$4,0)+1,11,1),1),1,0)","v":0},{"$f":"IF(COUNTIFS(【実施期間中】個別事業におけるPDCAシート!$E$7:$E$17,別紙１_実施報告書!AL599,OFFSET(【実施期間中】個別事業におけるPDCAシート!$F$7,,MATCH(別紙１_実施報告書!$C597,【実施期間中】個別事業におけるPDCAシート!$H$4:$V$4,0)+1,11,1),1),1,0)","v":0},{"$f":"IF(COUNTIFS(【実施期間中】個別事業におけるPDCAシート!$E$7:$E$17,別紙１_実施報告書!AM599,OFFSET(【実施期間中】個別事業におけるPDCAシート!$F$7,,MATCH(別紙１_実施報告書!$C597,【実施期間中】個別事業におけるPDCAシート!$H$4:$V$4,0)+1,11,1),1),1,0)","v":0},{"$f":"IF(COUNTIFS(【実施期間中】個別事業におけるPDCAシート!$E$7:$E$17,別紙１_実施報告書!AN599,OFFSET(【実施期間中】個別事業におけるPDCAシート!$F$7,,MATCH(別紙１_実施報告書!$C597,【実施期間中】個別事業におけるPDCAシート!$H$4:$V$4,0)+1,11,1),1),1,0)","v":0},{"$f":"IF(COUNTIFS(【実施期間中】個別事業におけるPDCAシート!$E$7:$E$17,別紙１_実施報告書!AO599,OFFSET(【実施期間中】個別事業におけるPDCAシート!$F$7,,MATCH(別紙１_実施報告書!$C597,【実施期間中】個別事業におけるPDCAシート!$H$4:$V$4,0)+1,11,1),1),1,0)","v":0},{"$f":"IF(COUNTIFS(【実施期間中】個別事業におけるPDCAシート!$E$7:$E$18,別紙１_実施報告書!AP599,OFFSET(【実施期間中】個別事業におけるPDCAシート!$F$7,,MATCH(別紙１_実施報告書!$C597,【実施期間中】個別事業におけるPDCAシート!$H$4:$V$4,0)+1,12,1),1),1,0)","v":0},{"$f":"COUNTIFS(AE601:AP601,1)+COUNTIFS(AE601:AP601,\"TRUE\")","v":0}]
[null,null,"訴求手法",null,"※訴求手法については、該当する欄にチェックしてください。"]
[{"$nulls":4},"a) 情報発信型（受動型）",{"$nulls":7},"b) 情報発信型（能動型）",{"$nulls":7},"c) 双方向体験交流型"]
[{"$nulls":4},"ラジオ、新聞・広報紙等",{"$nulls":7},"講演会・パネル展示等",{"$nulls":7},"試乗・体験会、省ｴﾈ診断等",{"$nulls":22},"a)","b)","c)"]
[{"$nulls":43},{"$f":"IF(COUNTIFS(【実施期間中】個別事業におけるPDCAシート!$E$19:$E$21,別紙１_実施報告書!AR604,OFFSET(【実施期間中】個別事業におけるPDCAシート!$F$19,,MATCH(別紙１_実施報告書!$C597,【実施期間中】個別事業におけるPDCAシート!$H$4:$V$4,0)+1,3,1),1),1,0)","v":0},{"$f":"IF(COUNTIFS(【実施期間中】個別事業におけるPDCAシート!$E$19:$E$21,別紙１_実施報告書!AS604,OFFSET(【実施期間中】個別事業におけるPDCAシート!$F$19,,MATCH(別紙１_実施報告書!$C597,【実施期間中】個別事業におけるPDCAシート!$H$4:$V$4,0)+1,3,1),1),1,0)","v":0},{"$f":"IF(COUNTIFS(【実施期間中】個別事業におけるPDCAシート!$E$19:$E$21,別紙１_実施報告書!AT604,OFFSET(【実施期間中】個別事業におけるPDCAシート!$F$19,,MATCH(別紙１_実施報告書!$C597,【実施期間中】個別事業におけるPDCAシート!$H$4:$V$4,0)+1,3,1),1),1,0)","v":0},{"$nulls":8},{"$f":"COUNTIFS(AR605:BB605,1)","v":0}]
[null,null,"実施期間",null,{"$f":"OFFSET(【実施期間中】個別事業におけるPDCAシート!$A$6,【実施期間中】個別事業におけるPDCAシート!$A$22,MATCH($C597,【実施期間中】個別事業におけるPDCAシート!$H$4:$V$4,0)+6)","v":""},{"$nulls":9},"～",{"$nulls":3},{"$f":"OFFSET(【実施期間中】個別事業におけるPDCAシート!$A$6,【実施期間中】個別事業におけるPDCAシート!$A$24,MATCH($C597,【実施期間中】個別事業におけるPDCAシート!$H$4:$V$4,0)+6)","v":""}]
[null,null,"（備考）",null,{"$f":"OFFSET(【実施期間中】個別事業におけるPDCAシート!$A$6,【実施期間中】個別事業におけるPDCAシート!$A$25,MATCH($C597,【実施期間中】個別事業におけるPDCAシート!$H$4:$V$4,0)+6)","v":""}]
[null,null,"実施日\n（※同一事業内で、\n同一の内容・場所において\n複数日実施する場合）",null,1,null,{"$f":"OFFSET(【実施期間中】個別事業におけるPDCAシート!$A$6,【実施期間中】個別事業におけるPDCAシート!$A$26,MATCH($C597,【実施期間中】個別事業におけるPDCAシート!$H$4:$V$4,0)+6)","v":""},{"$nulls":9},6,null,{"$f":"OFFSET(【実施期間中】個別事業におけるPDCAシート!$A$6,【実施期間中】個別事業におけるPDCAシート!$A$31,MATCH($C597,【実施期間中】個別事業におけるPDCAシート!$H$4:$V$4,0)+6)","v":""}]
[{"$nulls":4},2,null,{"$f":"OFFSET(【実施期間中】個別事業におけるPDCAシート!$A$6,【実施期間中】個別事業におけるPDCAシート!$A$27,MATCH($C597,【実施期間中】個別事業におけるPDCAシート!$H$4:$V$4,0)+6)","v":""},{"$nulls":9},7,null,{"$f":"OFFSET(【実施期間中】個別事業におけるPDCAシート!$A$6,【実施期間中】個別事業におけるPDCAシート!$A$32,MATCH($C597,【実施期間中】個別事業におけるPDCAシート!$H$4:$V$4,0)+6)","v":""}]
[{"$nulls":4},3,null,{"$f":"OFFSET(【実施期間中】個別事業におけるPDCAシート!$A$6,【実施期間中】個別事業におけるPDCAシート!$A$28,MATCH($C597,【実施期間中】個別事業におけるPDCAシート!$H$4:$V$4,0)+6)","v":""},{"$nulls":9},8,null,{"$f":"OFFSET(【実施期間中】個別事業におけるPDCAシート!$A$6,【実施期間中】個別事業におけるPDCAシート!$A$33,MATCH($C597,【実施期間中】個別事業におけるPDCAシート!$H$4:$V$4,0)+6)","v":""}]
[{"$nulls":4},4,null,{"$f":"OFFSET(【実施期間中】個別事業におけるPDCAシート!$A$6,【実施期間中】個別事業におけるPDCAシート!$A$29,MATCH($C597,【実施期間中】個別事業におけるPDCAシート!$H$4:$V$4,0)+6)","v":""},{"$nulls":9},9,null,{"$f":"OFFSET(【実施期間中】個別事業におけるPDCAシート!$A$6,【実施期間中】個別事業におけるPDCAシート!$A$34,MATCH($C597,【実施期間中】個別事業におけるPDCAシート!$H$4:$V$4,0)+6)","v":""}]
[{"$nulls":4},5,null,{"$f":"OFFSET(【実施期間中】個別事業におけるPDCAシート!$A$6,【実施期間中】個別事業におけるPDCAシート!$A$30,MATCH($C597,【実施期間中】個別事業におけるPDCAシート!$H$4:$V$4,0)+6)","v":""},{"$nulls":9},10,null,{"$f":"OFFSET(【実施期間中】個別事業におけるPDCAシート!$A$6,【実施期間中】個別事業におけるPDCAシート!$A$35,MATCH($C597,【実施期間中】個別事業におけるPDCAシート!$H$4:$V$4,0)+6)","v":""}]
[null,null,"事業の概要",null,{"$f":"OFFSET(【実施期間中】個別事業におけるPDCAシート!$A$6,【実施期間中】個別事業におけるPDCAシート!$A$36,MATCH($C597,【実施期間中】個別事業におけるPDCAシート!$H$4:$V$4,0)+6)","v":""}]
[null,null,"指定自治体等との連携",null,{"$f":"別紙１_実施計画書!E589","v":0}]
[null,null,"実施結果",null,{"$f":"OFFSET(【実施期間中】個別事業におけるPDCAシート!$A$6,【実施期間中】個別事業におけるPDCAシート!$A$38,MATCH($C597,【実施期間中】個別事業におけるPDCAシート!$H$4:$V$4,0)+6)","v":0}]
[]
[null,null,"主な訴求対象","計画",{"$f":"OFFSET(【実施期間中】個別事業におけるPDCAシート!$A$6,【実施期間中】個別事業におけるPDCAシート!$A$39,MATCH($C597,【実施期間中】個別事業におけるPDCAシート!$H$4:$V$4,0)+6)","v":""}]
[{"$nulls":3},"結果",{"$f":"OFFSET(【実施期間中】個別事業におけるPDCAシート!$A$6,【実施期間中】個別事業におけるPDCAシート!$A$40,MATCH($C597,【実施期間中】個別事業におけるPDCAシート!$H$4:$V$4,0)+6)","v":0}]
[null,null,"目標アウトプット\n（リーチ数）\n（想定及び実績）",null,"カテゴリ①（プルダウン選択）⇒",{"$nulls":10},{"$f":"OFFSET(【実施期間中】個別事業におけるPDCAシート!$A$6,【実施期間中】個別事業におけるPDCAシート!$A$41,MATCH($C597,【実施期間中】個別事業におけるPDCAシート!$H$4:$V$4,0)+6)","v":""}]
[{"$nulls":4},"計画値",{"$nulls":3},"計",null,{"$f":"別紙１_実施計画書!K595","v":{"v":0,"d":"0名"}}]
[{"$nulls":4},"実績値",{"$nulls":3},"計",null,{"$f":"OFFSET(【実施期間中】個別事業におけるPDCAシート!$A$6,【実施期間中】個別事業におけるPDCAシート!$A$44,MATCH($C597,【実施期間中】個別事業におけるPDCAシート!$H$4:$V$4,0)+6)","v":{"v":0,"d":"0名"}}]
[{"$nulls":4},"算出根拠",{"$nulls":3},{"$f":"OFFSET(【実施期間中】個別事業におけるPDCAシート!$A$6,【実施期間中】個別事業におけるPDCAシート!$A$45,MATCH($C597,【実施期間中】個別事業におけるPDCAシート!$H$4:$V$4,0)+6)","v":""}]
[{"$nulls":4},"カテゴリ②（プルダウン選択）⇒",{"$nulls":10},{"$f":"OFFSET(【実施期間中】個別事業におけるPDCAシート!$A$6,【実施期間中】個別事業におけるPDCAシート!$A$46,MATCH($C597,【実施期間中】個別事業におけるPDCAシート!$H$4:$V$4,0)+6)","v":""}]
[{"$nulls":4},"計画値",{"$nulls":3},"計",null,{"$f":"別紙１_実施計画書!K599","v":{"v":0,"d":"0名"}}]
[{"$nulls":4},"実績値",{"$nulls":3},"計",null,{"$f":"OFFSET(【実施期間中】個別事業におけるPDCAシート!$A$6,【実施期間中】個別事業におけるPDCAシート!$A$49,MATCH($C597,【実施期間中】個別事業におけるPDCAシート!$H$4:$V$4,0)+6)","v":{"v":0,"d":"0名"}}]
[{"$nulls":4},"算出根拠",{"$nulls":3},{"$f":"OFFSET(【実施期間中】個別事業におけるPDCAシート!$A$6,【実施期間中】個別事業におけるPDCAシート!$A$50,MATCH($C597,【実施期間中】個別事業におけるPDCAシート!$H$4:$V$4,0)+6)","v":""}]
[null,null,"目標アウトカム\n（想定及び実績）",null,"計画",{"$nulls":3},{"$f":"OFFSET(【実施期間中】個別事業におけるPDCAシート!$A$6,【実施期間中】個別事業におけるPDCAシート!$A$51,MATCH($C597,【実施期間中】個別事業におけるPDCAシート!$H$4:$V$4,0)+6)","v":""}]
[{"$nulls":4},"実績"]
[null,null,"賛同数（想定及び実績）",null,"計画値",{"$nulls":3},"団体",null,{"$f":"OFFSET(【実施期間中】個別事業におけるPDCAシート!$A$6,【実施期間中】個別事業におけるPDCAシート!$A$54,MATCH($C597,【実施期間中】個別事業におけるPDCAシート!$H$4:$V$4,0)+6)","v":{"v":0,"d":"0団体"}},{"$nulls":4},"、個人",null,{"$f":"OFFSET(【実施期間中】個別事業におけるPDCAシート!$A$6,【実施期間中】個別事業におけるPDCAシート!$A$57,MATCH($C597,【実施期間中】個別事業におけるPDCAシート!$H$4:$V$4,0)+6)","v":{"v":0,"d":"0名"}}]
[{"$nulls":4},"実績値",{"$nulls":3},"団体",null,{"$f":"OFFSET(【実施期間中】個別事業におけるPDCAシート!$A$6,【実施期間中】個別事業におけるPDCAシート!$A$55,MATCH($C597,【実施期間中】個別事業におけるPDCAシート!$H$4:$V$4,0)+6)","v":{"v":0,"d":"0団体"}},{"$nulls":4},"、個人",null,{"$f":"OFFSET(【実施期間中】個別事業におけるPDCAシート!$A$6,【実施期間中】個別事業におけるPDCAシート!$A$58,MATCH($C597,【実施期間中】個別事業におけるPDCAシート!$H$4:$V$4,0)+6)","v":{"v":0,"d":"0名"}}]
[null,null,"効果検証\n（アンケート）予定",null,"※アンケートの実施予定をプルダウンより選択してください。"]
[{"$nulls":4},"公募要領に規定のアンケート",{"$nulls":16},"貴事業者独自のアンケート"]
[{"$nulls":4},"省エネ機器",{"$nulls":3},"省エネ住宅",{"$nulls":3},"エコドライブ",{"$nulls":3},"低炭素物流（宅配便の再配達防止）"]
[{"$nulls":4},{"$f":"OFFSET(【実施期間中】個別事業におけるPDCAシート!$A$6,【実施期間中】個別事業におけるPDCAシート!$A$59,MATCH($C597,【実施期間中】個別事業におけるPDCAシート!$H$4:$V$4,0)+6)","v":"- 選択 -"},{"$nulls":3},{"$f":"OFFSET(【実施期間中】個別事業におけるPDCAシート!$A$6,【実施期間中】個別事業におけるPDCAシート!$A$60,MATCH($C597,【実施期間中】個別事業におけるPDCAシート!$H$4:$V$4,0)+6)","v":"- 選択 -"},{"$nulls":3},{"$f":"OFFSET(【実施期間中】個別事業におけるPDCAシート!$A$6,【実施期間中】個別事業におけるPDCAシート!$A$61,MATCH($C597,【実施期間中】個別事業におけるPDCAシート!$H$4:$V$4,0)+6)","v":"- 選択 -"},{"$nulls":3},{"$f":"OFFSET(【実施期間中】個別事業におけるPDCAシート!$A$6,【実施期間中】個別事業におけるPDCAシート!$A$62,MATCH($C597,【実施期間中】個別事業におけるPDCAシート!$H$4:$V$4,0)+6)","v":"- 選択 -"},{"$nulls":4},{"$f":"OFFSET(【実施期間中】個別事業におけるPDCAシート!$A$6,【実施期間中】個別事業におけるPDCAシート!$A$63,MATCH($C597,【実施期間中】個別事業におけるPDCAシート!$H$4:$V$4,0)+6)","v":"- 選択 -"}]
[{"$nulls":4},"内容（",null,{"$f":"OFFSET(【実施期間中】個別事業におけるPDCAシート!$A$6,【実施期間中】個別事業におけるPDCAシート!$A$64,MATCH($C597,【実施期間中】個別事業におけるPDCAシート!$H$4:$V$4,0)+6)","v":""},{"$nulls":20},"）"]
[{"$nulls":4},"目標回収数",{"$nulls":3},"計",{"$f":"OFFSET(【実施期間中】個別事業におけるPDCAシート!$A$6,【実施期間中】個別事業におけるPDCAシート!$A$66,MATCH($C597,【実施期間中】個別事業におけるPDCAシート!$H$4:$V$4,0)+6)","v":0},null,null,"枚",null,"※複数ある場合は、平均アンケート回収数"]
[{"$nulls":4},"実績値",{"$nulls":3},"計",{"$f":"OFFSET(【実施期間中】個別事業におけるPDCAシート!$A$6,【実施期間中】個別事業におけるPDCAシート!$A$67,MATCH($C597,【実施期間中】個別事業におけるPDCAシート!$H$4:$V$4,0)+6)","v":0},null,null,"枚",null,"※複数ある場合は、平均アンケート回収数"]
[]
[null,null,"項目",null,"内容"]
[null,null,"事業15","事業名",{"$f":"OFFSET(【実施期間中】個別事業におけるPDCAシート!$A$6,,MATCH(C640,【実施期間中】個別事業におけるPDCAシート!$H$4:$V$4,0)+6)","v":0}]
[null,null,"普及啓発テーマ",null,"※該当する普及啓発テーマすべてをチェックしてください。"]
[{"$nulls":4},"①",null,"②",null,"③",null,"④",null,"⑤",null,"⑥",null,"⑦",null,"⑧",null,"⑨",null,"⑩",null,"⑪",null,"⑫",{"$nulls":3},"①","②","③","④","⑤","⑥","⑦","⑧","⑨","⑩","⑪","⑫"]
[{"$nulls":4},"省ｴﾈ機器",null,"省ｴﾈ住宅",null,"ｴｺｶｰ",null,"ｸｰﾙﾋﾞｽﾞ",null,"ｳｫｰﾑﾋﾞｽﾞ",null,"照明の\n高効率利用",null,"ｴｺﾄﾞﾗｲﾌﾞ",null,"ｶｰｼｪｱ",null,"公共交通\n機関の利用",null,"再配達防止",null,"シェアエコ",null,"地球温暖化",{"$nulls":3},"省ｴﾈ機器","省ｴﾈ住宅","ｴｺｶｰ","ｸｰﾙﾋﾞｽﾞ","ｳｫｰﾑﾋﾞｽﾞ","照明の\n高効率利用","ｴｺﾄﾞﾗｲﾌﾞ","ｶｰｼｪｱ","公共交通\n機関の利用","再配達防止","シェアエコ","地球温暖化"]
[{"$nulls":30},{"$f":"IF(COUNTIFS(【実施期間中】個別事業におけるPDCAシート!$E$7:$E$17,別紙１_実施報告書!AE642,OFFSET(【実施期間中】個別事業におけるPDCAシート!$F$7,,MATCH(別紙１_実施報告書!$C640,【実施期間中】個別事業におけるPDCAシート!$H$4:$V$4,0)+1,11,1),1),1,0)","v":0},{"$f":"IF(COUNTIFS(【実施期間中】個別事業におけるPDCAシート!$E$7:$E$17,別紙１_実施報告書!AF642,OFFSET(【実施期間中】個別事業におけるPDCAシート!$F$7,,MATCH(別紙１_実施報告書!$C640,【実施期間中】個別事業におけるPDCAシート!$H$4:$V$4,0)+1,11,1),1),1,0)","v":0},{"$f":"IF(COUNTIFS(【実施期間中】個別事業におけるPDCAシート!$E$7:$E$17,別紙１_実施報告書!AG642,OFFSET(【実施期間中】個別事業におけるPDCAシート!$F$7,,MATCH(別紙１_実施報告書!$C640,【実施期間中】個別事業におけるPDCAシート!$H$4:$V$4,0)+1,11,1),1),1,0)","v":0},{"$f":"IF(COUNTIFS(【実施期間中】個別事業におけるPDCAシート!$E$7:$E$17,別紙１_実施報告書!AH642,OFFSET(【実施期間中】個別事業におけるPDCAシート!$F$7,,MATCH(別紙１_実施報告書!$C640,【実施期間中】個別事業におけるPDCAシート!$H$4:$V$4,0)+1,11,1),1),1,0)","v":0},{"$f":"IF(COUNTIFS(【実施期間中】個別事業におけるPDCAシート!$E$7:$E$17,別紙１_実施報告書!AI642,OFFSET(【実施期間中】個別事業におけるPDCAシート!$F$7,,MATCH(別紙１_実施報告書!$C640,【実施期間中】個別事業におけるPDCAシート!$H$4:$V$4,0)+1,11,1),1),1,0)","v":0},{"$f":"IF(COUNTIFS(【実施期間中】個別事業におけるPDCAシート!$E$7:$E$17,別紙１_実施報告書!AJ642,OFFSET(【実施期間中】個別事業におけるPDCAシート!$F$7,,MATCH(別紙１_実施報告書!$C640,【実施期間中】個別事業におけるPDCAシート!$H$4:$V$4,0)+1,11,1),1),1,0)","v":0},{"$f":"IF(COUNTIFS(【実施期間中】個別事業におけるPDCAシート!$E$7:$E$17,別紙１_実施報告書!AK642,OFFSET(【実施期間中】個別事業におけるPDCAシート!$F$7,,MATCH(別紙１_実施報告書!$C640,【実施期間中】個別事業におけるPDCAシート!$H$4:$V$4,0)+1,11,1),1),1,0)","v":0},{"$f":"IF(COUNTIFS(【実施期間中】個別事業におけるPDCAシート!$E$7:$E$17,別紙１_実施報告書!AL642,OFFSET(【実施期間中】個別事業におけるPDCAシート!$F$7,,MATCH(別紙１_実施報告書!$C640,【実施期間中】個別事業におけるPDCAシート!$H$4:$V$4,0)+1,11,1),1),1,0)","v":0},{"$f":"IF(COUNTIFS(【実施期間中】個別事業におけるPDCAシート!$E$7:$E$17,別紙１_実施報告書!AM642,OFFSET(【実施期間中】個別事業におけるPDCAシート!$F$7,,MATCH(別紙１_実施報告書!$C640,【実施期間中】個別事業におけるPDCAシート!$H$4:$V$4,0)+1,11,1),1),1,0)","v":0},{"$f":"IF(COUNTIFS(【実施期間中】個別事業におけるPDCAシート!$E$7:$E$17,別紙１_実施報告書!AN642,OFFSET(【実施期間中】個別事業におけるPDCAシート!$F$7,,MATCH(別紙１_実施報告書!$C640,【実施期間中】個別事業におけるPDCAシート!$H$4:$V$4,0)+1,11,1),1),1,0)","v":0},{"$f":"IF(COUNTIFS(【実施期間中】個別事業におけるPDCAシート!$E$7:$E$17,別紙１_実施報告書!AO642,OFFSET(【実施期間中】個別事業におけるPDCAシート!$F$7,,MATCH(別紙１_実施報告書!$C640,【実施期間中】個別事業におけるPDCAシート!$H$4:$V$4,0)+1,11,1),1),1,0)","v":0},{"$f":"IF(COUNTIFS(【実施期間中】個別事業におけるPDCAシート!$E$7:$E$18,別紙１_実施報告書!AP642,OFFSET(【実施期間中】個別事業におけるPDCAシート!$F$7,,MATCH(別紙１_実施報告書!$C640,【実施期間中】個別事業におけるPDCAシート!$H$4:$V$4,0)+1,12,1),1),1,0)","v":0},{"$f":"COUNTIFS(AE644:AP644,1)+COUNTIFS(AE644:AP644,\"TRUE\")","v":0}]
[null,null,"訴求手法",null,"※訴求手法については、該当する欄にチェックしてください。"]
[{"$nulls":4},"a) 情報発信型（受動型）",{"$nulls":7},"b) 情報発信型（能動型）",{"$nulls":7},"c) 双方向体験交流型"]
[{"$nulls":4},"ラジオ、新聞・広報紙等",{"$nulls":7},"講演会・パネル展示等",{"$nulls":7},"試乗・体験会、省ｴﾈ診断等",{"$nulls":22},"a)","b)","c)"]
[{"$nulls":43},{"$f":"IF(COUNTIFS(【実施期間中】個別事業におけるPDCAシート!$E$19:$E$21,別紙１_実施報告書!AR647,OFFSET(【実施期間中】個別事業におけるPDCAシート!$F$19,,MATCH(別紙１_実施報告書!$C640,【実施期間中】個別事業におけるPDCAシート!$H$4:$V$4,0)+1,3,1),1),1,0)","v":0},{"$f":"IF(COUNTIFS(【実施期間中】個別事業におけるPDCAシート!$E$19:$E$21,別紙１_実施報告書!AS647,OFFSET(【実施期間中】個別事業におけるPDCAシート!$F$19,,MATCH(別紙１_実施報告書!$C640,【実施期間中】個別事業におけるPDCAシート!$H$4:$V$4,0)+1,3,1),1),1,0)","v":0},{"$f":"IF(COUNTIFS(【実施期間中】個別事業におけるPDCAシート!$E$19:$E$21,別紙１_実施報告書!AT647,OFFSET(【実施期間中】個別事業におけるPDCAシート!$F$19,,MATCH(別紙１_実施報告書!$C640,【実施期間中】個別事業におけるPDCAシート!$H$4:$V$4,0)+1,3,1),1),1,0)","v":0},{"$nulls":8},{"$f":"COUNTIFS(AR648:BB648,1)","v":0}]
[null,null,"実施期間",null,{"$f":"OFFSET(【実施期間中】個別事業におけるPDCAシート!$A$6,【実施期間中】個別事業におけるPDCAシート!$A$22,MATCH($C640,【実施期間中】個別事業におけるPDCAシート!$H$4:$V$4,0)+6)","v":""},{"$nulls":9},"～",{"$nulls":3},{"$f":"OFFSET(【実施期間中】個別事業におけるPDCAシート!$A$6,【実施期間中】個別事業におけるPDCAシート!$A$24,MATCH($C640,【実施期間中】個別事業におけるPDCAシート!$H$4:$V$4,0)+6)","v":""}]
[null,null,"（備考）",null,{"$f":"OFFSET(【実施期間中】個別事業におけるPDCAシート!$A$6,【実施期間中】個別事業におけるPDCAシート!$A$25,MATCH($C640,【実施期間中】個別事業におけるPDCAシート!$H$4:$V$4,0)+6)","v":""}]
[null,null,"実施日\n（※同一事業内で、\n同一の内容・場所において\n複数日実施する場合）",null,1,null,{"$f":"OFFSET(【実施期間中】個別事業におけるPDCAシート!$A$6,【実施期間中】個別事業におけるPDCAシート!$A$26,MATCH($C640,【実施期間中】個別事業におけるPDCAシート!$H$4:$V$4,0)+6)","v":""},{"$nulls":9},6,null,{"$f":"OFFSET(【実施期間中】個別事業におけるPDCAシート!$A$6,【実施期間中】個別事業におけるPDCAシート!$A$31,MATCH($C640,【実施期間中】個別事業におけるPDCAシート!$H$4:$V$4,0)+6)","v":""}]
[{"$nulls":4},2,null,{"$f":"OFFSET(【実施期間中】個別事業におけるPDCAシート!$A$6,【実施期間中】個別事業におけるPDCAシート!$A$27,MATCH($C640,【実施期間中】個別事業におけるPDCAシート!$H$4:$V$4,0)+6)","v":""},{"$nulls":9},7,null,{"$f":"OFFSET(【実施期間中】個別事業におけるPDCAシート!$A$6,【実施期間中】個別事業におけるPDCAシート!$A$32,MATCH($C640,【実施期間中】個別事業におけるPDCAシート!$H$4:$V$4,0)+6)","v":""}]
[{"$nulls":4},3,null,{"$f":"OFFSET(【実施期間中】個別事業におけるPDCAシート!$A$6,【実施期間中】個別事業におけるPDCAシート!$A$28,MATCH($C640,【実施期間中】個別事業におけるPDCAシート!$H$4:$V$4,0)+6)","v":""},{"$nulls":9},8,null,{"$f":"OFFSET(【実施期間中】個別事業におけるPDCAシート!$A$6,【実施期間中】個別事業におけるPDCAシート!$A$33,MATCH($C640,【実施期間中】個別事業におけるPDCAシート!$H$4:$V$4,0)+6)","v":""}]
[{"$nulls":4},4,null,{"$f":"OFFSET(【実施期間中】個別事業におけるPDCAシート!$A$6,【実施期間中】個別事業におけるPDCAシート!$A$29,MATCH($C640,【実施期間中】個別事業におけるPDCAシート!$H$4:$V$4,0)+6)","v":""},{"$nulls":9},9,null,{"$f":"OFFSET(【実施期間中】個別事業におけるPDCAシート!$A$6,【実施期間中】個別事業におけるPDCAシート!$A$34,MATCH($C640,【実施期間中】個別事業におけるPDCAシート!$H$4:$V$4,0)+6)","v":""}]
[{"$nulls":4},5,null,{"$f":"OFFSET(【実施期間中】個別事業におけるPDCAシート!$A$6,【実施期間中】個別事業におけるPDCAシート!$A$30,MATCH($C640,【実施期間中】個別事業におけるPDCAシート!$H$4:$V$4,0)+6)","v":""},{"$nulls":9},10,null,{"$f":"OFFSET(【実施期間中】個別事業におけるPDCAシート!$A$6,【実施期間中】個別事業におけるPDCAシート!$A$35,MATCH($C640,【実施期間中】個別事業におけるPDCAシート!$H$4:$V$4,0)+6)","v":""}]
[null,null,"事業の概要",null,{"$f":"OFFSET(【実施期間中】個別事業におけるPDCAシート!$A$6,【実施期間中】個別事業におけるPDCAシート!$A$36,MATCH($C640,【実施期間中】個別事業におけるPDCAシート!$H$4:$V$4,0)+6)","v":""}]
[null,null,"指定自治体等との連携",null,{"$f":"別紙１_実施計画書!E630","v":0}]
[null,null,"実施結果",null,{"$f":"OFFSET(【実施期間中】個別事業におけるPDCAシート!$A$6,【実施期間中】個別事業におけるPDCAシート!$A$38,MATCH($C640,【実施期間中】個別事業におけるPDCAシート!$H$4:$V$4,0)+6)","v":0}]
[]
[null,null,"主な訴求対象","計画",{"$f":"OFFSET(【実施期間中】個別事業におけるPDCAシート!$A$6,【実施期間中】個別事業におけるPDCAシート!$A$39,MATCH($C640,【実施期間中】個別事業におけるPDCAシート!$H$4:$V$4,0)+6)","v":""}]
[{"$nulls":3},"結果",{"$f":"OFFSET(【実施期間中】個別事業におけるPDCAシート!$A$6,【実施期間中】個別事業におけるPDCAシート!$A$40,MATCH($C640,【実施期間中】個別事業におけるPDCAシート!$H$4:$V$4,0)+6)","v":0}]
[null,null,"目標アウトプット\n（リーチ数）\n（想定及び実績）",null,"カテゴリ①（プルダウン選択）⇒",{"$nulls":10},{"$f":"OFFSET(【実施期間中】個別事業におけるPDCAシート!$A$6,【実施期間中】個別事業におけるPDCAシート!$A$41,MATCH($C640,【実施期間中】個別事業におけるPDCAシート!$H$4:$V$4,0)+6)","v":""}]
[{"$nulls":4},"計画値",{"$nulls":3},"計",null,{"$f":"別紙１_実施計画書!K636","v":{"v":0,"d":"0名"}}]
[{"$nulls":4},"実績値",{"$nulls":3},"計",null,{"$f":"OFFSET(【実施期間中】個別事業におけるPDCAシート!$A$6,【実施期間中】個別事業におけるPDCAシート!$A$44,MATCH($C640,【実施期間中】個別事業におけるPDCAシート!$H$4:$V$4,0)+6)","v":{"v":0,"d":"0名"}}]
[{"$nulls":4},"算出根拠",{"$nulls":3},{"$f":"OFFSET(【実施期間中】個別事業におけるPDCAシート!$A$6,【実施期間中】個別事業におけるPDCAシート!$A$45,MATCH($C640,【実施期間中】個別事業におけるPDCAシート!$H$4:$V$4,0)+6)","v":""}]
[{"$nulls":4},"カテゴリ②（プルダウン選択）⇒",{"$nulls":10},{"$f":"OFFSET(【実施期間中】個別事業におけるPDCAシート!$A$6,【実施期間中】個別事業におけるPDCAシート!$A$46,MATCH($C640,【実施期間中】個別事業におけるPDCAシート!$H$4:$V$4,0)+6)","v":""}]
[{"$nulls":4},"計画値",{"$nulls":3},"計",null,{"$f":"別紙１_実施計画書!K640","v":{"v":0,"d":"0名"}}]
[{"$nulls":4},"実績値",{"$nulls":3},"計",null,{"$f":"OFFSET(【実施期間中】個別事業におけるPDCAシート!$A$6,【実施期間中】個別事業におけるPDCAシート!$A$49,MATCH($C640,【実施期間中】個別事業におけるPDCAシート!$H$4:$V$4,0)+6)","v":{"v":0,"d":"0名"}}]
[{"$nulls":4},"算出根拠",{"$nulls":3},{"$f":"OFFSET(【実施期間中】個別事業におけるPDCAシート!$A$6,【実施期間中】個別事業におけるPDCAシート!$A$50,MATCH($C640,【実施期間中】個別事業におけるPDCAシート!$H$4:$V$4,0)+6)","v":""}]
[null,null,"目標アウトカム\n（想定及び実績）",null,"計画",{"$nulls":3},{"$f":"OFFSET(【実施期間中】個別事業におけるPDCAシート!$A$6,【実施期間中】個別事業におけるPDCAシート!$A$51,MATCH($C640,【実施期間中】個別事業におけるPDCAシート!$H$4:$V$4,0)+6)","v":""}]
[{"$nulls":4},"実績"]
[null,null,"賛同数（想定及び実績）",null,"計画値",{"$nulls":3},"団体",null,{"$f":"OFFSET(【実施期間中】個別事業におけるPDCAシート!$A$6,【実施期間中】個別事業におけるPDCAシート!$A$54,MATCH($C640,【実施期間中】個別事業におけるPDCAシート!$H$4:$V$4,0)+6)","v":{"v":0,"d":"0団体"}},{"$nulls":4},"、個人",null,{"$f":"OFFSET(【実施期間中】個別事業におけるPDCAシート!$A$6,【実施期間中】個別事業におけるPDCAシート!$A$57,MATCH($C640,【実施期間中】個別事業におけるPDCAシート!$H$4:$V$4,0)+6)","v":{"v":0,"d":"0名"}}]
[{"$nulls":4},"実績値",{"$nulls":3},"団体",null,{"$f":"OFFSET(【実施期間中】個別事業におけるPDCAシート!$A$6,【実施期間中】個別事業におけるPDCAシート!$A$55,MATCH($C640,【実施期間中】個別事業におけるPDCAシート!$H$4:$V$4,0)+6)","v":{"v":0,"d":"0団体"}},{"$nulls":4},"、個人",null,{"$f":"OFFSET(【実施期間中】個別事業におけるPDCAシート!$A$6,【実施期間中】個別事業におけるPDCAシート!$A$58,MATCH($C640,【実施期間中】個別事業におけるPDCAシート!$H$4:$V$4,0)+6)","v":{"v":0,"d":"0名"}}]
[null,null,"効果検証\n（アンケート）予定",null,"※アンケートの実施予定をプルダウンより選択してください。"]
[{"$nulls":4},"公募要領に規定のアンケート",{"$nulls":16},"貴事業者独自のアンケート"]
[{"$nulls":4},"省エネ機器",{"$nulls":3},"省エネ住宅",{"$nulls":3},"エコドライブ",{"$nulls":3},"低炭素物流（宅配便の再配達防止）"]
[{"$nulls":4},{"$f":"OFFSET(【実施期間中】個別事業におけるPDCAシート!$A$6,【実施期間中】個別事業におけるPDCAシート!$A$59,MATCH($C640,【実施期間中】個別事業におけるPDCAシート!$H$4:$V$4,0)+6)","v":"- 選択 -"},{"$nulls":3},{"$f":"OFFSET(【実施期間中】個別事業におけるPDCAシート!$A$6,【実施期間中】個別事業におけるPDCAシート!$A$60,MATCH($C640,【実施期間中】個別事業におけるPDCAシート!$H$4:$V$4,0)+6)","v":"- 選択 -"},{"$nulls":3},{"$f":"OFFSET(【実施期間中】個別事業におけるPDCAシート!$A$6,【実施期間中】個別事業におけるPDCAシート!$A$61,MATCH($C640,【実施期間中】個別事業におけるPDCAシート!$H$4:$V$4,0)+6)","v":"- 選択 -"},{"$nulls":3},{"$f":"OFFSET(【実施期間中】個別事業におけるPDCAシート!$A$6,【実施期間中】個別事業におけるPDCAシート!$A$62,MATCH($C640,【実施期間中】個別事業におけるPDCAシート!$H$4:$V$4,0)+6)","v":"- 選択 -"},{"$nulls":4},{"$f":"OFFSET(【実施期間中】個別事業におけるPDCAシート!$A$6,【実施期間中】個別事業におけるPDCAシート!$A$63,MATCH($C640,【実施期間中】個別事業におけるPDCAシート!$H$4:$V$4,0)+6)","v":"- 選択 -"}]
[{"$nulls":4},"内容（",null,{"$f":"OFFSET(【実施期間中】個別事業におけるPDCAシート!$A$6,【実施期間中】個別事業におけるPDCAシート!$A$64,MATCH($C640,【実施期間中】個別事業におけるPDCAシート!$H$4:$V$4,0)+6)","v":""},{"$nulls":20},"）"]
[{"$nulls":4},"目標回収数",{"$nulls":3},"計",{"$f":"OFFSET(【実施期間中】個別事業におけるPDCAシート!$A$6,【実施期間中】個別事業におけるPDCAシート!$A$66,MATCH($C640,【実施期間中】個別事業におけるPDCAシート!$H$4:$V$4,0)+6)","v":0},null,null,"枚",null,"※複数ある場合は、平均アンケート回収数"]
[{"$nulls":4},"実績値",{"$nulls":3},"計",{"$f":"OFFSET(【実施期間中】個別事業におけるPDCAシート!$A$6,【実施期間中】個別事業におけるPDCAシート!$A$67,MATCH($C640,【実施期間中】個別事業におけるPDCAシート!$H$4:$V$4,0)+6)","v":0},null,null,"枚",null,"※複数ある場合は、平均アンケート回収数"]
[]
[]
[null,"②【地域地球温暖化防止活動推進員、活動団体等の支援】（第38条第2項第1号後段）"]
[]
[]
[]
[]
[]
[null,"③【日常生活に関する温室効果ガス排出抑制措置等についての相談対応、助言】（第38条第2項第2号）"]
[]
[]
[]
[]
[]
[null,"④ 【地域の温室効果ガス排出に関する実態調査（調査協力含む）、情報収集・分析、成果の発信】"]
[null,"（第38条第2項第3号、第4号）"]
[]
[]
[]
[]
[]
[null,"⑤【指定団体等への施策の協力】（第38条第2項第5号）"]
[]
[]
[]
[]
[]
[null,"⑥【附帯する事業】（第38条第2項第6号）"]
[]
[]
[]
[]
[]
[null,"＜事業の効果＞"]
[null,"※事業の効果として、目標に対する結果及びその算出方法や実施方法等を示す。"]
[]
[null,"【事業の効果と目標】"]
[null,null,"A) エネルギー起源CO2排出削減量："]
[null,null,"CO2排出削減量","目標",{"$nulls":6},"（t-CO2）"]
[{"$nulls":3},"実績値（効果）",{"$nulls":6},"（t-CO2）"]
[null,null,"測定方法（計算式、根拠資料等）"]
[]
[]
[]
[]
[]
[null,null,"※CO2排出削減量を、どの業務（①～⑤）でどのような方法により算出したかを記入する。"]
[]
[null,null,"B) 事業全体におけるCOOL CHOICE賛同数："]
[null,null,"賛同団体","目標",null,null,{"$f":"別紙１_実施計画書!G700","v":0},{"$nulls":3},"（社）"]
[{"$nulls":3},"実績値（効果）",null,null,0,{"$nulls":3},"（社）"]
[null,null,"賛同者数（個人）","目標",null,null,{"$f":"別紙１_実施計画書!G701","v":0},{"$nulls":3},"（人）"]
[{"$nulls":3},"実績値（効果）",null,null,0,{"$nulls":3},"（人）"]
[null,null,"測定方法（計算式、根拠資料等）"]
[]
[]
[]
[]
[]
[]
[null,null,"C) 事業全体における普及啓発の規模（リーチ数）："]
[null,null,"規模\n(ﾘｰﾁ数)","目標",null,null,{"$f":"別紙１_実施計画書!G710","v":0},{"$nulls":3},"（人）"]
[{"$nulls":3},"実績値（効果）",null,null,0,{"$nulls":3},"（人）"]
[null,null,"ｱﾝｹｰﾄ\n回収数","目標",null,null,{"$f":"別紙１_実施計画書!G711","v":0}]
[{"$nulls":3},"実績値（効果）",null,null,0]
[null,null,"測定方法（計算式、根拠資料等）"]
[]
[]
[]
[]
[]
[]
[null,"＜事業の実施体制＞、＜事業実施に関連する事項＞"]
[null,"※交付申請書の＜事業の実施体制＞、＜事業実施に関連する事項＞の記入内容に変更がない場合は、「交付申請書のとおり」と記入し、変更がある場合は、変更の内容を記入すること。"]
[]
[]
[]
[]
[]
[]
[null,"＜事業実施スケジュール＞"]
[null,"※事業の実施スケジュール（実績）を記入する。"]
[null,"※実施スケジュール（実績）は別紙を添付してもよい。"]
[]
[]
[null,null,"注１　本報告書に、二酸化炭素排出抑制対策事業費等補助金（地域における地球温暖化防止活動促進\n　　　事業）交付申請書に添付した書類に変更がある場合、変更後の書類を添付する。"]
[]
[null,null,"注２　記入欄が少ない場合は、本様式を引き伸ばして使用する。"]
[null,null,"注３　  ※付のコメントは、記入時に削除して提出する。"]

{"sheet":"別紙２_経費所要額積算調書","index":6,"n_rows":36,"n_cols":22,"rows_kept":36,"merged":[[1,1,1,25],[2,1,2,25],[5,1,6,5],[5,6,6,10],[5,11,6,15],[5,16,6,20],[5,21,6,25],[7,1,7,5],[7,6,7,10],[7,11,7,15],[7,16,7,20],[7,21,7,25],[8,1,8,5],[8,6,8,10],[8,11,8,15],[8,16,9,20],[8,21,9,25],[9,1,9,5],[9,6,9,10],[9,11,9,15],[10,1,10,5],[10,6,10,10],[10,11,10,15],[10,16,10,20],[10,21,10,25],[12,1,12,25],[13,1,13,8],[13,9,13,13],[13,14,13,25],[14,9,14,13],[14,14,14,25],[15,9,15,13],[15,14,15,25],[16,9,16,13],[16,14,16,25],[17,9,17,13],[17,14,17,25],[18,9,18,13],[18,14,18,25],[19,9,19,13],[19,14,19,25],[20,9,20,13],[20,14,20,25],[21,9,21,13],[21,14,21,25],[22,9,22,13],[22,14,22,25],[23,9,23,13],[23,14,23,25],[24,9,24,13],[24,14,24,25],[25,9,25,13],[25,14,25,25],[26,9,26,13],[26,14,26,25],[27,9,27,13],[27,14,27,25],[28,9,28,13],[28,14,28,25],[29,9,29,13],[29,14,29,25],[30,9,30,13],[30,14,30,25],[31,9,31,13],[31,14,31,25],[32,9,32,13],[32,14,32,25],[33,9,33,13],[33,14,33,25],[34,1,34,8],[34,9,34,13],[34,14,34,25],[35,1,35,25]]}
[]
[null,"別紙２"]
[null,"地域における地球温暖化防止活動促進事業に要する経費所要額精算調書"]
[]
[null,"１．経費実績額"]
[null,"(1)総事業費",{"$nulls":4},"(2)寄付金その他の収入",{"$nulls":4},"(3)差引額\n(1)－(2)",{"$nulls":4},"(4)補助対象経費支出予定額",{"$nulls":4},"(5)基準額"]
[]
[null,{"$f":"別紙２_経費内訳!E6","v":0},{"$nulls":4},{"$f":"別紙２_経費内訳!J6","v":0},{"$nulls":4},{"$f":"別紙２_経費内訳!O6","v":0},{"$nulls":4},{"$f":"別紙２_経費内訳!T6","v":0},{"$nulls":4},{"$f":"別紙２_経費内訳!E9","v":0}]
[null,"(6)選定額",{"$nulls":4},"(7)補助基本額",{"$nulls":4},"(8)補助金所要額",{"$nulls":4},"(9)補助金交付決定額",{"$nulls":4},"(10)過不足額\n(9)－(8)"]
[null,"(4)と(5)を比較して少ない方の額",{"$nulls":4},"(3)と(6)を比較して少ない方の額",{"$nulls":4},"(7)の額\n(千円未満切捨)"]
[null,{"$f":"別紙２_経費内訳!J9","v":0},{"$nulls":4},{"$f":"別紙２_経費内訳!O9","v":0},{"$nulls":4},{"$f":"別紙２_経費内訳!T9","v":0},{"$nulls":4},0,{"$nulls":4},{"$f":"Q11-L11","v":0}]
[]
[null,"２．補助対象経費実支出額内訳"]
[null,"経費区分・費目",{"$nulls":7},"金　　額",{"$nulls":4},"積　　算　　内　　訳"]
[null,"（記載例）"]
[null,"人件費",{"$nulls":7},0]
[]
[null,"業務費"]
[null,null,"・賃金",{"$nulls":6},0]
[null,null,"・諸謝金",{"$nulls":6},0]
[null,null,"・旅費",{"$nulls":6},0]
{"$rows_empty":13}
[null,"合　　計",{"$nulls":7},{"$f":"SUM(J15:J34)","v":0}]
[null,"注　本調書に、請求書、領収書又は計算書等を添付する。"]

{"sheet":"PDCAシート様式⇒","index":7,"n_rows":0,"n_cols":0,"rows_kept":0}

{"sheet":"手順書","index":8,"n_rows":41,"n_cols":28,"rows_kept":41,"merged":[[5,6,6,26],[9,4,11,29],[14,4,14,29],[16,11,16,26],[16,27,16,30],[17,11,17,26],[17,27,17,30],[18,11,18,26],[18,27,18,30],[19,3,19,4],[19,11,19,26],[19,27,19,30],[20,3,20,4],[20,11,20,26],[20,27,20,30],[21,3,21,10],[21,11,21,26],[21,27,21,30],[22,2,22,10],[22,11,22,26],[22,27,22,30],[24,4,24,29],[27,4,28,29],[31,4,34,29],[36,4,37,29],[38,4,38,29],[40,26,40,29]]}
[]
[]
[]
[]
[]
[{"$nulls":6},"PDCAシート（手順書）"]
[]
[]
[null,null,"■","PDCAシートの目的"]
[{"$nulls":3},"・","地域普及啓発事業における事業全体及び個別事業の事業概要やKPI（数値データ）を集計することで、地域普及啓発事業の成果を定量的に算定することを目的とする。"]
[]
[]
[]
[null,null,"■","本資料の構成"]
[{"$nulls":3},"・","本資料の構成は以下のとおり。"]
[]
[{"$nulls":11},"概要",{"$nulls":15},"提出時期"]
[null,null,1,"PDCAシート手順書",{"$nulls":7},"PDCAシートの使用方法を説明したもの",{"$nulls":15},"-"]
[null,null,2,"事業全体の概要",{"$nulls":7},"事業全体で管理すべき事業内容をまとめたもの",{"$nulls":15},"-"]
[{"$nulls":3},"2-1",null,"事業開始当初記入",{"$nulls":5},"事業開始当初に実施する普及啓発テーマや費用、KPIを記入",{"$nulls":15},"採択後補助事業開始まで"]
[{"$nulls":3},"2-2",null,"事業終了時記入",{"$nulls":5},"事業終了時に費用、KPIの実績値を記入するとともに、地域普及啓発事業の振り返りを記入",{"$nulls":15},"事業実施報告書提出時まで"]
[null,null,3,"個別事業におけるPDCAシート",{"$nulls":7},"個別事業の事業概要や費用、KPI等をそれぞれ記入",{"$nulls":15},"事業開始後、7月、10月、1月に提出"]
[null,null,"（参考）\n普及啓発テーマ・訴求手法",{"$nulls":8},"普及啓発テーマ、訴求手法の一覧",{"$nulls":15},"-"]
[]
[]
[null,null,"■","PDCAシートの使用方法"]
[{"$nulls":3},"＜事業開始時＞"]
[{"$nulls":3},"・","補助金交付申請書の内容に基づき、当年度の地域普及啓発事業で実施する普及啓発テーマ、\n補助金所要額、KPI（賛同数、普及啓発人数、アンケート回収数）を記入"]
[]
[{"$nulls":3},"＜補助金事業実施中（個別事業終了時）＞"]
[{"$nulls":3},"（7月：計画内容の更新（確定した日時の追記等）、10月、1月：実施結果の更新）"]
[{"$nulls":3},"・","個別事業がそれぞれ終了した時点で、各事業の内容、実績値を整理する\n-事業概要（事業名、普及啓発テーマ、訴求手法、事業実施時期、事業概要、普及啓発対象）\n-KPI（賛同数、普及啓発人数、アンケート回収数）\n-事業実施に要した費用実績"]
[]
[]
[]
[{"$nulls":3},"＜事業終了時＞"]
[{"$nulls":3},"・","当年度すべての地域普及啓発事業が終了した時点で、事業全体の補助金使用額実績値、KPI\n実績値（賛同数、普及啓発人数、アンケート回収数）を記入"]
[]
[]
[]
[{"$nulls":26},"以上"]

{"sheet":"【事業開始時】事業全体","index":9,"n_rows":34,"n_cols":17,"rows_kept":34,"merged":[[2,1,2,4],[2,5,2,16],[7,5,7,7],[7,8,7,16],[8,8,8,16],[10,2,10,4],[12,5,12,9],[13,2,13,4],[13,5,13,9],[14,5,14,9],[15,3,15,4],[15,5,15,9],[16,3,16,4],[16,5,16,9],[17,5,17,9],[18,5,18,9],[19,3,19,4],[19,5,19,9],[22,2,24,4],[22,5,22,7],[22,8,22,17],[23,5,23,7],[23,8,23,17],[24,5,24,7],[24,8,24,17],[25,2,33,4],[25,5,33,7],[25,8,25,17],[26,8,26,17],[27,8,27,17],[28,8,28,17],[29,8,29,17],[30,8,30,17],[31,8,31,17],[32,8,32,17],[33,8,33,17]]}
[]
[null,"都道府県",{"$nulls":3},"事業者名"]
[{"$nulls":5},{"$f":"別紙１_実施計画書!E10","v":0}]
[]
[null,"＜事業開始当初＞"]
[]
[null,"事業計画報告"]
[{"$nulls":5},"購買選好の変化",null,null,"価値観の変化"]
[{"$nulls":5},"省エネ家電","省エネ住宅","エコカー","エコなライフスタイル選択"]
[{"$nulls":5},"①","②","③","④","⑤","⑥","⑦","⑧","⑨","⑩","⑪","⑫"]
[null,null,"普及啓発テーマ（実施するテーマについて○をつける）",null,null,{"$f":"IF(別紙１_実施計画書!AE25>0,\"○\",\"－\")","v":"－"},{"$f":"IF(別紙１_実施計画書!AF25>0,\"○\",\"－\")","v":"－"},{"$f":"IF(別紙１_実施計画書!AG25>0,\"○\",\"－\")","v":"－"},{"$f":"IF(別紙１_実施計画書!AH25>0,\"○\",\"－\")","v":"－"},{"$f":"IF(別紙１_実施計画書!AI25>0,\"○\",\"－\")","v":"－"},{"$f":"IF(別紙１_実施計画書!AJ25>0,\"○\",\"－\")","v":"－"},{"$f":"IF(別紙１_実施計画書!AK25>0,\"○\",\"－\")","v":"－"},{"$f":"IF(別紙１_実施計画書!AL25>0,\"○\",\"－\")","v":"－"},{"$f":"IF(別紙１_実施計画書!AM25>0,\"○\",\"－\")","v":"－"},{"$f":"IF(別紙１_実施計画書!AN25>0,\"○\",\"－\")","v":"－"},{"$f":"IF(別紙１_実施計画書!AO25>0,\"○\",\"－\")","v":"－"},{"$f":"IF(別紙１_実施計画書!AP25>0,\"○\",\"－\")","v":"－"}]
[]
[{"$nulls":5},"計画値"]
[null,null,"補助金所要額（円）",null,null,{"$f":"別紙２_経費内訳!I32","v":{"v":0,"d":"0円"}}]
[null,null,"KPI"]
[{"$nulls":3},"普及啓発人数（リーチ数）",null,{"$f":"別紙１_実施計画書!G710","v":0}]
[{"$nulls":3},"賛同数",null,"-"]
[{"$nulls":4},"団体賛同数",{"$f":"別紙１_実施計画書!G700","v":0}]
[{"$nulls":4},"個人賛同数",{"$f":"別紙１_実施計画書!G701","v":0}]
[{"$nulls":3},"アンケート回収数",null,{"$f":"別紙１_実施計画書!G711","v":0}]
[]
[null,null,"（参考）普及啓発テーマ一覧"]
[null,null,"購買選好の変化",null,null,"省エネ家電買換え",null,null,"①省エネ機器の買換え促進"]
[{"$nulls":5},"省エネ住宅購入",null,null,"②省エネ住宅の普及促進"]
[{"$nulls":5},"エコカー買換え",null,null,"③エコカーの普及促進"]
[null,null,"価値観の変化",null,null,"エコなライフスタイル選択",null,null,"④クールビズ実施の推進"]
[{"$nulls":8},"⑤ウォームビズ実施の推進"]
[{"$nulls":8},"⑥照明の効率的な利用促進"]
[{"$nulls":8},"⑦エコドライブの推進"]
[{"$nulls":8},"⑧カーシェアリングの利用促進"]
[{"$nulls":8},"⑨公共交通機関の利用促進"]
[{"$nulls":8},"⑩低炭素物流の普及促進（宅配便の再配達防止）"]
[{"$nulls":8},"⑪シェアリングエコノミーの普及促進（バイクシェア、コミュニティサイクル）"]
[{"$nulls":8},"⑫地球温暖化防止の取組の必要性"]

{"sheet":"【実施期間中】個別事業におけるPDCAシート","index":10,"n_rows":69,"n_cols":23,"rows_kept":69,"merged":[[4,1,4,5],[5,1,39,1],[5,2,5,5],[6,2,17,3],[18,2,20,3],[21,2,23,5],[25,2,34,5],[35,2,35,5],[36,2,36,5],[37,2,37,5],[38,2,38,5],[39,2,39,5],[40,1,49,1],[40,2,44,4],[45,2,49,4],[50,1,51,4],[52,1,54,4],[55,1,57,4],[58,1,66,1],[58,2,63,4],[64,2,66,4],[67,1,67,5]]}
[{"$nulls":22},"*"]
[null,"＜個別事業におけるPDCAシート（四半期に一度提出）＞",{"$nulls":19},"↓必要に応じて列を追加する","*"]
[{"$nulls":22},"*"]
[{"$nulls":6},"記入例","事業1","事業2","事業3","事業4","事業5","事業6","事業7","事業8","事業9","事業10","事業11","事業12","事業13","事業14","事業15","*"]
[null,"更新日",{"$nulls":4},"2019-04-01",{"$nulls":15},"*"]
[{"$f":"ROW()-6","v":0},"事業概要","事業名（広報時の正式名称）",{"$nulls":3},"エコドライブ講習会（10回シリーズ）",{"$f":"別紙１_実施計画書!$E38","v":0},{"$f":"別紙１_実施計画書!$E80","v":0},{"$f":"別紙１_実施計画書!E121","v":0},{"$f":"別紙１_実施計画書!$E162","v":0},{"$f":"別紙１_実施計画書!$E203","v":0},{"$f":"別紙１_実施計画書!$E244","v":0},{"$f":"別紙１_実施計画書!$E285","v":0},{"$f":"別紙１_実施計画書!$E326","v":0},{"$f":"別紙１_実施計画書!$E367","v":0},{"$f":"別紙１_実施計画書!$E408","v":0},{"$f":"別紙１_実施計画書!$E449","v":0},{"$f":"別紙１_実施計画書!$E490","v":0},{"$f":"別紙１_実施計画書!$E531","v":0},{"$f":"別紙１_実施計画書!$E572","v":0},{"$f":"別紙１_実施計画書!$E613","v":0},"*"]
[{"$f":"ROW()-6","v":1},null,"普及啓発テーマ\n（該当する欄に「1」と記入）",null,"①","省エネ機器",null,{"$f":"IF(OR(HLOOKUP($E7,別紙１_実施計画書!$AE$40:$AP$42,3,0)=1,HLOOKUP($E7,別紙１_実施計画書!$AE$40:$AP$42,3,0)=TRUE),1,\"-\")","v":"-"},{"$f":"IF(OR(HLOOKUP($E7,別紙１_実施計画書!$AE$82:$AP$84,3,0)=1,HLOOKUP($E7,別紙１_実施計画書!$AE$82:$AP$84,3,0)=TRUE),1,\"-\")","v":"-"},{"$f":"IF(OR(HLOOKUP($E7,別紙１_実施計画書!$AE$123:$AP$125,3,0)=1,HLOOKUP($E7,別紙１_実施計画書!$AE$123:$AP$125,3,0)=TRUE),1,\"-\")","v":"-"},{"$f":"IF(OR(HLOOKUP($E7,別紙１_実施計画書!$AE$164:$AP$166,3,0)=1,HLOOKUP($E7,別紙１_実施計画書!$AE$164:$AP$166,3,0)=TRUE),1,\"-\")","v":"-"},{"$f":"IF(OR(HLOOKUP($E7,別紙１_実施計画書!$AE$205:$AP$207,3,0)=1,HLOOKUP($E7,別紙１_実施計画書!$AE$205:$AP$207,3,0)=TRUE),1,\"-\")","v":"-"},{"$f":"IF(OR(HLOOKUP($E7,別紙１_実施計画書!$AE$246:$AP$248,3,0)=1,HLOOKUP($E7,別紙１_実施計画書!$AE$246:$AP$248,3,0)=TRUE),1,\"-\")","v":"-"},{"$f":"IF(OR(HLOOKUP($E7,別紙１_実施計画書!$AE$287:$AP$289,3,0)=1,HLOOKUP($E7,別紙１_実施計画書!$AE$287:$AP$289,3,0)=TRUE),1,\"-\")","v":"-"},{"$f":"IF(OR(HLOOKUP($E7,別紙１_実施計画書!$AE$328:$AP$330,3,0)=1,HLOOKUP($E7,別紙１_実施計画書!$AE$328:$AP$330,3,0)=TRUE),1,\"-\")","v":"-"},{"$f":"IF(OR(HLOOKUP($E7,別紙１_実施計画書!$AE$369:$AP$371,3,0)=1,HLOOKUP($E7,別紙１_実施計画書!$AE$369:$AP$371,3,0)=TRUE),1,\"-\")","v":"-"},{"$f":"IF(OR(HLOOKUP($E7,別紙１_実施計画書!$AE$410:$AP$412,3,0)=1,HLOOKUP($E7,別紙１_実施計画書!$AE$410:$AP$412,3,0)=TRUE),1,\"-\")","v":"-"},{"$f":"IF(OR(HLOOKUP($E7,別紙１_実施計画書!$AE$451:$AP$453,3,0)=1,HLOOKUP($E7,別紙１_実施計画書!$AE$451:$AP$453,3,0)=TRUE),1,\"-\")","v":"-"},{"$f":"IF(OR(HLOOKUP($E7,別紙１_実施計画書!$AE$492:$AP$494,3,0)=1,HLOOKUP($E7,別紙１_実施計画書!$AE$492:$AP$494,3,0)=TRUE),1,\"-\")","v":"-"},{"$f":"IF(OR(HLOOKUP($E7,別紙１_実施計画書!$AE$533:$AP$535,3,0)=1,HLOOKUP($E7,別紙１_実施計画書!$AE$533:$AP$535,3,0)=TRUE),1,\"-\")","v":"-"},{"$f":"IF(OR(HLOOKUP($E7,別紙１_実施計画書!$AE$574:$AP$576,3,0)=1,HLOOKUP($E7,別紙１_実施計画書!$AE$574:$AP$576,3,0)=TRUE),1,\"-\")","v":"-"},{"$f":"IF(OR(HLOOKUP($E7,別紙１_実施計画書!$AE$615:$AP$617,3,0)=1,HLOOKUP($E7,別紙１_実施計画書!$AE$615:$AP$617,3,0)=TRUE),1,\"-\")","v":"-"},"*"]
[2,{"$nulls":3},"②","省エネ住宅",null,{"$f":"IF(OR(HLOOKUP($E8,別紙１_実施計画書!$AE$40:$AP$42,3,0)=1,HLOOKUP($E8,別紙１_実施計画書!$AE$40:$AP$42,3,0)=TRUE),1,\"-\")","v":"-"},{"$f":"IF(OR(HLOOKUP($E8,別紙１_実施計画書!$AE$82:$AP$84,3,0)=1,HLOOKUP($E8,別紙１_実施計画書!$AE$82:$AP$84,3,0)=TRUE),1,\"-\")","v":"-"},{"$f":"IF(OR(HLOOKUP($E8,別紙１_実施計画書!$AE$123:$AP$125,3,0)=1,HLOOKUP($E8,別紙１_実施計画書!$AE$123:$AP$125,3,0)=TRUE),1,\"-\")","v":"-"},{"$f":"IF(OR(HLOOKUP($E8,別紙１_実施計画書!$AE$164:$AP$166,3,0)=1,HLOOKUP($E8,別紙１_実施計画書!$AE$164:$AP$166,3,0)=TRUE),1,\"-\")","v":"-"},{"$f":"IF(OR(HLOOKUP($E8,別紙１_実施計画書!$AE$205:$AP$207,3,0)=1,HLOOKUP($E8,別紙１_実施計画書!$AE$205:$AP$207,3,0)=TRUE),1,\"-\")","v":"-"},{"$f":"IF(OR(HLOOKUP($E8,別紙１_実施計画書!$AE$246:$AP$248,3,0)=1,HLOOKUP($E8,別紙１_実施計画書!$AE$246:$AP$248,3,0)=TRUE),1,\"-\")","v":"-"},{"$f":"IF(OR(HLOOKUP($E8,別紙１_実施計画書!$AE$287:$AP$289,3,0)=1,HLOOKUP($E8,別紙１_実施計画書!$AE$287:$AP$289,3,0)=TRUE),1,\"-\")","v":"-"},{"$f":"IF(OR(HLOOKUP($E8,別紙１_実施計画書!$AE$328:$AP$330,3,0)=1,HLOOKUP($E8,別紙１_実施計画書!$AE$328:$AP$330,3,0)=TRUE),1,\"-\")","v":"-"},{"$f":"IF(OR(HLOOKUP($E8,別紙１_実施計画書!$AE$369:$AP$371,3,0)=1,HLOOKUP($E8,別紙１_実施計画書!$AE$369:$AP$371,3,0)=TRUE),1,\"-\")","v":"-"},{"$f":"IF(OR(HLOOKUP($E8,別紙１_実施計画書!$AE$410:$AP$412,3,0)=1,HLOOKUP($E8,別紙１_実施計画書!$AE$410:$AP$412,3,0)=TRUE),1,\"-\")","v":"-"},{"$f":"IF(OR(HLOOKUP($E8,別紙１_実施計画書!$AE$451:$AP$453,3,0)=1,HLOOKUP($E8,別紙１_実施計画書!$AE$451:$AP$453,3,0)=TRUE),1,\"-\")","v":"-"},{"$f":"IF(OR(HLOOKUP($E8,別紙１_実施計画書!$AE$492:$AP$494,3,0)=1,HLOOKUP($E8,別紙１_実施計画書!$AE$492:$AP$494,3,0)=TRUE),1,\"-\")","v":"-"},{"$f":"IF(OR(HLOOKUP($E8,別紙１_実施計画書!$AE$533:$AP$535,3,0)=1,HLOOKUP($E8,別紙１_実施計画書!$AE$533:$AP$535,3,0)=TRUE),1,\"-\")","v":"-"},{"$f":"IF(OR(HLOOKUP($E8,別紙１_実施計画書!$AE$574:$AP$576,3,0)=1,HLOOKUP($E8,別紙１_実施計画書!$AE$574:$AP$576,3,0)=TRUE),1,\"-\")","v":"-"},{"$f":"IF(OR(HLOOKUP($E8,別紙１_実施計画書!$AE$615:$AP$617,3,0)=1,HLOOKUP($E8,別紙１_実施計画書!$AE$615:$AP$617,3,0)=TRUE),1,\"-\")","v":"-"},"*"]
[3,{"$nulls":3},"③","エコカー",null,{"$f":"IF(OR(HLOOKUP($E9,別紙１_実施計画書!$AE$40:$AP$42,3,0)=1,HLOOKUP($E9,別紙１_実施計画書!$AE$40:$AP$42,3,0)=TRUE),1,\"-\")","v":"-"},{"$f":"IF(OR(HLOOKUP($E9,別紙１_実施計画書!$AE$82:$AP$84,3,0)=1,HLOOKUP($E9,別紙１_実施計画書!$AE$82:$AP$84,3,0)=TRUE),1,\"-\")","v":"-"},{"$f":"IF(OR(HLOOKUP($E9,別紙１_実施計画書!$AE$123:$AP$125,3,0)=1,HLOOKUP($E9,別紙１_実施計画書!$AE$123:$AP$125,3,0)=TRUE),1,\"-\")","v":"-"},{"$f":"IF(OR(HLOOKUP($E9,別紙１_実施計画書!$AE$164:$AP$166,3,0)=1,HLOOKUP($E9,別紙１_実施計画書!$AE$164:$AP$166,3,0)=TRUE),1,\"-\")","v":"-"},{"$f":"IF(OR(HLOOKUP($E9,別紙１_実施計画書!$AE$205:$AP$207,3,0)=1,HLOOKUP($E9,別紙１_実施計画書!$AE$205:$AP$207,3,0)=TRUE),1,\"-\")","v":"-"},{"$f":"IF(OR(HLOOKUP($E9,別紙１_実施計画書!$AE$246:$AP$248,3,0)=1,HLOOKUP($E9,別紙１_実施計画書!$AE$246:$AP$248,3,0)=TRUE),1,\"-\")","v":"-"},{"$f":"IF(OR(HLOOKUP($E9,別紙１_実施計画書!$AE$287:$AP$289,3,0)=1,HLOOKUP($E9,別紙１_実施計画書!$AE$287:$AP$289,3,0)=TRUE),1,\"-\")","v":"-"},{"$f":"IF(OR(HLOOKUP($E9,別紙１_実施計画書!$AE$328:$AP$330,3,0)=1,HLOOKUP($E9,別紙１_実施計画書!$AE$328:$AP$330,3,0)=TRUE),1,\"-\")","v":"-"},{"$f":"IF(OR(HLOOKUP($E9,別紙１_実施計画書!$AE$369:$AP$371,3,0)=1,HLOOKUP($E9,別紙１_実施計画書!$AE$369:$AP$371,3,0)=TRUE),1,\"-\")","v":"-"},{"$f":"IF(OR(HLOOKUP($E9,別紙１_実施計画書!$AE$410:$AP$412,3,0)=1,HLOOKUP($E9,別紙１_実施計画書!$AE$410:$AP$412,3,0)=TRUE),1,\"-\")","v":"-"},{"$f":"IF(OR(HLOOKUP($E9,別紙１_実施計画書!$AE$451:$AP$453,3,0)=1,HLOOKUP($E9,別紙１_実施計画書!$AE$451:$AP$453,3,0)=TRUE),1,\"-\")","v":"-"},{"$f":"IF(OR(HLOOKUP($E9,別紙１_実施計画書!$AE$492:$AP$494,3,0)=1,HLOOKUP($E9,別紙１_実施計画書!$AE$492:$AP$494,3,0)=TRUE),1,\"-\")","v":"-"},{"$f":"IF(OR(HLOOKUP($E9,別紙１_実施計画書!$AE$533:$AP$535,3,0)=1,HLOOKUP($E9,別紙１_実施計画書!$AE$533:$AP$535,3,0)=TRUE),1,\"-\")","v":"-"},{"$f":"IF(OR(HLOOKUP($E9,別紙１_実施計画書!$AE$574:$AP$576,3,0)=1,HLOOKUP($E9,別紙１_実施計画書!$AE$574:$AP$576,3,0)=TRUE),1,\"-\")","v":"-"},{"$f":"IF(OR(HLOOKUP($E9,別紙１_実施計画書!$AE$615:$AP$617,3,0)=1,HLOOKUP($E9,別紙１_実施計画書!$AE$615:$AP$617,3,0)=TRUE),1,\"-\")","v":"-"},"*"]
[4,{"$nulls":3},"④","クールビズ",null,{"$f":"IF(OR(HLOOKUP($E10,別紙１_実施計画書!$AE$40:$AP$42,3,0)=1,HLOOKUP($E10,別紙１_実施計画書!$AE$40:$AP$42,3,0)=TRUE),1,\"-\")","v":"-"},{"$f":"IF(OR(HLOOKUP($E10,別紙１_実施計画書!$AE$82:$AP$84,3,0)=1,HLOOKUP($E10,別紙１_実施計画書!$AE$82:$AP$84,3,0)=TRUE),1,\"-\")","v":"-"},{"$f":"IF(OR(HLOOKUP($E10,別紙１_実施計画書!$AE$123:$AP$125,3,0)=1,HLOOKUP($E10,別紙１_実施計画書!$AE$123:$AP$125,3,0)=TRUE),1,\"-\")","v":"-"},{"$f":"IF(OR(HLOOKUP($E10,別紙１_実施計画書!$AE$164:$AP$166,3,0)=1,HLOOKUP($E10,別紙１_実施計画書!$AE$164:$AP$166,3,0)=TRUE),1,\"-\")","v":"-"},{"$f":"IF(OR(HLOOKUP($E10,別紙１_実施計画書!$AE$205:$AP$207,3,0)=1,HLOOKUP($E10,別紙１_実施計画書!$AE$205:$AP$207,3,0)=TRUE),1,\"-\")","v":"-"},{"$f":"IF(OR(HLOOKUP($E10,別紙１_実施計画書!$AE$246:$AP$248,3,0)=1,HLOOKUP($E10,別紙１_実施計画書!$AE$246:$AP$248,3,0)=TRUE),1,\"-\")","v":"-"},{"$f":"IF(OR(HLOOKUP($E10,別紙１_実施計画書!$AE$287:$AP$289,3,0)=1,HLOOKUP($E10,別紙１_実施計画書!$AE$287:$AP$289,3,0)=TRUE),1,\"-\")","v":"-"},{"$f":"IF(OR(HLOOKUP($E10,別紙１_実施計画書!$AE$328:$AP$330,3,0)=1,HLOOKUP($E10,別紙１_実施計画書!$AE$328:$AP$330,3,0)=TRUE),1,\"-\")","v":"-"},{"$f":"IF(OR(HLOOKUP($E10,別紙１_実施計画書!$AE$369:$AP$371,3,0)=1,HLOOKUP($E10,別紙１_実施計画書!$AE$369:$AP$371,3,0)=TRUE),1,\"-\")","v":"-"},{"$f":"IF(OR(HLOOKUP($E10,別紙１_実施計画書!$AE$410:$AP$412,3,0)=1,HLOOKUP($E10,別紙１_実施計画書!$AE$410:$AP$412,3,0)=TRUE),1,\"-\")","v":"-"},{"$f":"IF(OR(HLOOKUP($E10,別紙１_実施計画書!$AE$451:$AP$453,3,0)=1,HLOOKUP($E10,別紙１_実施計画書!$AE$451:$AP$453,3,0)=TRUE),1,\"-\")","v":"-"},{"$f":"IF(OR(HLOOKUP($E10,別紙１_実施計画書!$AE$492:$AP$494,3,0)=1,HLOOKUP($E10,別紙１_実施計画書!$AE$492:$AP$494,3,0)=TRUE),1,\"-\")","v":"-"},{"$f":"IF(OR(HLOOKUP($E10,別紙１_実施計画書!$AE$533:$AP$535,3,0)=1,HLOOKUP($E10,別紙１_実施計画書!$AE$533:$AP$535,3,0)=TRUE),1,\"-\")","v":"-"},{"$f":"IF(OR(HLOOKUP($E10,別紙１_実施計画書!$AE$574:$AP$576,3,0)=1,HLOOKUP($E10,別紙１_実施計画書!$AE$574:$AP$576,3,0)=TRUE),1,\"-\")","v":"-"},{"$f":"IF(OR(HLOOKUP($E10,別紙１_実施計画書!$AE$615:$AP$617,3,0)=1,HLOOKUP($E10,別紙１_実施計画書!$AE$615:$AP$617,3,0)=TRUE),1,\"-\")","v":"-"},"*"]
[5,{"$nulls":3},"⑤","ウォームビズ",null,{"$f":"IF(OR(HLOOKUP($E11,別紙１_実施計画書!$AE$40:$AP$42,3,0)=1,HLOOKUP($E11,別紙１_実施計画書!$AE$40:$AP$42,3,0)=TRUE),1,\"-\")","v":"-"},{"$f":"IF(OR(HLOOKUP($E11,別紙１_実施計画書!$AE$82:$AP$84,3,0)=1,HLOOKUP($E11,別紙１_実施計画書!$AE$82:$AP$84,3,0)=TRUE),1,\"-\")","v":"-"},{"$f":"IF(OR(HLOOKUP($E11,別紙１_実施計画書!$AE$123:$AP$125,3,0)=1,HLOOKUP($E11,別紙１_実施計画書!$AE$123:$AP$125,3,0)=TRUE),1,\"-\")","v":"-"},{"$f":"IF(OR(HLOOKUP($E11,別紙１_実施計画書!$AE$164:$AP$166,3,0)=1,HLOOKUP($E11,別紙１_実施計画書!$AE$164:$AP$166,3,0)=TRUE),1,\"-\")","v":"-"},{"$f":"IF(OR(HLOOKUP($E11,別紙１_実施計画書!$AE$205:$AP$207,3,0)=1,HLOOKUP($E11,別紙１_実施計画書!$AE$205:$AP$207,3,0)=TRUE),1,\"-\")","v":"-"},{"$f":"IF(OR(HLOOKUP($E11,別紙１_実施計画書!$AE$246:$AP$248,3,0)=1,HLOOKUP($E11,別紙１_実施計画書!$AE$246:$AP$248,3,0)=TRUE),1,\"-\")","v":"-"},{"$f":"IF(OR(HLOOKUP($E11,別紙１_実施計画書!$AE$287:$AP$289,3,0)=1,HLOOKUP($E11,別紙１_実施計画書!$AE$287:$AP$289,3,0)=TRUE),1,\"-\")","v":"-"},{"$f":"IF(OR(HLOOKUP($E11,別紙１_実施計画書!$AE$328:$AP$330,3,0)=1,HLOOKUP($E11,別紙１_実施計画書!$AE$328:$AP$330,3,0)=TRUE),1,\"-\")","v":"-"},{"$f":"IF(OR(HLOOKUP($E11,別紙１_実施計画書!$AE$369:$AP$371,3,0)=1,HLOOKUP($E11,別紙１_実施計画書!$AE$369:$AP$371,3,0)=TRUE),1,\"-\")","v":"-"},{"$f":"IF(OR(HLOOKUP($E11,別紙１_実施計画書!$AE$410:$AP$412,3,0)=1,HLOOKUP($E11,別紙１_実施計画書!$AE$410:$AP$412,3,0)=TRUE),1,\"-\")","v":"-"},{"$f":"IF(OR(HLOOKUP($E11,別紙１_実施計画書!$AE$451:$AP$453,3,0)=1,HLOOKUP($E11,別紙１_実施計画書!$AE$451:$AP$453,3,0)=TRUE),1,\"-\")","v":"-"},{"$f":"IF(OR(HLOOKUP($E11,別紙１_実施計画書!$AE$492:$AP$494,3,0)=1,HLOOKUP($E11,別紙１_実施計画書!$AE$492:$AP$494,3,0)=TRUE),1,\"-\")","v":"-"},{"$f":"IF(OR(HLOOKUP($E11,別紙１_実施計画書!$AE$533:$AP$535,3,0)=1,HLOOKUP($E11,別紙１_実施計画書!$AE$533:$AP$535,3,0)=TRUE),1,\"-\")","v":"-"},{"$f":"IF(OR(HLOOKUP($E11,別紙１_実施計画書!$AE$574:$AP$576,3,0)=1,HLOOKUP($E11,別紙１_実施計画書!$AE$574:$AP$576,3,0)=TRUE),1,\"-\")","v":"-"},{"$f":"IF(OR(HLOOKUP($E11,別紙１_実施計画書!$AE$615:$AP$617,3,0)=1,HLOOKUP($E11,別紙１_実施計画書!$AE$615:$AP$617,3,0)=TRUE),1,\"-\")","v":"-"},"*"]
[6,{"$nulls":3},"⑥","照明の効率的利用",null,{"$f":"IF(OR(HLOOKUP($E12,別紙１_実施計画書!$AE$40:$AP$42,3,0)=1,HLOOKUP($E12,別紙１_実施計画書!$AE$40:$AP$42,3,0)=TRUE),1,\"-\")","v":"-"},{"$f":"IF(OR(HLOOKUP($E12,別紙１_実施計画書!$AE$82:$AP$84,3,0)=1,HLOOKUP($E12,別紙１_実施計画書!$AE$82:$AP$84,3,0)=TRUE),1,\"-\")","v":"-"},{"$f":"IF(OR(HLOOKUP($E12,別紙１_実施計画書!$AE$123:$AP$125,3,0)=1,HLOOKUP($E12,別紙１_実施計画書!$AE$123:$AP$125,3,0)=TRUE),1,\"-\")","v":"-"},{"$f":"IF(OR(HLOOKUP($E12,別紙１_実施計画書!$AE$164:$AP$166,3,0)=1,HLOOKUP($E12,別紙１_実施計画書!$AE$164:$AP$166,3,0)=TRUE),1,\"-\")","v":"-"},{"$f":"IF(OR(HLOOKUP($E12,別紙１_実施計画書!$AE$205:$AP$207,3,0)=1,HLOOKUP($E12,別紙１_実施計画書!$AE$205:$AP$207,3,0)=TRUE),1,\"-\")","v":"-"},{"$f":"IF(OR(HLOOKUP($E12,別紙１_実施計画書!$AE$246:$AP$248,3,0)=1,HLOOKUP($E12,別紙１_実施計画書!$AE$246:$AP$248,3,0)=TRUE),1,\"-\")","v":"-"},{"$f":"IF(OR(HLOOKUP($E12,別紙１_実施計画書!$AE$287:$AP$289,3,0)=1,HLOOKUP($E12,別紙１_実施計画書!$AE$287:$AP$289,3,0)=TRUE),1,\"-\")","v":"-"},{"$f":"IF(OR(HLOOKUP($E12,別紙１_実施計画書!$AE$328:$AP$330,3,0)=1,HLOOKUP($E12,別紙１_実施計画書!$AE$328:$AP$330,3,0)=TRUE),1,\"-\")","v":"-"},{"$f":"IF(OR(HLOOKUP($E12,別紙１_実施計画書!$AE$369:$AP$371,3,0)=1,HLOOKUP($E12,別紙１_実施計画書!$AE$369:$AP$371,3,0)=TRUE),1,\"-\")","v":"-"},{"$f":"IF(OR(HLOOKUP($E12,別紙１_実施計画書!$AE$410:$AP$412,3,0)=1,HLOOKUP($E12,別紙１_実施計画書!$AE$410:$AP$412,3,0)=TRUE),1,\"-\")","v":"-"},{"$f":"IF(OR(HLOOKUP($E12,別紙１_実施計画書!$AE$451:$AP$453,3,0)=1,HLOOKUP($E12,別紙１_実施計画書!$AE$451:$AP$453,3,0)=TRUE),1,\"-\")","v":"-"},{"$f":"IF(OR(HLOOKUP($E12,別紙１_実施計画書!$AE$492:$AP$494,3,0)=1,HLOOKUP($E12,別紙１_実施計画書!$AE$492:$AP$494,3,0)=TRUE),1,\"-\")","v":"-"},{"$f":"IF(OR(HLOOKUP($E12,別紙１_実施計画書!$AE$533:$AP$535,3,0)=1,HLOOKUP($E12,別紙１_実施計画書!$AE$533:$AP$535,3,0)=TRUE),1,\"-\")","v":"-"},{"$f":"IF(OR(HLOOKUP($E12,別紙１_実施計画書!$AE$574:$AP$576,3,0)=1,HLOOKUP($E12,別紙１_実施計画書!$AE$574:$AP$576,3,0)=TRUE),1,\"-\")","v":"-"},{"$f":"IF(OR(HLOOKUP($E12,別紙１_実施計画書!$AE$615:$AP$617,3,0)=1,HLOOKUP($E12,別紙１_実施計画書!$AE$615:$AP$617,3,0)=TRUE),1,\"-\")","v":"-"},"*"]
[7,{"$nulls":3},"⑦","エコドライブ",1,{"$f":"IF(OR(HLOOKUP($E13,別紙１_実施計画書!$AE$40:$AP$42,3,0)=1,HLOOKUP($E13,別紙１_実施計画書!$AE$40:$AP$42,3,0)=TRUE),1,\"-\")","v":"-"},{"$f":"IF(OR(HLOOKUP($E13,別紙１_実施計画書!$AE$82:$AP$84,3,0)=1,HLOOKUP($E13,別紙１_実施計画書!$AE$82:$AP$84,3,0)=TRUE),1,\"-\")","v":"-"},{"$f":"IF(OR(HLOOKUP($E13,別紙１_実施計画書!$AE$123:$AP$125,3,0)=1,HLOOKUP($E13,別紙１_実施計画書!$AE$123:$AP$125,3,0)=TRUE),1,\"-\")","v":"-"},{"$f":"IF(OR(HLOOKUP($E13,別紙１_実施計画書!$AE$164:$AP$166,3,0)=1,HLOOKUP($E13,別紙１_実施計画書!$AE$164:$AP$166,3,0)=TRUE),1,\"-\")","v":"-"},{"$f":"IF(OR(HLOOKUP($E13,別紙１_実施計画書!$AE$205:$AP$207,3,0)=1,HLOOKUP($E13,別紙１_実施計画書!$AE$205:$AP$207,3,0)=TRUE),1,\"-\")","v":"-"},{"$f":"IF(OR(HLOOKUP($E13,別紙１_実施計画書!$AE$246:$AP$248,3,0)=1,HLOOKUP($E13,別紙１_実施計画書!$AE$246:$AP$248,3,0)=TRUE),1,\"-\")","v":"-"},{"$f":"IF(OR(HLOOKUP($E13,別紙１_実施計画書!$AE$287:$AP$289,3,0)=1,HLOOKUP($E13,別紙１_実施計画書!$AE$287:$AP$289,3,0)=TRUE),1,\"-\")","v":"-"},{"$f":"IF(OR(HLOOKUP($E13,別紙１_実施計画書!$AE$328:$AP$330,3,0)=1,HLOOKUP($E13,別紙１_実施計画書!$AE$328:$AP$330,3,0)=TRUE),1,\"-\")","v":"-"},{"$f":"IF(OR(HLOOKUP($E13,別紙１_実施計画書!$AE$369:$AP$371,3,0)=1,HLOOKUP($E13,別紙１_実施計画書!$AE$369:$AP$371,3,0)=TRUE),1,\"-\")","v":"-"},{"$f":"IF(OR(HLOOKUP($E13,別紙１_実施計画書!$AE$410:$AP$412,3,0)=1,HLOOKUP($E13,別紙１_実施計画書!$AE$410:$AP$412,3,0)=TRUE),1,\"-\")","v":"-"},{"$f":"IF(OR(HLOOKUP($E13,別紙１_実施計画書!$AE$451:$AP$453,3,0)=1,HLOOKUP($E13,別紙１_実施計画書!$AE$451:$AP$453,3,0)=TRUE),1,\"-\")","v":"-"},{"$f":"IF(OR(HLOOKUP($E13,別紙１_実施計画書!$AE$492:$AP$494,3,0)=1,HLOOKUP($E13,別紙１_実施計画書!$AE$492:$AP$494,3,0)=TRUE),1,\"-\")","v":"-"},{"$f":"IF(OR(HLOOKUP($E13,別紙１_実施計画書!$AE$533:$AP$535,3,0)=1,HLOOKUP($E13,別紙１_実施計画書!$AE$533:$AP$535,3,0)=TRUE),1,\"-\")","v":"-"},{"$f":"IF(OR(HLOOKUP($E13,別紙１_実施計画書!$AE$574:$AP$576,3,0)=1,HLOOKUP($E13,別紙１_実施計画書!$AE$574:$AP$576,3,0)=TRUE),1,\"-\")","v":"-"},{"$f":"IF(OR(HLOOKUP($E13,別紙１_実施計画書!$AE$615:$AP$617,3,0)=1,HLOOKUP($E13,別紙１_実施計画書!$AE$615:$AP$617,3,0)=TRUE),1,\"-\")","v":"-"},"*"]
[8,{"$nulls":3},"⑧","カーシェア",null,{"$f":"IF(OR(HLOOKUP($E14,別紙１_実施計画書!$AE$40:$AP$42,3,0)=1,HLOOKUP($E14,別紙１_実施計画書!$AE$40:$AP$42,3,0)=TRUE),1,\"-\")","v":"-"},{"$f":"IF(OR(HLOOKUP($E14,別紙１_実施計画書!$AE$82:$AP$84,3,0)=1,HLOOKUP($E14,別紙１_実施計画書!$AE$82:$AP$84,3,0)=TRUE),1,\"-\")","v":"-"},{"$f":"IF(OR(HLOOKUP($E14,別紙１_実施計画書!$AE$123:$AP$125,3,0)=1,HLOOKUP($E14,別紙１_実施計画書!$AE$123:$AP$125,3,0)=TRUE),1,\"-\")","v":"-"},{"$f":"IF(OR(HLOOKUP($E14,別紙１_実施計画書!$AE$164:$AP$166,3,0)=1,HLOOKUP($E14,別紙１_実施計画書!$AE$164:$AP$166,3,0)=TRUE),1,\"-\")","v":"-"},{"$f":"IF(OR(HLOOKUP($E14,別紙１_実施計画書!$AE$205:$AP$207,3,0)=1,HLOOKUP($E14,別紙１_実施計画書!$AE$205:$AP$207,3,0)=TRUE),1,\"-\")","v":"-"},{"$f":"IF(OR(HLOOKUP($E14,別紙１_実施計画書!$AE$246:$AP$248,3,0)=1,HLOOKUP($E14,別紙１_実施計画書!$AE$246:$AP$248,3,0)=TRUE),1,\"-\")","v":"-"},{"$f":"IF(OR(HLOOKUP($E14,別紙１_実施計画書!$AE$287:$AP$289,3,0)=1,HLOOKUP($E14,別紙１_実施計画書!$AE$287:$AP$289,3,0)=TRUE),1,\"-\")","v":"-"},{"$f":"IF(OR(HLOOKUP($E14,別紙１_実施計画書!$AE$328:$AP$330,3,0)=1,HLOOKUP($E14,別紙１_実施計画書!$AE$328:$AP$330,3,0)=TRUE),1,\"-\")","v":"-"},{"$f":"IF(OR(HLOOKUP($E14,別紙１_実施計画書!$AE$369:$AP$371,3,0)=1,HLOOKUP($E14,別紙１_実施計画書!$AE$369:$AP$371,3,0)=TRUE),1,\"-\")","v":"-"},{"$f":"IF(OR(HLOOKUP($E14,別紙１_実施計画書!$AE$410:$AP$412,3,0)=1,HLOOKUP($E14,別紙１_実施計画書!$AE$410:$AP$412,3,0)=TRUE),1,\"-\")","v":"-"},{"$f":"IF(OR(HLOOKUP($E14,別紙１_実施計画書!$AE$451:$AP$453,3,0)=1,HLOOKUP($E14,別紙１_実施計画書!$AE$451:$AP$453,3,0)=TRUE),1,\"-\")","v":"-"},{"$f":"IF(OR(HLOOKUP($E14,別紙１_実施計画書!$AE$492:$AP$494,3,0)=1,HLOOKUP($E14,別紙１_実施計画書!$AE$492:$AP$494,3,0)=TRUE),1,\"-\")","v":"-"},{"$f":"IF(OR(HLOOKUP($E14,別紙１_実施計画書!$AE$533:$AP$535,3,0)=1,HLOOKUP($E14,別紙１_実施計画書!$AE$533:$AP$535,3,0)=TRUE),1,\"-\")","v":"-"},{"$f":"IF(OR(HLOOKUP($E14,別紙１_実施計画書!$AE$574:$AP$576,3,0)=1,HLOOKUP($E14,別紙１_実施計画書!$AE$574:$AP$576,3,0)=TRUE),1,\"-\")","v":"-"},{"$f":"IF(OR(HLOOKUP($E14,別紙１_実施計画書!$AE$615:$AP$617,3,0)=1,HLOOKUP($E14,別紙１_実施計画書!$AE$615:$AP$617,3,0)=TRUE),1,\"-\")","v":"-"},"*"]
[9,{"$nulls":3},"⑨","スマートムーブ",null,{"$f":"IF(OR(HLOOKUP($E15,別紙１_実施計画書!$AE$40:$AP$42,3,0)=1,HLOOKUP($E15,別紙１_実施計画書!$AE$40:$AP$42,3,0)=TRUE),1,\"-\")","v":"-"},{"$f":"IF(OR(HLOOKUP($E15,別紙１_実施計画書!$AE$82:$AP$84,3,0)=1,HLOOKUP($E15,別紙１_実施計画書!$AE$82:$AP$84,3,0)=TRUE),1,\"-\")","v":"-"},{"$f":"IF(OR(HLOOKUP($E15,別紙１_実施計画書!$AE$123:$AP$125,3,0)=1,HLOOKUP($E15,別紙１_実施計画書!$AE$123:$AP$125,3,0)=TRUE),1,\"-\")","v":"-"},{"$f":"IF(OR(HLOOKUP($E15,別紙１_実施計画書!$AE$164:$AP$166,3,0)=1,HLOOKUP($E15,別紙１_実施計画書!$AE$164:$AP$166,3,0)=TRUE),1,\"-\")","v":"-"},{"$f":"IF(OR(HLOOKUP($E15,別紙１_実施計画書!$AE$205:$AP$207,3,0)=1,HLOOKUP($E15,別紙１_実施計画書!$AE$205:$AP$207,3,0)=TRUE),1,\"-\")","v":"-"},{"$f":"IF(OR(HLOOKUP($E15,別紙１_実施計画書!$AE$246:$AP$248,3,0)=1,HLOOKUP($E15,別紙１_実施計画書!$AE$246:$AP$248,3,0)=TRUE),1,\"-\")","v":"-"},{"$f":"IF(OR(HLOOKUP($E15,別紙１_実施計画書!$AE$287:$AP$289,3,0)=1,HLOOKUP($E15,別紙１_実施計画書!$AE$287:$AP$289,3,0)=TRUE),1,\"-\")","v":"-"},{"$f":"IF(OR(HLOOKUP($E15,別紙１_実施計画書!$AE$328:$AP$330,3,0)=1,HLOOKUP($E15,別紙１_実施計画書!$AE$328:$AP$330,3,0)=TRUE),1,\"-\")","v":"-"},{"$f":"IF(OR(HLOOKUP($E15,別紙１_実施計画書!$AE$369:$AP$371,3,0)=1,HLOOKUP($E15,別紙１_実施計画書!$AE$369:$AP$371,3,0)=TRUE),1,\"-\")","v":"-"},{"$f":"IF(OR(HLOOKUP($E15,別紙１_実施計画書!$AE$410:$AP$412,3,0)=1,HLOOKUP($E15,別紙１_実施計画書!$AE$410:$AP$412,3,0)=TRUE),1,\"-\")","v":"-"},{"$f":"IF(OR(HLOOKUP($E15,別紙１_実施計画書!$AE$451:$AP$453,3,0)=1,HLOOKUP($E15,別紙１_実施計画書!$AE$451:$AP$453,3,0)=TRUE),1,\"-\")","v":"-"},{"$f":"IF(OR(HLOOKUP($E15,別紙１_実施計画書!$AE$492:$AP$494,3,0)=1,HLOOKUP($E15,別紙１_実施計画書!$AE$492:$AP$494,3,0)=TRUE),1,\"-\")","v":"-"},{"$f":"IF(OR(HLOOKUP($E15,別紙１_実施計画書!$AE$533:$AP$535,3,0)=1,HLOOKUP($E15,別紙１_実施計画書!$AE$533:$AP$535,3,0)=TRUE),1,\"-\")","v":"-"},{"$f":"IF(OR(HLOOKUP($E15,別紙１_実施計画書!$AE$574:$AP$576,3,0)=1,HLOOKUP($E15,別紙１_実施計画書!$AE$574:$AP$576,3,0)=TRUE),1,\"-\")","v":"-"},{"$f":"IF(OR(HLOOKUP($E15,別紙１_実施計画書!$AE$615:$AP$617,3,0)=1,HLOOKUP($E15,別紙１_実施計画書!$AE$615:$AP$617,3,0)=TRUE),1,\"-\")","v":"-"},"*"]
[10,{"$nulls":3},"⑩","再配達防止",null,{"$f":"IF(OR(HLOOKUP($E16,別紙１_実施計画書!$AE$40:$AP$42,3,0)=1,HLOOKUP($E16,別紙１_実施計画書!$AE$40:$AP$42,3,0)=TRUE),1,\"-\")","v":"-"},{"$f":"IF(OR(HLOOKUP($E16,別紙１_実施計画書!$AE$82:$AP$84,3,0)=1,HLOOKUP($E16,別紙１_実施計画書!$AE$82:$AP$84,3,0)=TRUE),1,\"-\")","v":"-"},{"$f":"IF(OR(HLOOKUP($E16,別紙１_実施計画書!$AE$123:$AP$125,3,0)=1,HLOOKUP($E16,別紙１_実施計画書!$AE$123:$AP$125,3,0)=TRUE),1,\"-\")","v":"-"},{"$f":"IF(OR(HLOOKUP($E16,別紙１_実施計画書!$AE$164:$AP$166,3,0)=1,HLOOKUP($E16,別紙１_実施計画書!$AE$164:$AP$166,3,0)=TRUE),1,\"-\")","v":"-"},{"$f":"IF(OR(HLOOKUP($E16,別紙１_実施計画書!$AE$205:$AP$207,3,0)=1,HLOOKUP($E16,別紙１_実施計画書!$AE$205:$AP$207,3,0)=TRUE),1,\"-\")","v":"-"},{"$f":"IF(OR(HLOOKUP($E16,別紙１_実施計画書!$AE$246:$AP$248,3,0)=1,HLOOKUP($E16,別紙１_実施計画書!$AE$246:$AP$248,3,0)=TRUE),1,\"-\")","v":"-"},{"$f":"IF(OR(HLOOKUP($E16,別紙１_実施計画書!$AE$287:$AP$289,3,0)=1,HLOOKUP($E16,別紙１_実施計画書!$AE$287:$AP$289,3,0)=TRUE),1,\"-\")","v":"-"},{"$f":"IF(OR(HLOOKUP($E16,別紙１_実施計画書!$AE$328:$AP$330,3,0)=1,HLOOKUP($E16,別紙１_実施計画書!$AE$328:$AP$330,3,0)=TRUE),1,\"-\")","v":"-"},{"$f":"IF(OR(HLOOKUP($E16,別紙１_実施計画書!$AE$369:$AP$371,3,0)=1,HLOOKUP($E16,別紙１_実施計画書!$AE$369:$AP$371,3,0)=TRUE),1,\"-\")","v":"-"},{"$f":"IF(OR(HLOOKUP($E16,別紙１_実施計画書!$AE$410:$AP$412,3,0)=1,HLOOKUP($E16,別紙１_実施計画書!$AE$410:$AP$412,3,0)=TRUE),1,\"-\")","v":"-"},{"$f":"IF(OR(HLOOKUP($E16,別紙１_実施計画書!$AE$451:$AP$453,3,0)=1,HLOOKUP($E16,別紙１_実施計画書!$AE$451:$AP$453,3,0)=TRUE),1,\"-\")","v":"-"},{"$f":"IF(OR(HLOOKUP($E16,別紙１_実施計画書!$AE$492:$AP$494,3,0)=1,HLOOKUP($E16,別紙１_実施計画書!$AE$492:$AP$494,3,0)=TRUE),1,\"-\")","v":"-"},{"$f":"IF(OR(HLOOKUP($E16,別紙１_実施計画書!$AE$533:$AP$535,3,0)=1,HLOOKUP($E16,別紙１_実施計画書!$AE$533:$AP$535,3,0)=TRUE),1,\"-\")","v":"-"},{"$f":"IF(OR(HLOOKUP($E16,別紙１_実施計画書!$AE$574:$AP$576,3,0)=1,HLOOKUP($E16,別紙１_実施計画書!$AE$574:$AP$576,3,0)=TRUE),1,\"-\")","v":"-"},{"$f":"IF(OR(HLOOKUP($E16,別紙１_実施計画書!$AE$615:$AP$617,3,0)=1,HLOOKUP($E16,別紙１_実施計画書!$AE$615:$AP$617,3,0)=TRUE),1,\"-\")","v":"-"},"*"]
[11,{"$nulls":3},"⑪","ｼｪｱﾘﾝｸﾞｴｺﾉﾐｰ",null,{"$f":"IF(OR(HLOOKUP($E17,別紙１_実施計画書!$AE$40:$AP$42,3,0)=1,HLOOKUP($E17,別紙１_実施計画書!$AE$40:$AP$42,3,0)=TRUE),1,\"-\")","v":"-"},{"$f":"IF(OR(HLOOKUP($E17,別紙１_実施計画書!$AE$82:$AP$84,3,0)=1,HLOOKUP($E17,別紙１_実施計画書!$AE$82:$AP$84,3,0)=TRUE),1,\"-\")","v":"-"},{"$f":"IF(OR(HLOOKUP($E17,別紙１_実施計画書!$AE$123:$AP$125,3,0)=1,HLOOKUP($E17,別紙１_実施計画書!$AE$123:$AP$125,3,0)=TRUE),1,\"-\")","v":"-"},{"$f":"IF(OR(HLOOKUP($E17,別紙１_実施計画書!$AE$164:$AP$166,3,0)=1,HLOOKUP($E17,別紙１_実施計画書!$AE$164:$AP$166,3,0)=TRUE),1,\"-\")","v":"-"},{"$f":"IF(OR(HLOOKUP($E17,別紙１_実施計画書!$AE$205:$AP$207,3,0)=1,HLOOKUP($E17,別紙１_実施計画書!$AE$205:$AP$207,3,0)=TRUE),1,\"-\")","v":"-"},{"$f":"IF(OR(HLOOKUP($E17,別紙１_実施計画書!$AE$246:$AP$248,3,0)=1,HLOOKUP($E17,別紙１_実施計画書!$AE$246:$AP$248,3,0)=TRUE),1,\"-\")","v":"-"},{"$f":"IF(OR(HLOOKUP($E17,別紙１_実施計画書!$AE$287:$AP$289,3,0)=1,HLOOKUP($E17,別紙１_実施計画書!$AE$287:$AP$289,3,0)=TRUE),1,\"-\")","v":"-"},{"$f":"IF(OR(HLOOKUP($E17,別紙１_実施計画書!$AE$328:$AP$330,3,0)=1,HLOOKUP($E17,別紙１_実施計画書!$AE$328:$AP$330,3,0)=TRUE),1,\"-\")","v":"-"},{"$f":"IF(OR(HLOOKUP($E17,別紙１_実施計画書!$AE$369:$AP$371,3,0)=1,HLOOKUP($E17,別紙１_実施計画書!$AE$369:$AP$371,3,0)=TRUE),1,\"-\")","v":"-"},{"$f":"IF(OR(HLOOKUP($E17,別紙１_実施計画書!$AE$410:$AP$412,3,0)=1,HLOOKUP($E17,別紙１_実施計画書!$AE$410:$AP$412,3,0)=TRUE),1,\"-\")","v":"-"},{"$f":"IF(OR(HLOOKUP($E17,別紙１_実施計画書!$AE$451:$AP$453,3,0)=1,HLOOKUP($E17,別紙１_実施計画書!$AE$451:$AP$453,3,0)=TRUE),1,\"-\")","v":"-"},{"$f":"IF(OR(HLOOKUP($E17,別紙１_実施計画書!$AE$492:$AP$494,3,0)=1,HLOOKUP($E17,別紙１_実施計画書!$AE$492:$AP$494,3,0)=TRUE),1,\"-\")","v":"-"},{"$f":"IF(OR(HLOOKUP($E17,別紙１_実施計画書!$AE$533:$AP$535,3,0)=1,HLOOKUP($E17,別紙１_実施計画書!$AE$533:$AP$535,3,0)=TRUE),1,\"-\")","v":"-"},{"$f":"IF(OR(HLOOKUP($E17,別紙１_実施計画書!$AE$574:$AP$576,3,0)=1,HLOOKUP($E17,別紙１_実施計画書!$AE$574:$AP$576,3,0)=TRUE),1,\"-\")","v":"-"},{"$f":"IF(OR(HLOOKUP($E17,別紙１_実施計画書!$AE$615:$AP$617,3,0)=1,HLOOKUP($E17,別紙１_実施計画書!$AE$615:$AP$617,3,0)=TRUE),1,\"-\")","v":"-"},"*"]
[{"$nulls":4},"⑫","地球温暖化防止","※集計マクロマクロ見直しの必要",{"$f":"IF(OR(HLOOKUP($E18,別紙１_実施計画書!$AE$40:$AP$42,3,0)=1,HLOOKUP($E18,別紙１_実施計画書!$AE$40:$AP$42,3,0)=TRUE),1,\"-\")","v":"-"},{"$f":"IF(OR(HLOOKUP($E18,別紙１_実施計画書!$AE$82:$AP$84,3,0)=1,HLOOKUP($E18,別紙１_実施計画書!$AE$82:$AP$84,3,0)=TRUE),1,\"-\")","v":"-"},{"$f":"IF(OR(HLOOKUP($E18,別紙１_実施計画書!$AE$123:$AP$125,3,0)=1,HLOOKUP($E18,別紙１_実施計画書!$AE$123:$AP$125,3,0)=TRUE),1,\"-\")","v":"-"},{"$f":"IF(OR(HLOOKUP($E18,別紙１_実施計画書!$AE$164:$AP$166,3,0)=1,HLOOKUP($E18,別紙１_実施計画書!$AE$164:$AP$166,3,0)=TRUE),1,\"-\")","v":"-"},{"$f":"IF(OR(HLOOKUP($E18,別紙１_実施計画書!$AE$205:$AP$207,3,0)=1,HLOOKUP($E18,別紙１_実施計画書!$AE$205:$AP$207,3,0)=TRUE),1,\"-\")","v":"-"},{"$f":"IF(OR(HLOOKUP($E18,別紙１_実施計画書!$AE$246:$AP$248,3,0)=1,HLOOKUP($E18,別紙１_実施計画書!$AE$246:$AP$248,3,0)=TRUE),1,\"-\")","v":"-"},{"$f":"IF(OR(HLOOKUP($E18,別紙１_実施計画書!$AE$287:$AP$289,3,0)=1,HLOOKUP($E18,別紙１_実施計画書!$AE$287:$AP$289,3,0)=TRUE),1,\"-\")","v":"-"},{"$f":"IF(OR(HLOOKUP($E18,別紙１_実施計画書!$AE$328:$AP$330,3,0)=1,HLOOKUP($E18,別紙１_実施計画書!$AE$328:$AP$330,3,0)=TRUE),1,\"-\")","v":"-"},{"$f":"IF(OR(HLOOKUP($E18,別紙１_実施計画書!$AE$369:$AP$371,3,0)=1,HLOOKUP($E18,別紙１_実施計画書!$AE$369:$AP$371,3,0)=TRUE),1,\"-\")","v":"-"},{"$f":"IF(OR(HLOOKUP($E18,別紙１_実施計画書!$AE$410:$AP$412,3,0)=1,HLOOKUP($E18,別紙１_実施計画書!$AE$410:$AP$412,3,0)=TRUE),1,\"-\")","v":"-"},{"$f":"IF(OR(HLOOKUP($E18,別紙１_実施計画書!$AE$451:$AP$453,3,0)=1,HLOOKUP($E18,別紙１_実施計画書!$AE$451:$AP$453,3,0)=TRUE),1,\"-\")","v":"-"},{"$f":"IF(OR(HLOOKUP($E18,別紙１_実施計画書!$AE$492:$AP$494,3,0)=1,HLOOKUP($E18,別紙１_実施計画書!$AE$492:$AP$494,3,0)=TRUE),1,\"-\")","v":"-"},{"$f":"IF(OR(HLOOKUP($E18,別紙１_実施計画書!$AE$533:$AP$535,3,0)=1,HLOOKUP($E18,別紙１_実施計画書!$AE$533:$AP$535,3,0)=TRUE),1,\"-\")","v":"-"},{"$f":"IF(OR(HLOOKUP($E18,別紙１_実施計画書!$AE$574:$AP$576,3,0)=1,HLOOKUP($E18,別紙１_実施計画書!$AE$574:$AP$576,3,0)=TRUE),1,\"-\")","v":"-"},{"$f":"IF(OR(HLOOKUP($E18,別紙１_実施計画書!$AE$615:$AP$617,3,0)=1,HLOOKUP($E18,別紙１_実施計画書!$AE$615:$AP$617,3,0)=TRUE),1,\"-\")","v":"-"}]
[13,null,"訴求手法\n（該当する欄に「1」と記入）",null,"a)","情報発信型（受動型）",null,{"$f":"IF(OR(HLOOKUP($E19,別紙１_実施計画書!$AR$45:$AT$46,2,0)=1,HLOOKUP($E19,別紙１_実施計画書!$AR$45:$AT$46,2,0)=TRUE),1,\"-\")","v":"-"},{"$f":"IF(OR(HLOOKUP($E19,別紙１_実施計画書!$AR$87:$AT$88,2,0)=1,HLOOKUP($E19,別紙１_実施計画書!$AR$87:$AT$88,2,0)=TRUE),1,\"-\")","v":"-"},{"$f":"IF(OR(HLOOKUP($E19,別紙１_実施計画書!$AR$128:$AT$129,2,0)=1,HLOOKUP($E19,別紙１_実施計画書!$AR$128:$AT$129,2,0)=TRUE),1,\"-\")","v":"-"},{"$f":"IF(OR(HLOOKUP($E19,別紙１_実施計画書!$AR$169:$AT$170,2,0)=1,HLOOKUP($E19,別紙１_実施計画書!$AR$169:$AT$170,2,0)=TRUE),1,\"-\")","v":"-"},{"$f":"IF(OR(HLOOKUP($E19,別紙１_実施計画書!$AR$210:$AT$211,2,0)=1,HLOOKUP($E19,別紙１_実施計画書!$AR$210:$AT$211,2,0)=TRUE),1,\"-\")","v":"-"},{"$f":"IF(OR(HLOOKUP($E19,別紙１_実施計画書!$AR$251:$AT$252,2,0)=1,HLOOKUP($E19,別紙１_実施計画書!$AR$251:$AT$252,2,0)=TRUE),1,\"-\")","v":"-"},{"$f":"IF(OR(HLOOKUP($E19,別紙１_実施計画書!$AR$292:$AT$293,2,0)=1,HLOOKUP($E19,別紙１_実施計画書!$AR$292:$AT$293,2,0)=TRUE),1,\"-\")","v":"-"},{"$f":"IF(OR(HLOOKUP($E19,別紙１_実施計画書!$AR$333:$AT$334,2,0)=1,HLOOKUP($E19,別紙１_実施計画書!$AR$333:$AT$334,2,0)=TRUE),1,\"-\")","v":"-"},{"$f":"IF(OR(HLOOKUP($E19,別紙１_実施計画書!$AR$374:$AT$375,2,0)=1,HLOOKUP($E19,別紙１_実施計画書!$AR$374:$AT$375,2,0)=TRUE),1,\"-\")","v":"-"},{"$f":"IF(OR(HLOOKUP($E19,別紙１_実施計画書!$AR$415:$AT$416,2,0)=1,HLOOKUP($E19,別紙１_実施計画書!$AR$415:$AT$416,2,0)=TRUE),1,\"-\")","v":"-"},{"$f":"IF(OR(HLOOKUP($E19,別紙１_実施計画書!$AR$456:$AT$457,2,0)=1,HLOOKUP($E19,別紙１_実施計画書!$AR$456:$AT$457,2,0)=TRUE),1,\"-\")","v":"-"},{"$f":"IF(OR(HLOOKUP($E19,別紙１_実施計画書!$AR$497:$AT$498,2,0)=1,HLOOKUP($E19,別紙１_実施計画書!$AR$497:$AT$498,2,0)=TRUE),1,\"-\")","v":"-"},{"$f":"IF(OR(HLOOKUP($E19,別紙１_実施計画書!$AR$538:$AT$539,2,0)=1,HLOOKUP($E19,別紙１_実施計画書!$AR$538:$AT$539,2,0)=TRUE),1,\"-\")","v":"-"},{"$f":"IF(OR(HLOOKUP($E19,別紙１_実施計画書!$AR$579:$AT$580,2,0)=1,HLOOKUP($E19,別紙１_実施計画書!$AR$579:$AT$580,2,0)=TRUE),1,\"-\")","v":"-"},{"$f":"IF(OR(HLOOKUP($E19,別紙１_実施計画書!$AR$620:$AT$621,2,0)=1,HLOOKUP($E19,別紙１_実施計画書!$AR$620:$AT$621,2,0)=TRUE),1,\"-\")","v":"-"},"*"]
[14,{"$nulls":3},"b)","情報発信型（能動型）",1,{"$f":"IF(OR(HLOOKUP($E20,別紙１_実施計画書!$AR$45:$AT$46,2,0)=1,HLOOKUP($E20,別紙１_実施計画書!$AR$45:$AT$46,2,0)=TRUE),1,\"-\")","v":"-"},{"$f":"IF(OR(HLOOKUP($E20,別紙１_実施計画書!$AR$87:$AT$88,2,0)=1,HLOOKUP($E20,別紙１_実施計画書!$AR$87:$AT$88,2,0)=TRUE),1,\"-\")","v":"-"},{"$f":"IF(OR(HLOOKUP($E20,別紙１_実施計画書!$AR$128:$AT$129,2,0)=1,HLOOKUP($E20,別紙１_実施計画書!$AR$128:$AT$129,2,0)=TRUE),1,\"-\")","v":"-"},{"$f":"IF(OR(HLOOKUP($E20,別紙１_実施計画書!$AR$169:$AT$170,2,0)=1,HLOOKUP($E20,別紙１_実施計画書!$AR$169:$AT$170,2,0)=TRUE),1,\"-\")","v":"-"},{"$f":"IF(OR(HLOOKUP($E20,別紙１_実施計画書!$AR$210:$AT$211,2,0)=1,HLOOKUP($E20,別紙１_実施計画書!$AR$210:$AT$211,2,0)=TRUE),1,\"-\")","v":"-"},{"$f":"IF(OR(HLOOKUP($E20,別紙１_実施計画書!$AR$251:$AT$252,2,0)=1,HLOOKUP($E20,別紙１_実施計画書!$AR$251:$AT$252,2,0)=TRUE),1,\"-\")","v":"-"},{"$f":"IF(OR(HLOOKUP($E20,別紙１_実施計画書!$AR$292:$AT$293,2,0)=1,HLOOKUP($E20,別紙１_実施計画書!$AR$292:$AT$293,2,0)=TRUE),1,\"-\")","v":"-"},{"$f":"IF(OR(HLOOKUP($E20,別紙１_実施計画書!$AR$333:$AT$334,2,0)=1,HLOOKUP($E20,別紙１_実施計画書!$AR$333:$AT$334,2,0)=TRUE),1,\"-\")","v":"-"},{"$f":"IF(OR(HLOOKUP($E20,別紙１_実施計画書!$AR$374:$AT$375,2,0)=1,HLOOKUP($E20,別紙１_実施計画書!$AR$374:$AT$375,2,0)=TRUE),1,\"-\")","v":"-"},{"$f":"IF(OR(HLOOKUP($E20,別紙１_実施計画書!$AR$415:$AT$416,2,0)=1,HLOOKUP($E20,別紙１_実施計画書!$AR$415:$AT$416,2,0)=TRUE),1,\"-\")","v":"-"},{"$f":"IF(OR(HLOOKUP($E20,別紙１_実施計画書!$AR$456:$AT$457,2,0)=1,HLOOKUP($E20,別紙１_実施計画書!$AR$456:$AT$457,2,0)=TRUE),1,\"-\")","v":"-"},{"$f":"IF(OR(HLOOKUP($E20,別紙１_実施計画書!$AR$497:$AT$498,2,0)=1,HLOOKUP($E20,別紙１_実施計画書!$AR$497:$AT$498,2,0)=TRUE),1,\"-\")","v":"-"},{"$f":"IF(OR(HLOOKUP($E20,別紙１_実施計画書!$AR$538:$AT$539,2,0)=1,HLOOKUP($E20,別紙１_実施計画書!$AR$538:$AT$539,2,0)=TRUE),1,\"-\")","v":"-"},{"$f":"IF(OR(HLOOKUP($E20,別紙１_実施計画書!$AR$579:$AT$580,2,0)=1,HLOOKUP($E20,別紙１_実施計画書!$AR$579:$AT$580,2,0)=TRUE),1,\"-\")","v":"-"},{"$f":"IF(OR(HLOOKUP($E20,別紙１_実施計画書!$AR$620:$AT$621,2,0)=1,HLOOKUP($E20,別紙１_実施計画書!$AR$620:$AT$621,2,0)=TRUE),1,\"-\")","v":"-"},"*"]
[15,{"$nulls":3},"c)","双方向体験交流型",null,{"$f":"IF(OR(HLOOKUP($E21,別紙１_実施計画書!$AR$45:$AT$46,2,0)=1,HLOOKUP($E21,別紙１_実施計画書!$AR$45:$AT$46,2,0)=TRUE),1,\"-\")","v":"-"},{"$f":"IF(OR(HLOOKUP($E21,別紙１_実施計画書!$AR$87:$AT$88,2,0)=1,HLOOKUP($E21,別紙１_実施計画書!$AR$87:$AT$88,2,0)=TRUE),1,\"-\")","v":"-"},{"$f":"IF(OR(HLOOKUP($E21,別紙１_実施計画書!$AR$128:$AT$129,2,0)=1,HLOOKUP($E21,別紙１_実施計画書!$AR$128:$AT$129,2,0)=TRUE),1,\"-\")","v":"-"},{"$f":"IF(OR(HLOOKUP($E21,別紙１_実施計画書!$AR$169:$AT$170,2,0)=1,HLOOKUP($E21,別紙１_実施計画書!$AR$169:$AT$170,2,0)=TRUE),1,\"-\")","v":"-"},{"$f":"IF(OR(HLOOKUP($E21,別紙１_実施計画書!$AR$210:$AT$211,2,0)=1,HLOOKUP($E21,別紙１_実施計画書!$AR$210:$AT$211,2,0)=TRUE),1,\"-\")","v":"-"},{"$f":"IF(OR(HLOOKUP($E21,別紙１_実施計画書!$AR$251:$AT$252,2,0)=1,HLOOKUP($E21,別紙１_実施計画書!$AR$251:$AT$252,2,0)=TRUE),1,\"-\")","v":"-"},{"$f":"IF(OR(HLOOKUP($E21,別紙１_実施計画書!$AR$292:$AT$293,2,0)=1,HLOOKUP($E21,別紙１_実施計画書!$AR$292:$AT$293,2,0)=TRUE),1,\"-\")","v":"-"},{"$f":"IF(OR(HLOOKUP($E21,別紙１_実施計画書!$AR$333:$AT$334,2,0)=1,HLOOKUP($E21,別紙１_実施計画書!$AR$333:$AT$334,2,0)=TRUE),1,\"-\")","v":"-"},{"$f":"IF(OR(HLOOKUP($E21,別紙１_実施計画書!$AR$374:$AT$375,2,0)=1,HLOOKUP($E21,別紙１_実施計画書!$AR$374:$AT$375,2,0)=TRUE),1,\"-\")","v":"-"},{"$f":"IF(OR(HLOOKUP($E21,別紙１_実施計画書!$AR$415:$AT$416,2,0)=1,HLOOKUP($E21,別紙１_実施計画書!$AR$415:$AT$416,2,0)=TRUE),1,\"-\")","v":"-"},{"$f":"IF(OR(HLOOKUP($E21,別紙１_実施計画書!$AR$456:$AT$457,2,0)=1,HLOOKUP($E21,別紙１_実施計画書!$AR$456:$AT$457,2,0)=TRUE),1,\"-\")","v":"-"},{"$f":"IF(OR(HLOOKUP($E21,別紙１_実施計画書!$AR$497:$AT$498,2,0)=1,HLOOKUP($E21,別紙１_実施計画書!$AR$497:$AT$498,2,0)=TRUE),1,\"-\")","v":"-"},{"$f":"IF(OR(HLOOKUP($E21,別紙１_実施計画書!$AR$538:$AT$539,2,0)=1,HLOOKUP($E21,別紙１_実施計画書!$AR$538:$AT$539,2,0)=TRUE),1,\"-\")","v":"-"},{"$f":"IF(OR(HLOOKUP($E21,別紙１_実施計画書!$AR$579:$AT$580,2,0)=1,HLOOKUP($E21,別紙１_実施計画書!$AR$579:$AT$580,2,0)=TRUE),1,\"-\")","v":"-"},{"$f":"IF(OR(HLOOKUP($E21,別紙１_実施計画書!$AR$620:$AT$621,2,0)=1,HLOOKUP($E21,別紙１_実施計画書!$AR$620:$AT$621,2,0)=TRUE),1,\"-\")","v":"-"},"*"]
[16,null,"実施期間",{"$nulls":3},"2019-08-04",{"$f":"IF(別紙１_実施計画書!$E47=\"\",\"\",別紙１_実施計画書!$E47)","v":""},{"$f":"IF(別紙１_実施計画書!$E89=\"\",\"\",別紙１_実施計画書!$E89)","v":""},{"$f":"IF(別紙１_実施計画書!$E130=\"\",\"\",別紙１_実施計画書!$E130)","v":""},{"$f":"IF(別紙１_実施計画書!$E171=\"\",\"\",別紙１_実施計画書!$E171)","v":""},{"$f":"IF(別紙１_実施計画書!$E212=\"\",\"\",別紙１_実施計画書!$E212)","v":""},{"$f":"IF(別紙１_実施計画書!$E253=\"\",\"\",別紙１_実施計画書!$E253)","v":""},{"$f":"IF(別紙１_実施計画書!$E294=\"\",\"\",別紙１_実施計画書!$E294)","v":""},{"$f":"IF(別紙１_実施計画書!$E335=\"\",\"\",別紙１_実施計画書!$E335)","v":""},{"$f":"IF(別紙１_実施計画書!$E376=\"\",\"\",別紙１_実施計画書!$E376)","v":""},{"$f":"IF(別紙１_実施計画書!$E417=\"\",\"\",別紙１_実施計画書!$E417)","v":""},{"$f":"IF(別紙１_実施計画書!$E458=\"\",\"\",別紙１_実施計画書!$E458)","v":""},{"$f":"IF(別紙１_実施計画書!$E499=\"\",\"\",別紙１_実施計画書!$E499)","v":""},{"$f":"IF(別紙１_実施計画書!$E540=\"\",\"\",別紙１_実施計画書!$E540)","v":""},{"$f":"IF(別紙１_実施計画書!$E581=\"\",\"\",別紙１_実施計画書!$E581)","v":""},{"$f":"IF(別紙１_実施計画書!$E622=\"\",\"\",別紙１_実施計画書!$E622)","v":""},"*"]
[17,{"$nulls":5},"～","～","～","～","～","～","～","～","～","～","～","～","～","～","～","～","*"]
[18,{"$nulls":5},"2019-12-15",{"$f":"IF(別紙１_実施計画書!$S47=\"\",\"\",別紙１_実施計画書!$S47)","v":""},{"$f":"IF(別紙１_実施計画書!$S89=\"\",\"\",別紙１_実施計画書!$S89)","v":""},{"$f":"IF(別紙１_実施計画書!$S130=\"\",\"\",別紙１_実施計画書!$S130)","v":""},{"$f":"IF(別紙１_実施計画書!$S171=\"\",\"\",別紙１_実施計画書!$S171)","v":""},{"$f":"IF(別紙１_実施計画書!$S212=\"\",\"\",別紙１_実施計画書!$S212)","v":""},{"$f":"IF(別紙１_実施計画書!$S253=\"\",\"\",別紙１_実施計画書!$S253)","v":""},{"$f":"IF(別紙１_実施計画書!$S294=\"\",\"\",別紙１_実施計画書!$S294)","v":""},{"$f":"IF(別紙１_実施計画書!$S335=\"\",\"\",別紙１_実施計画書!$S335)","v":""},{"$f":"IF(別紙１_実施計画書!$S376=\"\",\"\",別紙１_実施計画書!$S376)","v":""},{"$f":"IF(別紙１_実施計画書!$S417=\"\",\"\",別紙１_実施計画書!$S417)","v":""},{"$f":"IF(別紙１_実施計画書!$S458=\"\",\"\",別紙１_実施計画書!$S458)","v":""},{"$f":"IF(別紙１_実施計画書!$S499=\"\",\"\",別紙１_実施計画書!$S499)","v":""},{"$f":"IF(別紙１_実施計画書!$S540=\"\",\"\",別紙１_実施計画書!$S540)","v":""},{"$f":"IF(別紙１_実施計画書!$S581=\"\",\"\",別紙１_実施計画書!$S581)","v":""},{"$f":"IF(別紙１_実施計画書!$S622=\"\",\"\",別紙１_実施計画書!$S622)","v":""},"*"]
[19,null,null,"備考",null,null,"月2回",{"$f":"IF(別紙１_実施計画書!$E48=\"\",\"\",別紙１_実施計画書!$E48)","v":""},{"$f":"IF(別紙１_実施計画書!$E90=\"\",\"\",別紙１_実施計画書!$E90)","v":""},{"$f":"IF(別紙１_実施計画書!$E131=\"\",\"\",別紙１_実施計画書!$E131)","v":""},{"$f":"IF(別紙１_実施計画書!$E172=\"\",\"\",別紙１_実施計画書!$E172)","v":""},{"$f":"IF(別紙１_実施計画書!$E213=\"\",\"\",別紙１_実施計画書!$E213)","v":""},{"$f":"IF(別紙１_実施計画書!$E254=\"\",\"\",別紙１_実施計画書!$E254)","v":""},{"$f":"IF(別紙１_実施計画書!$E295=\"\",\"\",別紙１_実施計画書!$E295)","v":""},{"$f":"IF(別紙１_実施計画書!$E336=\"\",\"\",別紙１_実施計画書!$E336)","v":""},{"$f":"IF(別紙１_実施計画書!$E377=\"\",\"\",別紙１_実施計画書!$E377)","v":""},{"$f":"IF(別紙１_実施計画書!$E418=\"\",\"\",別紙１_実施計画書!$E418)","v":""},{"$f":"IF(別紙１_実施計画書!$E459=\"\",\"\",別紙１_実施計画書!$E459)","v":""},{"$f":"IF(別紙１_実施計画書!$E500=\"\",\"\",別紙１_実施計画書!$E500)","v":""},{"$f":"IF(別紙１_実施計画書!$E541=\"\",\"\",別紙１_実施計画書!$E541)","v":""},{"$f":"IF(別紙１_実施計画書!$E582=\"\",\"\",別紙１_実施計画書!$E582)","v":""},{"$f":"IF(別紙１_実施計画書!$E623=\"\",\"\",別紙１_実施計画書!$E623)","v":""},"*"]
[20,null,"実施日\n（※同一事業内で、同一の内容・場所において\n複数日実施する場合）",{"$nulls":3},"2018-08-04",{"$f":"IF(別紙１_実施計画書!$G49=\"\",\"\",別紙１_実施計画書!$G49)","v":""},{"$f":"IF(別紙１_実施計画書!$G91=\"\",\"\",別紙１_実施計画書!$G91)","v":""},{"$f":"IF(別紙１_実施計画書!$G132=\"\",\"\",別紙１_実施計画書!$G132)","v":""},{"$f":"IF(別紙１_実施計画書!$G173=\"\",\"\",別紙１_実施計画書!$G173)","v":""},{"$f":"IF(別紙１_実施計画書!$G214=\"\",\"\",別紙１_実施計画書!$G214)","v":""},{"$f":"IF(別紙１_実施計画書!$G255=\"\",\"\",別紙１_実施計画書!$G255)","v":""},{"$f":"IF(別紙１_実施計画書!$G296=\"\",\"\",別紙１_実施計画書!$G296)","v":""},{"$f":"IF(別紙１_実施計画書!$G337=\"\",\"\",別紙１_実施計画書!$G337)","v":""},{"$f":"IF(別紙１_実施計画書!$G378=\"\",\"\",別紙１_実施計画書!$G378)","v":""},{"$f":"IF(別紙１_実施計画書!$G419=\"\",\"\",別紙１_実施計画書!$G419)","v":""},{"$f":"IF(別紙１_実施計画書!$G460=\"\",\"\",別紙１_実施計画書!$G460)","v":""},{"$f":"IF(別紙１_実施計画書!$G501=\"\",\"\",別紙１_実施計画書!$G501)","v":""},{"$f":"IF(別紙１_実施計画書!$G542=\"\",\"\",別紙１_実施計画書!$G542)","v":""},{"$f":"IF(別紙１_実施計画書!$G583=\"\",\"\",別紙１_実施計画書!$G583)","v":""},{"$f":"IF(別紙１_実施計画書!$G624=\"\",\"\",別紙１_実施計画書!$G624)","v":""},"*"]
[21,{"$nulls":5},"2018-08-18",{"$f":"IF(別紙１_実施計画書!$G50=\"\",\"\",別紙１_実施計画書!$G50)","v":""},{"$f":"IF(別紙１_実施計画書!$G92=\"\",\"\",別紙１_実施計画書!$G92)","v":""},{"$f":"IF(別紙１_実施計画書!$G133=\"\",\"\",別紙１_実施計画書!$G133)","v":""},{"$f":"IF(別紙１_実施計画書!$G174=\"\",\"\",別紙１_実施計画書!$G174)","v":""},{"$f":"IF(別紙１_実施計画書!$G215=\"\",\"\",別紙１_実施計画書!$G215)","v":""},{"$f":"IF(別紙１_実施計画書!$G256=\"\",\"\",別紙１_実施計画書!$G256)","v":""},{"$f":"IF(別紙１_実施計画書!$G297=\"\",\"\",別紙１_実施計画書!$G297)","v":""},{"$f":"IF(別紙１_実施計画書!$G338=\"\",\"\",別紙１_実施計画書!$G338)","v":""},{"$f":"IF(別紙１_実施計画書!$G379=\"\",\"\",別紙１_実施計画書!$G379)","v":""},{"$f":"IF(別紙１_実施計画書!$G420=\"\",\"\",別紙１_実施計画書!$G420)","v":""},{"$f":"IF(別紙１_実施計画書!$G461=\"\",\"\",別紙１_実施計画書!$G461)","v":""},{"$f":"IF(別紙１_実施計画書!$G502=\"\",\"\",別紙１_実施計画書!$G502)","v":""},{"$f":"IF(別紙１_実施計画書!$G543=\"\",\"\",別紙１_実施計画書!$G543)","v":""},{"$f":"IF(別紙１_実施計画書!$G584=\"\",\"\",別紙１_実施計画書!$G584)","v":""},{"$f":"IF(別紙１_実施計画書!$G625=\"\",\"\",別紙１_実施計画書!$G625)","v":""},"*"]
[22,{"$nulls":5},"2018-09-01",{"$f":"IF(別紙１_実施計画書!$G51=\"\",\"\",別紙１_実施計画書!$G51)","v":""},{"$f":"IF(別紙１_実施計画書!$G93=\"\",\"\",別紙１_実施計画書!$G93)","v":""},{"$f":"IF(別紙１_実施計画書!$G134=\"\",\"\",別紙１_実施計画書!$G134)","v":""},{"$f":"IF(別紙１_実施計画書!$G175=\"\",\"\",別紙１_実施計画書!$G175)","v":""},{"$f":"IF(別紙１_実施計画書!$G216=\"\",\"\",別紙１_実施計画書!$G216)","v":""},{"$f":"IF(別紙１_実施計画書!$G257=\"\",\"\",別紙１_実施計画書!$G257)","v":""},{"$f":"IF(別紙１_実施計画書!$G298=\"\",\"\",別紙１_実施計画書!$G298)","v":""},{"$f":"IF(別紙１_実施計画書!$G339=\"\",\"\",別紙１_実施計画書!$G339)","v":""},{"$f":"IF(別紙１_実施計画書!$G380=\"\",\"\",別紙１_実施計画書!$G380)","v":""},{"$f":"IF(別紙１_実施計画書!$G421=\"\",\"\",別紙１_実施計画書!$G421)","v":""},{"$f":"IF(別紙１_実施計画書!$G462=\"\",\"\",別紙１_実施計画書!$G462)","v":""},{"$f":"IF(別紙１_実施計画書!$G503=\"\",\"\",別紙１_実施計画書!$G503)","v":""},{"$f":"IF(別紙１_実施計画書!$G544=\"\",\"\",別紙１_実施計画書!$G544)","v":""},{"$f":"IF(別紙１_実施計画書!$G585=\"\",\"\",別紙１_実施計画書!$G585)","v":""},{"$f":"IF(別紙１_実施計画書!$G626=\"\",\"\",別紙１_実施計画書!$G626)","v":""},"*"]
[23,{"$nulls":5},"2018-09-15",{"$f":"IF(別紙１_実施計画書!$G52=\"\",\"\",別紙１_実施計画書!$G52)","v":""},{"$f":"IF(別紙１_実施計画書!$G94=\"\",\"\",別紙１_実施計画書!$G94)","v":""},{"$f":"IF(別紙１_実施計画書!$G135=\"\",\"\",別紙１_実施計画書!$G135)","v":""},{"$f":"IF(別紙１_実施計画書!$G176=\"\",\"\",別紙１_実施計画書!$G176)","v":""},{"$f":"IF(別紙１_実施計画書!$G217=\"\",\"\",別紙１_実施計画書!$G217)","v":""},{"$f":"IF(別紙１_実施計画書!$G258=\"\",\"\",別紙１_実施計画書!$G258)","v":""},{"$f":"IF(別紙１_実施計画書!$G299=\"\",\"\",別紙１_実施計画書!$G299)","v":""},{"$f":"IF(別紙１_実施計画書!$G340=\"\",\"\",別紙１_実施計画書!$G340)","v":""},{"$f":"IF(別紙１_実施計画書!$G381=\"\",\"\",別紙１_実施計画書!$G381)","v":""},{"$f":"IF(別紙１_実施計画書!$G422=\"\",\"\",別紙１_実施計画書!$G422)","v":""},{"$f":"IF(別紙１_実施計画書!$G463=\"\",\"\",別紙１_実施計画書!$G463)","v":""},{"$f":"IF(別紙１_実施計画書!$G504=\"\",\"\",別紙１_実施計画書!$G504)","v":""},{"$f":"IF(別紙１_実施計画書!$G545=\"\",\"\",別紙１_実施計画書!$G545)","v":""},{"$f":"IF(別紙１_実施計画書!$G586=\"\",\"\",別紙１_実施計画書!$G586)","v":""},{"$f":"IF(別紙１_実施計画書!$G627=\"\",\"\",別紙１_実施計画書!$G627)","v":""},"*"]
[24,{"$nulls":5},"2018-10-06",{"$f":"IF(別紙１_実施計画書!$G53=\"\",\"\",別紙１_実施計画書!$G53)","v":""},{"$f":"IF(別紙１_実施計画書!$G95=\"\",\"\",別紙１_実施計画書!$G95)","v":""},{"$f":"IF(別紙１_実施計画書!$G136=\"\",\"\",別紙１_実施計画書!$G136)","v":""},{"$f":"IF(別紙１_実施計画書!$G177=\"\",\"\",別紙１_実施計画書!$G177)","v":""},{"$f":"IF(別紙１_実施計画書!$G218=\"\",\"\",別紙１_実施計画書!$G218)","v":""},{"$f":"IF(別紙１_実施計画書!$G259=\"\",\"\",別紙１_実施計画書!$G259)","v":""},{"$f":"IF(別紙１_実施計画書!$G300=\"\",\"\",別紙１_実施計画書!$G300)","v":""},{"$f":"IF(別紙１_実施計画書!$G341=\"\",\"\",別紙１_実施計画書!$G341)","v":""},{"$f":"IF(別紙１_実施計画書!$G382=\"\",\"\",別紙１_実施計画書!$G382)","v":""},{"$f":"IF(別紙１_実施計画書!$G423=\"\",\"\",別紙１_実施計画書!$G423)","v":""},{"$f":"IF(別紙１_実施計画書!$G464=\"\",\"\",別紙１_実施計画書!$G464)","v":""},{"$f":"IF(別紙１_実施計画書!$G505=\"\",\"\",別紙１_実施計画書!$G505)","v":""},{"$f":"IF(別紙１_実施計画書!$G546=\"\",\"\",別紙１_実施計画書!$G546)","v":""},{"$f":"IF(別紙１_実施計画書!$G587=\"\",\"\",別紙１_実施計画書!$G587)","v":""},{"$f":"IF(別紙１_実施計画書!$G628=\"\",\"\",別紙１_実施計画書!$G628)","v":""},"*"]
[25,{"$nulls":5},"2018-10-20",{"$f":"IF(別紙１_実施計画書!$S49=\"\",\"\",別紙１_実施計画書!$S49)","v":""},{"$f":"IF(別紙１_実施計画書!$S91=\"\",\"\",別紙１_実施計画書!$S91)","v":""},{"$f":"IF(別紙１_実施計画書!$S132=\"\",\"\",別紙１_実施計画書!$S132)","v":""},{"$f":"IF(別紙１_実施計画書!$S173=\"\",\"\",別紙１_実施計画書!$S173)","v":""},{"$f":"IF(別紙１_実施計画書!$S214=\"\",\"\",別紙１_実施計画書!$S214)","v":""},{"$f":"IF(別紙１_実施計画書!$S255=\"\",\"\",別紙１_実施計画書!$S255)","v":""},{"$f":"IF(別紙１_実施計画書!$S296=\"\",\"\",別紙１_実施計画書!$S296)","v":""},{"$f":"IF(別紙１_実施計画書!$S337=\"\",\"\",別紙１_実施計画書!$S337)","v":""},{"$f":"IF(別紙１_実施計画書!$S378=\"\",\"\",別紙１_実施計画書!$S378)","v":""},{"$f":"IF(別紙１_実施計画書!$S419=\"\",\"\",別紙１_実施計画書!$S419)","v":""},{"$f":"IF(別紙１_実施計画書!$S460=\"\",\"\",別紙１_実施計画書!$S460)","v":""},{"$f":"IF(別紙１_実施計画書!$S501=\"\",\"\",別紙１_実施計画書!$S501)","v":""},{"$f":"IF(別紙１_実施計画書!$S542=\"\",\"\",別紙１_実施計画書!$S542)","v":""},{"$f":"IF(別紙１_実施計画書!$S583=\"\",\"\",別紙１_実施計画書!$S583)","v":""},{"$f":"IF(別紙１_実施計画書!$S624=\"\",\"\",別紙１_実施計画書!$S624)","v":""},"*"]
[26,{"$nulls":5},"2018-11-03",{"$f":"IF(別紙１_実施計画書!$S50=\"\",\"\",別紙１_実施計画書!$S50)","v":""},{"$f":"IF(別紙１_実施計画書!$S92=\"\",\"\",別紙１_実施計画書!$S92)","v":""},{"$f":"IF(別紙１_実施計画書!$S133=\"\",\"\",別紙１_実施計画書!$S133)","v":""},{"$f":"IF(別紙１_実施計画書!$S174=\"\",\"\",別紙１_実施計画書!$S174)","v":""},{"$f":"IF(別紙１_実施計画書!$S215=\"\",\"\",別紙１_実施計画書!$S215)","v":""},{"$f":"IF(別紙１_実施計画書!$S256=\"\",\"\",別紙１_実施計画書!$S256)","v":""},{"$f":"IF(別紙１_実施計画書!$S297=\"\",\"\",別紙１_実施計画書!$S297)","v":""},{"$f":"IF(別紙１_実施計画書!$S338=\"\",\"\",別紙１_実施計画書!$S338)","v":""},{"$f":"IF(別紙１_実施計画書!$S379=\"\",\"\",別紙１_実施計画書!$S379)","v":""},{"$f":"IF(別紙１_実施計画書!$S420=\"\",\"\",別紙１_実施計画書!$S420)","v":""},{"$f":"IF(別紙１_実施計画書!$S461=\"\",\"\",別紙１_実施計画書!$S461)","v":""},{"$f":"IF(別紙１_実施計画書!$S502=\"\",\"\",別紙１_実施計画書!$S502)","v":""},{"$f":"IF(別紙１_実施計画書!$S543=\"\",\"\",別紙１_実施計画書!$S543)","v":""},{"$f":"IF(別紙１_実施計画書!$S584=\"\",\"\",別紙１_実施計画書!$S584)","v":""},{"$f":"IF(別紙１_実施計画書!$S625=\"\",\"\",別紙１_実施計画書!$S625)","v":""},"*"]
[27,{"$nulls":5},"2018-11-17",{"$f":"IF(別紙１_実施計画書!$S51=\"\",\"\",別紙１_実施計画書!$S51)","v":""},{"$f":"IF(別紙１_実施計画書!$S93=\"\",\"\",別紙１_実施計画書!$S93)","v":""},{"$f":"IF(別紙１_実施計画書!$S134=\"\",\"\",別紙１_実施計画書!$S134)","v":""},{"$f":"IF(別紙１_実施計画書!$S175=\"\",\"\",別紙１_実施計画書!$S175)","v":""},{"$f":"IF(別紙１_実施計画書!$S216=\"\",\"\",別紙１_実施計画書!$S216)","v":""},{"$f":"IF(別紙１_実施計画書!$S257=\"\",\"\",別紙１_実施計画書!$S257)","v":""},{"$f":"IF(別紙１_実施計画書!$S298=\"\",\"\",別紙１_実施計画書!$S298)","v":""},{"$f":"IF(別紙１_実施計画書!$S339=\"\",\"\",別紙１_実施計画書!$S339)","v":""},{"$f":"IF(別紙１_実施計画書!$S380=\"\",\"\",別紙１_実施計画書!$S380)","v":""},{"$f":"IF(別紙１_実施計画書!$S421=\"\",\"\",別紙１_実施計画書!$S421)","v":""},{"$f":"IF(別紙１_実施計画書!$S462=\"\",\"\",別紙１_実施計画書!$S462)","v":""},{"$f":"IF(別紙１_実施計画書!$S503=\"\",\"\",別紙１_実施計画書!$S503)","v":""},{"$f":"IF(別紙１_実施計画書!$S544=\"\",\"\",別紙１_実施計画書!$S544)","v":""},{"$f":"IF(別紙１_実施計画書!$S585=\"\",\"\",別紙１_実施計画書!$S585)","v":""},{"$f":"IF(別紙１_実施計画書!$S626=\"\",\"\",別紙１_実施計画書!$S626)","v":""},"*"]
[28,{"$nulls":5},"2018-12-01",{"$f":"IF(別紙１_実施計画書!$S52=\"\",\"\",別紙１_実施計画書!$S52)","v":""},{"$f":"IF(別紙１_実施計画書!$S94=\"\",\"\",別紙１_実施計画書!$S94)","v":""},{"$f":"IF(別紙１_実施計画書!$S135=\"\",\"\",別紙１_実施計画書!$S135)","v":""},{"$f":"IF(別紙１_実施計画書!$S176=\"\",\"\",別紙１_実施計画書!$S176)","v":""},{"$f":"IF(別紙１_実施計画書!$S217=\"\",\"\",別紙１_実施計画書!$S217)","v":""},{"$f":"IF(別紙１_実施計画書!$S258=\"\",\"\",別紙１_実施計画書!$S258)","v":""},{"$f":"IF(別紙１_実施計画書!$S299=\"\",\"\",別紙１_実施計画書!$S299)","v":""},{"$f":"IF(別紙１_実施計画書!$S340=\"\",\"\",別紙１_実施計画書!$S340)","v":""},{"$f":"IF(別紙１_実施計画書!$S381=\"\",\"\",別紙１_実施計画書!$S381)","v":""},{"$f":"IF(別紙１_実施計画書!$S422=\"\",\"\",別紙１_実施計画書!$S422)","v":""},{"$f":"IF(別紙１_実施計画書!$S463=\"\",\"\",別紙１_実施計画書!$S463)","v":""},{"$f":"IF(別紙１_実施計画書!$S504=\"\",\"\",別紙１_実施計画書!$S504)","v":""},{"$f":"IF(別紙１_実施計画書!$S545=\"\",\"\",別紙１_実施計画書!$S545)","v":""},{"$f":"IF(別紙１_実施計画書!$S586=\"\",\"\",別紙１_実施計画書!$S586)","v":""},{"$f":"IF(別紙１_実施計画書!$S627=\"\",\"\",別紙１_実施計画書!$S627)","v":""},"*"]
[29,{"$nulls":5},"2018-12-15",{"$f":"IF(別紙１_実施計画書!$S53=\"\",\"\",別紙１_実施計画書!$S53)","v":""},{"$f":"IF(別紙１_実施計画書!$S95=\"\",\"\",別紙１_実施計画書!$S95)","v":""},{"$f":"IF(別紙１_実施計画書!$S136=\"\",\"\",別紙１_実施計画書!$S136)","v":""},{"$f":"IF(別紙１_実施計画書!$S177=\"\",\"\",別紙１_実施計画書!$S177)","v":""},{"$f":"IF(別紙１_実施計画書!$S218=\"\",\"\",別紙１_実施計画書!$S218)","v":""},{"$f":"IF(別紙１_実施計画書!$S259=\"\",\"\",別紙１_実施計画書!$S259)","v":""},{"$f":"IF(別紙１_実施計画書!$S300=\"\",\"\",別紙１_実施計画書!$S300)","v":""},{"$f":"IF(別紙１_実施計画書!$S341=\"\",\"\",別紙１_実施計画書!$S341)","v":""},{"$f":"IF(別紙１_実施計画書!$S382=\"\",\"\",別紙１_実施計画書!$S382)","v":""},{"$f":"IF(別紙１_実施計画書!$S423=\"\",\"\",別紙１_実施計画書!$S423)","v":""},{"$f":"IF(別紙１_実施計画書!$S464=\"\",\"\",別紙１_実施計画書!$S464)","v":""},{"$f":"IF(別紙１_実施計画書!$S505=\"\",\"\",別紙１_実施計画書!$S505)","v":""},{"$f":"IF(別紙１_実施計画書!$S546=\"\",\"\",別紙１_実施計画書!$S546)","v":""},{"$f":"IF(別紙１_実施計画書!$S587=\"\",\"\",別紙１_実施計画書!$S587)","v":""},{"$f":"IF(別紙１_実施計画書!$S628=\"\",\"\",別紙１_実施計画書!$S628)","v":""},"*"]
[30,null,"【計画】事業の概要",{"$nulls":3},"20～40代を中心とした一般の方を対象に、自動車学校にてエコドライブ講習会を開催（2時間/1回当たり）\n\nエコドライブシミュレーターを活用することで※最大参加人数：25名、最小参加人数：10名",{"$f":"IF(別紙１_実施計画書!$E54=\"\",\"\",別紙１_実施計画書!$E54)","v":""},{"$f":"IF(別紙１_実施計画書!$E96=\"\",\"\",別紙１_実施計画書!$E96)","v":""},{"$f":"IF(別紙１_実施計画書!$E137=\"\",\"\",別紙１_実施計画書!$E137)","v":""},{"$f":"IF(別紙１_実施計画書!$E178=\"\",\"\",別紙１_実施計画書!$E178)","v":""},{"$f":"IF(別紙１_実施計画書!$E219=\"\",\"\",別紙１_実施計画書!$E219)","v":""},{"$f":"IF(別紙１_実施計画書!$E260=\"\",\"\",別紙１_実施計画書!$E260)","v":""},{"$f":"IF(別紙１_実施計画書!$E301=\"\",\"\",別紙１_実施計画書!$E301)","v":""},{"$f":"IF(別紙１_実施計画書!$E342=\"\",\"\",別紙１_実施計画書!$E342)","v":""},{"$f":"IF(別紙１_実施計画書!$E383=\"\",\"\",別紙１_実施計画書!$E383)","v":""},{"$f":"IF(別紙１_実施計画書!$E424=\"\",\"\",別紙１_実施計画書!$E424)","v":""},{"$f":"IF(別紙１_実施計画書!$E465=\"\",\"\",別紙１_実施計画書!$E465)","v":""},{"$f":"IF(別紙１_実施計画書!$E506=\"\",\"\",別紙１_実施計画書!$E506)","v":""},{"$f":"IF(別紙１_実施計画書!$E547=\"\",\"\",別紙１_実施計画書!$E547)","v":""},{"$f":"IF(別紙１_実施計画書!$E588=\"\",\"\",別紙１_実施計画書!$E588)","v":""},{"$f":"IF(別紙１_実施計画書!$E629=\"\",\"\",別紙１_実施計画書!$E629)","v":""},"*"]
[31,null,"【計画】効果的な実施のための工夫",{"$nulls":3},"・〇〇市は、1年のうち、8月～12月の交通量が最も多いことから、同時期に講習会を実施\n\n・運転する層に確実にアプローチをするため、自動車学校に来校する方を対象とした",{"$f":"IF(別紙１_実施計画書!$E57=\"\",\"\",別紙１_実施計画書!$E57)","v":""},{"$f":"IF(別紙１_実施計画書!$E99=\"\",\"\",別紙１_実施計画書!$E99)","v":""},{"$f":"IF(別紙１_実施計画書!$E140=\"\",\"\",別紙１_実施計画書!$E140)","v":""},{"$f":"IF(別紙１_実施計画書!$E181=\"\",\"\",別紙１_実施計画書!$E181)","v":""},{"$f":"IF(別紙１_実施計画書!$E222=\"\",\"\",別紙１_実施計画書!$E222)","v":""},{"$f":"IF(別紙１_実施計画書!$E263=\"\",\"\",別紙１_実施計画書!$E263)","v":""},{"$f":"IF(別紙１_実施計画書!$E304=\"\",\"\",別紙１_実施計画書!$E304)","v":""},{"$f":"IF(別紙１_実施計画書!$E345=\"\",\"\",別紙１_実施計画書!$E345)","v":""},{"$f":"IF(別紙１_実施計画書!$E386=\"\",\"\",別紙１_実施計画書!$E386)","v":""},{"$f":"IF(別紙１_実施計画書!$E427=\"\",\"\",別紙１_実施計画書!$E427)","v":""},{"$f":"IF(別紙１_実施計画書!$E468=\"\",\"\",別紙１_実施計画書!$E468)","v":""},{"$f":"IF(別紙１_実施計画書!$E509=\"\",\"\",別紙１_実施計画書!$E509)","v":""},{"$f":"IF(別紙１_実施計画書!$E550=\"\",\"\",別紙１_実施計画書!$E550)","v":""},{"$f":"IF(別紙１_実施計画書!$E591=\"\",\"\",別紙１_実施計画書!$E591)","v":""},{"$f":"IF(別紙１_実施計画書!$E632=\"\",\"\",別紙１_実施計画書!$E632)","v":""},"*"]
[32,null,"【結果報告】実施結果",{"$nulls":19},"*"]
[33,null,"【計画】主な訴求対象",{"$nulls":3},"20～40代男性",{"$f":"IF(別紙１_実施計画書!$E58=\"\",\"\",別紙１_実施計画書!$E58)","v":""},{"$f":"IF(別紙１_実施計画書!$E100=\"\",\"\",別紙１_実施計画書!$E100)","v":""},{"$f":"IF(別紙１_実施計画書!$E141=\"\",\"\",別紙１_実施計画書!$E141)","v":""},{"$f":"IF(別紙１_実施計画書!$E182=\"\",\"\",別紙１_実施計画書!$E182)","v":""},{"$f":"IF(別紙１_実施計画書!$E223=\"\",\"\",別紙１_実施計画書!$E223)","v":""},{"$f":"IF(別紙１_実施計画書!$E264=\"\",\"\",別紙１_実施計画書!$E264)","v":""},{"$f":"IF(別紙１_実施計画書!$E305=\"\",\"\",別紙１_実施計画書!$E305)","v":""},{"$f":"IF(別紙１_実施計画書!$E346=\"\",\"\",別紙１_実施計画書!$E346)","v":""},{"$f":"IF(別紙１_実施計画書!$E387=\"\",\"\",別紙１_実施計画書!$E387)","v":""},{"$f":"IF(別紙１_実施計画書!$E428=\"\",\"\",別紙１_実施計画書!$E428)","v":""},{"$f":"IF(別紙１_実施計画書!$E469=\"\",\"\",別紙１_実施計画書!$E469)","v":""},{"$f":"IF(別紙１_実施計画書!$E510=\"\",\"\",別紙１_実施計画書!$E510)","v":""},{"$f":"IF(別紙１_実施計画書!$E551=\"\",\"\",別紙１_実施計画書!$E551)","v":""},{"$f":"IF(別紙１_実施計画書!$E592=\"\",\"\",別紙１_実施計画書!$E592)","v":""},{"$f":"IF(別紙１_実施計画書!$E633=\"\",\"\",別紙１_実施計画書!$E633)","v":""},"*"]
[34,null,"【結果報告】主な訴求対象",{"$nulls":19},"*"]
[35,"目標アウトプット","規模（リーチ数）\nカテゴリ①",null,null,"（詳細）カテゴリ①","参加者・受講者数",{"$f":"IF(別紙１_実施計画書!$P59=\"\",\"\",別紙１_実施計画書!$P59)","v":""},{"$f":"IF(別紙１_実施計画書!$P101=\"\",\"\",別紙１_実施計画書!$P101)","v":""},{"$f":"IF(別紙１_実施計画書!$P142=\"\",\"\",別紙１_実施計画書!$P142)","v":""},{"$f":"IF(別紙１_実施計画書!$P183=\"\",\"\",別紙１_実施計画書!$P183)","v":""},{"$f":"IF(別紙１_実施計画書!$P224=\"\",\"\",別紙１_実施計画書!$P224)","v":""},{"$f":"IF(別紙１_実施計画書!$P265=\"\",\"\",別紙１_実施計画書!$P265)","v":""},{"$f":"IF(別紙１_実施計画書!$P306=\"\",\"\",別紙１_実施計画書!$P306)","v":""},{"$f":"IF(別紙１_実施計画書!$P347=\"\",\"\",別紙１_実施計画書!$P347)","v":""},{"$f":"IF(別紙１_実施計画書!$P388=\"\",\"\",別紙１_実施計画書!$P388)","v":""},{"$f":"IF(別紙１_実施計画書!$P429=\"\",\"\",別紙１_実施計画書!$P429)","v":""},{"$f":"IF(別紙１_実施計画書!$P470=\"\",\"\",別紙１_実施計画書!$P470)","v":""},{"$f":"IF(別紙１_実施計画書!$P511=\"\",\"\",別紙１_実施計画書!$P511)","v":""},{"$f":"IF(別紙１_実施計画書!$P552=\"\",\"\",別紙１_実施計画書!$P552)","v":""},{"$f":"IF(別紙１_実施計画書!$P593=\"\",\"\",別紙１_実施計画書!$P593)","v":""},{"$f":"IF(別紙１_実施計画書!$P634=\"\",\"\",別紙１_実施計画書!$P634)","v":""},"*"]
[36,{"$nulls":4},"昨年度実績値",{"v":180,"d":"180 "},{"$f":"IF(別紙１_実施計画書!$K60=\"\",\"\",別紙１_実施計画書!$K60)","v":{"v":0,"d":"0 "}},{"$f":"IF(別紙１_実施計画書!$K102=\"\",\"\",別紙１_実施計画書!$K102)","v":{"v":0,"d":"0 "}},{"$f":"IF(別紙１_実施計画書!$K143=\"\",\"\",別紙１_実施計画書!$K143)","v":{"v":0,"d":"0 "}},{"$f":"IF(別紙１_実施計画書!$K184=\"\",\"\",別紙１_実施計画書!$K184)","v":{"v":0,"d":"0 "}},{"$f":"IF(別紙１_実施計画書!$K225=\"\",\"\",別紙１_実施計画書!$K225)","v":{"v":0,"d":"0 "}},{"$f":"IF(別紙１_実施計画書!$K266=\"\",\"\",別紙１_実施計画書!$K266)","v":{"v":0,"d":"0 "}},{"$f":"IF(別紙１_実施計画書!$K307=\"\",\"\",別紙１_実施計画書!$K307)","v":{"v":0,"d":"0 "}},{"$f":"IF(別紙１_実施計画書!$K348=\"\",\"\",別紙１_実施計画書!$K348)","v":{"v":0,"d":"0 "}},{"$f":"IF(別紙１_実施計画書!$K389=\"\",\"\",別紙１_実施計画書!$K389)","v":{"v":0,"d":"0 "}},{"$f":"IF(別紙１_実施計画書!$K430=\"\",\"\",別紙１_実施計画書!$K430)","v":{"v":0,"d":"0 "}},{"$f":"IF(別紙１_実施計画書!$K471=\"\",\"\",別紙１_実施計画書!$K471)","v":{"v":0,"d":"0 "}},{"$f":"IF(別紙１_実施計画書!$K512=\"\",\"\",別紙１_実施計画書!$K512)","v":{"v":0,"d":"0 "}},{"$f":"IF(別紙１_実施計画書!$K553=\"\",\"\",別紙１_実施計画書!$K553)","v":{"v":0,"d":"0 "}},{"$f":"IF(別紙１_実施計画書!$K594=\"\",\"\",別紙１_実施計画書!$K594)","v":{"v":0,"d":"0 "}},{"$f":"IF(別紙１_実施計画書!$K635=\"\",\"\",別紙１_実施計画書!$K635)","v":{"v":0,"d":"0 "}},"*"]
[37,{"$nulls":4},"計画値",{"v":200,"d":"200 "},{"$f":"IF(別紙１_実施計画書!$K61=\"\",\"\",別紙１_実施計画書!$K61)","v":{"v":0,"d":"0 "}},{"$f":"IF(別紙１_実施計画書!$K103=\"\",\"\",別紙１_実施計画書!$K103)","v":{"v":0,"d":"0 "}},{"$f":"IF(別紙１_実施計画書!$K144=\"\",\"\",別紙１_実施計画書!$K144)","v":{"v":0,"d":"0 "}},{"$f":"IF(別紙１_実施計画書!$K185=\"\",\"\",別紙１_実施計画書!$K185)","v":{"v":0,"d":"0 "}},{"$f":"IF(別紙１_実施計画書!$K226=\"\",\"\",別紙１_実施計画書!$K226)","v":{"v":0,"d":"0 "}},{"$f":"IF(別紙１_実施計画書!$K267=\"\",\"\",別紙１_実施計画書!$K267)","v":{"v":0,"d":"0 "}},{"$f":"IF(別紙１_実施計画書!$K308=\"\",\"\",別紙１_実施計画書!$K308)","v":{"v":0,"d":"0 "}},{"$f":"IF(別紙１_実施計画書!$K349=\"\",\"\",別紙１_実施計画書!$K349)","v":{"v":0,"d":"0 "}},{"$f":"IF(別紙１_実施計画書!$K390=\"\",\"\",別紙１_実施計画書!$K390)","v":{"v":0,"d":"0 "}},{"$f":"IF(別紙１_実施計画書!$K431=\"\",\"\",別紙１_実施計画書!$K431)","v":{"v":0,"d":"0 "}},{"$f":"IF(別紙１_実施計画書!$K472=\"\",\"\",別紙１_実施計画書!$K472)","v":{"v":0,"d":"0 "}},{"$f":"IF(別紙１_実施計画書!$K513=\"\",\"\",別紙１_実施計画書!$K513)","v":{"v":0,"d":"0 "}},{"$f":"IF(別紙１_実施計画書!$K554=\"\",\"\",別紙１_実施計画書!$K554)","v":{"v":0,"d":"0 "}},{"$f":"IF(別紙１_実施計画書!$K595=\"\",\"\",別紙１_実施計画書!$K595)","v":{"v":0,"d":"0 "}},{"$f":"IF(別紙１_実施計画書!$K636=\"\",\"\",別紙１_実施計画書!$K636)","v":{"v":0,"d":"0 "}},"*"]
[38,{"$nulls":4},"実績値",{"$nulls":16},"*"]
[39,{"$nulls":4},"算出根拠","1回当たり20人×10回",{"$f":"IF(別紙１_実施計画書!$I62=\"\",\"\",別紙１_実施計画書!$I62)","v":""},{"$f":"IF(別紙１_実施計画書!$I104=\"\",\"\",別紙１_実施計画書!$I104)","v":""},{"$f":"IF(別紙１_実施計画書!$I145=\"\",\"\",別紙１_実施計画書!$I145)","v":""},{"$f":"IF(別紙１_実施計画書!$I186=\"\",\"\",別紙１_実施計画書!$I186)","v":""},{"$f":"IF(別紙１_実施計画書!$I227=\"\",\"\",別紙１_実施計画書!$I227)","v":""},{"$f":"IF(別紙１_実施計画書!$I268=\"\",\"\",別紙１_実施計画書!$I268)","v":""},{"$f":"IF(別紙１_実施計画書!$I309=\"\",\"\",別紙１_実施計画書!$I309)","v":""},{"$f":"IF(別紙１_実施計画書!$I350=\"\",\"\",別紙１_実施計画書!$I350)","v":""},{"$f":"IF(別紙１_実施計画書!$I391=\"\",\"\",別紙１_実施計画書!$I391)","v":""},{"$f":"IF(別紙１_実施計画書!$I432=\"\",\"\",別紙１_実施計画書!$I432)","v":""},{"$f":"IF(別紙１_実施計画書!$I473=\"\",\"\",別紙１_実施計画書!$I473)","v":""},{"$f":"IF(別紙１_実施計画書!$I514=\"\",\"\",別紙１_実施計画書!$I514)","v":""},{"$f":"IF(別紙１_実施計画書!$I555=\"\",\"\",別紙１_実施計画書!$I555)","v":""},{"$f":"IF(別紙１_実施計画書!$I596=\"\",\"\",別紙１_実施計画書!$I596)","v":""},{"$f":"IF(別紙１_実施計画書!$I637=\"\",\"\",別紙１_実施計画書!$I637)","v":""},"*"]
[40,null,"規模（リーチ数）\nカテゴリ②",null,null,"（詳細）カテゴリ②",null,"　",{"$f":"IF(別紙１_実施計画書!$P105=\"\",\"\",別紙１_実施計画書!$P105)","v":""},{"$f":"IF(別紙１_実施計画書!$P146=\"\",\"\",別紙１_実施計画書!$P146)","v":""},{"$f":"IF(別紙１_実施計画書!$P187=\"\",\"\",別紙１_実施計画書!$P187)","v":""},{"$f":"IF(別紙１_実施計画書!$P228=\"\",\"\",別紙１_実施計画書!$P228)","v":""},{"$f":"IF(別紙１_実施計画書!$P269=\"\",\"\",別紙１_実施計画書!$P269)","v":""},{"$f":"IF(別紙１_実施計画書!$P310=\"\",\"\",別紙１_実施計画書!$P310)","v":""},{"$f":"IF(別紙１_実施計画書!$P351=\"\",\"\",別紙１_実施計画書!$P351)","v":""},{"$f":"IF(別紙１_実施計画書!$P392=\"\",\"\",別紙１_実施計画書!$P392)","v":""},{"$f":"IF(別紙１_実施計画書!$P433=\"\",\"\",別紙１_実施計画書!$P433)","v":""},{"$f":"IF(別紙１_実施計画書!$P474=\"\",\"\",別紙１_実施計画書!$P474)","v":""},{"$f":"IF(別紙１_実施計画書!$P515=\"\",\"\",別紙１_実施計画書!$P515)","v":""},{"$f":"IF(別紙１_実施計画書!$P556=\"\",\"\",別紙１_実施計画書!$P556)","v":""},{"$f":"IF(別紙１_実施計画書!$P597=\"\",\"\",別紙１_実施計画書!$P597)","v":""},{"$f":"IF(別紙１_実施計画書!$P638=\"\",\"\",別紙１_実施計画書!$P638)","v":""},"*"]
[41,{"$nulls":4},"昨年度実績値",null,{"$f":"IF(別紙１_実施計画書!$K64=\"\",\"\",別紙１_実施計画書!$K64)","v":{"v":0,"d":"0 "}},{"$f":"IF(別紙１_実施計画書!$K106=\"\",\"\",別紙１_実施計画書!$K106)","v":{"v":0,"d":"0 "}},{"$f":"IF(別紙１_実施計画書!$K147=\"\",\"\",別紙１_実施計画書!$K147)","v":{"v":0,"d":"0 "}},{"$f":"IF(別紙１_実施計画書!$K188=\"\",\"\",別紙１_実施計画書!$K188)","v":{"v":0,"d":"0 "}},{"$f":"IF(別紙１_実施計画書!$K229=\"\",\"\",別紙１_実施計画書!$K229)","v":{"v":0,"d":"0 "}},{"$f":"IF(別紙１_実施計画書!$K270=\"\",\"\",別紙１_実施計画書!$K270)","v":{"v":0,"d":"0 "}},{"$f":"IF(別紙１_実施計画書!$K311=\"\",\"\",別紙１_実施計画書!$K311)","v":{"v":0,"d":"0 "}},{"$f":"IF(別紙１_実施計画書!$K352=\"\",\"\",別紙１_実施計画書!$K352)","v":{"v":0,"d":"0 "}},{"$f":"IF(別紙１_実施計画書!$K393=\"\",\"\",別紙１_実施計画書!$K393)","v":{"v":0,"d":"0 "}},{"$f":"IF(別紙１_実施計画書!$K434=\"\",\"\",別紙１_実施計画書!$K434)","v":{"v":0,"d":"0 "}},{"$f":"IF(別紙１_実施計画書!$K475=\"\",\"\",別紙１_実施計画書!$K475)","v":{"v":0,"d":"0 "}},{"$f":"IF(別紙１_実施計画書!$K516=\"\",\"\",別紙１_実施計画書!$K516)","v":{"v":0,"d":"0 "}},{"$f":"IF(別紙１_実施計画書!$K557=\"\",\"\",別紙１_実施計画書!$K557)","v":{"v":0,"d":"0 "}},{"$f":"IF(別紙１_実施計画書!$K598=\"\",\"\",別紙１_実施計画書!$K598)","v":{"v":0,"d":"0 "}},{"$f":"IF(別紙１_実施計画書!$K639=\"\",\"\",別紙１_実施計画書!$K639)","v":{"v":0,"d":"0 "}},"*"]
[42,{"$nulls":4},"計画値",null,{"$f":"IF(別紙１_実施計画書!$K65=\"\",\"\",別紙１_実施計画書!$K65)","v":{"v":0,"d":"0 "}},{"$f":"IF(別紙１_実施計画書!$K107=\"\",\"\",別紙１_実施計画書!$K107)","v":{"v":0,"d":"0 "}},{"$f":"IF(別紙１_実施計画書!$K148=\"\",\"\",別紙１_実施計画書!$K148)","v":{"v":0,"d":"0 "}},{"$f":"IF(別紙１_実施計画書!$K189=\"\",\"\",別紙１_実施計画書!$K189)","v":{"v":0,"d":"0 "}},{"$f":"IF(別紙１_実施計画書!$K230=\"\",\"\",別紙１_実施計画書!$K230)","v":{"v":0,"d":"0 "}},{"$f":"IF(別紙１_実施計画書!$K271=\"\",\"\",別紙１_実施計画書!$K271)","v":{"v":0,"d":"0 "}},{"$f":"IF(別紙１_実施計画書!$K312=\"\",\"\",別紙１_実施計画書!$K312)","v":{"v":0,"d":"0 "}},{"$f":"IF(別紙１_実施計画書!$K353=\"\",\"\",別紙１_実施計画書!$K353)","v":{"v":0,"d":"0 "}},{"$f":"IF(別紙１_実施計画書!$K394=\"\",\"\",別紙１_実施計画書!$K394)","v":{"v":0,"d":"0 "}},{"$f":"IF(別紙１_実施計画書!$K435=\"\",\"\",別紙１_実施計画書!$K435)","v":{"v":0,"d":"0 "}},{"$f":"IF(別紙１_実施計画書!$K476=\"\",\"\",別紙１_実施計画書!$K476)","v":{"v":0,"d":"0 "}},{"$f":"IF(別紙１_実施計画書!$K517=\"\",\"\",別紙１_実施計画書!$K517)","v":{"v":0,"d":"0 "}},{"$f":"IF(別紙１_実施計画書!$K558=\"\",\"\",別紙１_実施計画書!$K558)","v":{"v":0,"d":"0 "}},{"$f":"IF(別紙１_実施計画書!$K599=\"\",\"\",別紙１_実施計画書!$K599)","v":{"v":0,"d":"0 "}},{"$f":"IF(別紙１_実施計画書!$K640=\"\",\"\",別紙１_実施計画書!$K640)","v":{"v":0,"d":"0 "}},"*"]
[43,{"$nulls":4},"実績値",{"$nulls":16},"*"]
[44,{"$nulls":4},"算出根拠",null,{"$f":"IF(別紙１_実施計画書!$I66=\"\",\"\",別紙１_実施計画書!$I66)","v":""},{"$f":"IF(別紙１_実施計画書!$I108=\"\",\"\",別紙１_実施計画書!$I108)","v":""},{"$f":"IF(別紙１_実施計画書!$I149=\"\",\"\",別紙１_実施計画書!$I149)","v":""},{"$f":"IF(別紙１_実施計画書!$I190=\"\",\"\",別紙１_実施計画書!$I190)","v":""},{"$f":"IF(別紙１_実施計画書!$I231=\"\",\"\",別紙１_実施計画書!$I231)","v":""},{"$f":"IF(別紙１_実施計画書!$I272=\"\",\"\",別紙１_実施計画書!$I272)","v":""},{"$f":"IF(別紙１_実施計画書!$I313=\"\",\"\",別紙１_実施計画書!$I313)","v":""},{"$f":"IF(別紙１_実施計画書!$I354=\"\",\"\",別紙１_実施計画書!$I354)","v":""},{"$f":"IF(別紙１_実施計画書!$I395=\"\",\"\",別紙１_実施計画書!$I395)","v":""},{"$f":"IF(別紙１_実施計画書!$I436=\"\",\"\",別紙１_実施計画書!$I436)","v":""},{"$f":"IF(別紙１_実施計画書!$I477=\"\",\"\",別紙１_実施計画書!$I477)","v":""},{"$f":"IF(別紙１_実施計画書!$I518=\"\",\"\",別紙１_実施計画書!$I518)","v":""},{"$f":"IF(別紙１_実施計画書!$I559=\"\",\"\",別紙１_実施計画書!$I559)","v":""},{"$f":"IF(別紙１_実施計画書!$I600=\"\",\"\",別紙１_実施計画書!$I600)","v":""},{"$f":"IF(別紙１_実施計画書!$I641=\"\",\"\",別紙１_実施計画書!$I641)","v":""},"*"]
[45,"目標アウトカム",{"$nulls":3},"計画",null,{"$f":"IF(別紙１_実施計画書!$E67=\"\",\"\",別紙１_実施計画書!$E67)","v":""},{"$f":"IF(別紙１_実施計画書!$E109=\"\",\"\",別紙１_実施計画書!$E109)","v":""},{"$f":"IF(別紙１_実施計画書!$E150=\"\",\"\",別紙１_実施計画書!$E150)","v":""},{"$f":"IF(別紙１_実施計画書!$E191=\"\",\"\",別紙１_実施計画書!$E191)","v":""},{"$f":"IF(別紙１_実施計画書!$E232=\"\",\"\",別紙１_実施計画書!$E232)","v":""},{"$f":"IF(別紙１_実施計画書!$E273=\"\",\"\",別紙１_実施計画書!$E273)","v":""},{"$f":"IF(別紙１_実施計画書!$E314=\"\",\"\",別紙１_実施計画書!$E314)","v":""},{"$f":"IF(別紙１_実施計画書!$E355=\"\",\"\",別紙１_実施計画書!$E355)","v":""},{"$f":"IF(別紙１_実施計画書!$E396=\"\",\"\",別紙１_実施計画書!$E396)","v":""},{"$f":"IF(別紙１_実施計画書!$E437=\"\",\"\",別紙１_実施計画書!$E437)","v":""},{"$f":"IF(別紙１_実施計画書!$E478=\"\",\"\",別紙１_実施計画書!$E478)","v":""},{"$f":"IF(別紙１_実施計画書!$E519=\"\",\"\",別紙１_実施計画書!$E519)","v":""},{"$f":"IF(別紙１_実施計画書!$E560=\"\",\"\",別紙１_実施計画書!$E560)","v":""},{"$f":"IF(別紙１_実施計画書!$E601=\"\",\"\",別紙１_実施計画書!$E601)","v":""},{"$f":"IF(別紙１_実施計画書!$E642=\"\",\"\",別紙１_実施計画書!$E642)","v":""},"*"]
[46,{"$nulls":4},"実績"]
[47,"賛同数（団体）\n※数値で記入",{"$nulls":3},"昨年度実績値",null,{"$f":"IF(別紙１_実施計画書!$K68=\"\",\"\",別紙１_実施計画書!$K68)","v":{"v":0,"d":"0 "}},{"$f":"IF(別紙１_実施計画書!$K110=\"\",\"\",別紙１_実施計画書!$K110)","v":{"v":0,"d":"0 "}},{"$f":"IF(別紙１_実施計画書!$K151=\"\",\"\",別紙１_実施計画書!$K151)","v":{"v":0,"d":"0 "}},{"$f":"IF(別紙１_実施計画書!$K192=\"\",\"\",別紙１_実施計画書!$K192)","v":{"v":0,"d":"0 "}},{"$f":"IF(別紙１_実施計画書!$K233=\"\",\"\",別紙１_実施計画書!$K233)","v":{"v":0,"d":"0 "}},{"$f":"IF(別紙１_実施計画書!$K274=\"\",\"\",別紙１_実施計画書!$K274)","v":{"v":0,"d":"0 "}},{"$f":"IF(別紙１_実施計画書!$K315=\"\",\"\",別紙１_実施計画書!$K315)","v":{"v":0,"d":"0 "}},{"$f":"IF(別紙１_実施計画書!$K356=\"\",\"\",別紙１_実施計画書!$K356)","v":{"v":0,"d":"0 "}},{"$f":"IF(別紙１_実施計画書!$K397=\"\",\"\",別紙１_実施計画書!$K397)","v":{"v":0,"d":"0 "}},{"$f":"IF(別紙１_実施計画書!$K438=\"\",\"\",別紙１_実施計画書!$K438)","v":{"v":0,"d":"0 "}},{"$f":"IF(別紙１_実施計画書!$K479=\"\",\"\",別紙１_実施計画書!$K479)","v":{"v":0,"d":"0 "}},{"$f":"IF(別紙１_実施計画書!$K520=\"\",\"\",別紙１_実施計画書!$K520)","v":{"v":0,"d":"0 "}},{"$f":"IF(別紙１_実施計画書!$K561=\"\",\"\",別紙１_実施計画書!$K561)","v":{"v":0,"d":"0 "}},{"$f":"IF(別紙１_実施計画書!$K602=\"\",\"\",別紙１_実施計画書!$K602)","v":{"v":0,"d":"0 "}},{"$f":"IF(別紙１_実施計画書!$K643=\"\",\"\",別紙１_実施計画書!$K643)","v":{"v":0,"d":"0 "}},"*"]
[48,{"$nulls":4},"計画値",null,{"$f":"IF(別紙１_実施計画書!$K69=\"\",\"\",別紙１_実施計画書!$K69)","v":{"v":0,"d":"0 "}},{"$f":"IF(別紙１_実施計画書!$K111=\"\",\"\",別紙１_実施計画書!$K111)","v":{"v":0,"d":"0 "}},{"$f":"IF(別紙１_実施計画書!$K152=\"\",\"\",別紙１_実施計画書!$K152)","v":{"v":0,"d":"0 "}},{"$f":"IF(別紙１_実施計画書!$K193=\"\",\"\",別紙１_実施計画書!$K193)","v":{"v":0,"d":"0 "}},{"$f":"IF(別紙１_実施計画書!$K234=\"\",\"\",別紙１_実施計画書!$K234)","v":{"v":0,"d":"0 "}},{"$f":"IF(別紙１_実施計画書!$K275=\"\",\"\",別紙１_実施計画書!$K275)","v":{"v":0,"d":"0 "}},{"$f":"IF(別紙１_実施計画書!$K316=\"\",\"\",別紙１_実施計画書!$K316)","v":{"v":0,"d":"0 "}},{"$f":"IF(別紙１_実施計画書!$K357=\"\",\"\",別紙１_実施計画書!$K357)","v":{"v":0,"d":"0 "}},{"$f":"IF(別紙１_実施計画書!$K398=\"\",\"\",別紙１_実施計画書!$K398)","v":{"v":0,"d":"0 "}},{"$f":"IF(別紙１_実施計画書!$K439=\"\",\"\",別紙１_実施計画書!$K439)","v":{"v":0,"d":"0 "}},{"$f":"IF(別紙１_実施計画書!$K480=\"\",\"\",別紙１_実施計画書!$K480)","v":{"v":0,"d":"0 "}},{"$f":"IF(別紙１_実施計画書!$K521=\"\",\"\",別紙１_実施計画書!$K521)","v":{"v":0,"d":"0 "}},{"$f":"IF(別紙１_実施計画書!$K562=\"\",\"\",別紙１_実施計画書!$K562)","v":{"v":0,"d":"0 "}},{"$f":"IF(別紙１_実施計画書!$K603=\"\",\"\",別紙１_実施計画書!$K603)","v":{"v":0,"d":"0 "}},{"$f":"IF(別紙１_実施計画書!$K644=\"\",\"\",別紙１_実施計画書!$K644)","v":{"v":0,"d":"0 "}},"*"]
[49,{"$nulls":4},"実績値",{"$nulls":16},"*"]
[50,"賛同数（個人）\n※数値で記入",{"$nulls":3},"昨年度実績値",{"v":150,"d":"150 "},{"$f":"IF(別紙１_実施計画書!$R68=\"\",\"\",別紙１_実施計画書!$R68)","v":{"v":0,"d":"0 "}},{"$f":"IF(別紙１_実施計画書!$R110=\"\",\"\",別紙１_実施計画書!$R110)","v":{"v":0,"d":"0 "}},{"$f":"IF(別紙１_実施計画書!$R151=\"\",\"\",別紙１_実施計画書!$R151)","v":{"v":0,"d":"0 "}},{"$f":"IF(別紙１_実施計画書!$R192=\"\",\"\",別紙１_実施計画書!$R192)","v":{"v":0,"d":"0 "}},{"$f":"IF(別紙１_実施計画書!$R233=\"\",\"\",別紙１_実施計画書!$R233)","v":{"v":0,"d":"0 "}},{"$f":"IF(別紙１_実施計画書!$R274=\"\",\"\",別紙１_実施計画書!$R274)","v":{"v":0,"d":"0 "}},{"$f":"IF(別紙１_実施計画書!$R315=\"\",\"\",別紙１_実施計画書!$R315)","v":{"v":0,"d":"0 "}},{"$f":"IF(別紙１_実施計画書!$R356=\"\",\"\",別紙１_実施計画書!$R356)","v":{"v":0,"d":"0 "}},{"$f":"IF(別紙１_実施計画書!$R397=\"\",\"\",別紙１_実施計画書!$R397)","v":{"v":0,"d":"0 "}},{"$f":"IF(別紙１_実施計画書!$R438=\"\",\"\",別紙１_実施計画書!$R438)","v":{"v":0,"d":"0 "}},{"$f":"IF(別紙１_実施計画書!$R479=\"\",\"\",別紙１_実施計画書!$R479)","v":{"v":0,"d":"0 "}},{"$f":"IF(別紙１_実施計画書!$R520=\"\",\"\",別紙１_実施計画書!$R520)","v":{"v":0,"d":"0 "}},{"$f":"IF(別紙１_実施計画書!$R561=\"\",\"\",別紙１_実施計画書!$R561)","v":{"v":0,"d":"0 "}},{"$f":"IF(別紙１_実施計画書!$R602=\"\",\"\",別紙１_実施計画書!$R602)","v":{"v":0,"d":"0 "}},{"$f":"IF(別紙１_実施計画書!$R643=\"\",\"\",別紙１_実施計画書!$R643)","v":{"v":0,"d":"0 "}},"*"]
[51,{"$nulls":4},"計画値",{"v":180,"d":"180 "},{"$f":"IF(別紙１_実施計画書!$R69=\"\",\"\",別紙１_実施計画書!$R69)","v":{"v":0,"d":"0 "}},{"$f":"IF(別紙１_実施計画書!$R111=\"\",\"\",別紙１_実施計画書!$R111)","v":{"v":0,"d":"0 "}},{"$f":"IF(別紙１_実施計画書!$R152=\"\",\"\",別紙１_実施計画書!$R152)","v":{"v":0,"d":"0 "}},{"$f":"IF(別紙１_実施計画書!$R193=\"\",\"\",別紙１_実施計画書!$R193)","v":{"v":0,"d":"0 "}},{"$f":"IF(別紙１_実施計画書!$R234=\"\",\"\",別紙１_実施計画書!$R234)","v":{"v":0,"d":"0 "}},{"$f":"IF(別紙１_実施計画書!$R275=\"\",\"\",別紙１_実施計画書!$R275)","v":{"v":0,"d":"0 "}},{"$f":"IF(別紙１_実施計画書!$R316=\"\",\"\",別紙１_実施計画書!$R316)","v":{"v":0,"d":"0 "}},{"$f":"IF(別紙１_実施計画書!$R357=\"\",\"\",別紙１_実施計画書!$R357)","v":{"v":0,"d":"0 "}},{"$f":"IF(別紙１_実施計画書!$R398=\"\",\"\",別紙１_実施計画書!$R398)","v":{"v":0,"d":"0 "}},{"$f":"IF(別紙１_実施計画書!$R439=\"\",\"\",別紙１_実施計画書!$R439)","v":{"v":0,"d":"0 "}},{"$f":"IF(別紙１_実施計画書!$R480=\"\",\"\",別紙１_実施計画書!$R480)","v":{"v":0,"d":"0 "}},{"$f":"IF(別紙１_実施計画書!$R521=\"\",\"\",別紙１_実施計画書!$R521)","v":{"v":0,"d":"0 "}},{"$f":"IF(別紙１_実施計画書!$R562=\"\",\"\",別紙１_実施計画書!$R562)","v":{"v":0,"d":"0 "}},{"$f":"IF(別紙１_実施計画書!$R603=\"\",\"\",別紙１_実施計画書!$R603)","v":{"v":0,"d":"0 "}},{"$f":"IF(別紙１_実施計画書!$R644=\"\",\"\",別紙１_実施計画書!$R644)","v":{"v":0,"d":"0 "}},"*"]
[52,{"$nulls":4},"実績値",{"$nulls":16},"*"]
[53,"効果検証","アンケート種類",null,null,"【規定】省エネ家電","無",{"$f":"別紙１_実施計画書!$E73","v":"- 選択 -"},{"$f":"別紙１_実施計画書!$E$115","v":"- 選択 -"},{"$f":"別紙１_実施計画書!$E$156","v":"- 選択 -"},{"$f":"別紙１_実施計画書!$E$197","v":"- 選択 -"},{"$f":"別紙１_実施計画書!$E$238","v":"- 選択 -"},{"$f":"別紙１_実施計画書!$E$279","v":"- 選択 -"},{"$f":"別紙１_実施計画書!$E$320","v":"- 選択 -"},{"$f":"別紙１_実施計画書!$E$361","v":"- 選択 -"},{"$f":"別紙１_実施計画書!$E$402","v":"- 選択 -"},{"$f":"別紙１_実施計画書!$E$443","v":"- 選択 -"},{"$f":"別紙１_実施計画書!$E$484","v":"- 選択 -"},{"$f":"別紙１_実施計画書!$E$525","v":"- 選択 -"},{"$f":"別紙１_実施計画書!$E$566","v":"- 選択 -"},{"$f":"別紙１_実施計画書!$E$607","v":"- 選択 -"},{"$f":"別紙１_実施計画書!$E$648","v":"- 選択 -"},"*"]
[54,{"$nulls":4},"【規定】省エネ住宅","無",{"$f":"別紙１_実施計画書!$I73","v":"- 選択 -"},{"$f":"別紙１_実施計画書!$I$115","v":"- 選択 -"},{"$f":"別紙１_実施計画書!$I$156","v":"- 選択 -"},{"$f":"別紙１_実施計画書!$I$197","v":"- 選択 -"},{"$f":"別紙１_実施計画書!$I$238","v":"- 選択 -"},{"$f":"別紙１_実施計画書!$I$279","v":"- 選択 -"},{"$f":"別紙１_実施計画書!$I$320","v":"- 選択 -"},{"$f":"別紙１_実施計画書!$I$361","v":"- 選択 -"},{"$f":"別紙１_実施計画書!$I$402","v":"- 選択 -"},{"$f":"別紙１_実施計画書!$I$443","v":"- 選択 -"},{"$f":"別紙１_実施計画書!$I$484","v":"- 選択 -"},{"$f":"別紙１_実施計画書!$I$525","v":"- 選択 -"},{"$f":"別紙１_実施計画書!$I$566","v":"- 選択 -"},{"$f":"別紙１_実施計画書!$I$607","v":"- 選択 -"},{"$f":"別紙１_実施計画書!$I$648","v":"- 選択 -"},"*"]
[55,{"$nulls":4},"【規定】エコドライブ","有",{"$f":"別紙１_実施計画書!$M73","v":"- 選択 -"},{"$f":"別紙１_実施計画書!$M$115","v":"- 選択 -"},{"$f":"別紙１_実施計画書!$M$156","v":"- 選択 -"},{"$f":"別紙１_実施計画書!$M$197","v":"- 選択 -"},{"$f":"別紙１_実施計画書!$M$238","v":"- 選択 -"},{"$f":"別紙１_実施計画書!$M$279","v":"- 選択 -"},{"$f":"別紙１_実施計画書!$M$320","v":"- 選択 -"},{"$f":"別紙１_実施計画書!$M$361","v":"- 選択 -"},{"$f":"別紙１_実施計画書!$M$402","v":"- 選択 -"},{"$f":"別紙１_実施計画書!$M$443","v":"- 選択 -"},{"$f":"別紙１_実施計画書!$M$484","v":"- 選択 -"},{"$f":"別紙１_実施計画書!$M$525","v":"- 選択 -"},{"$f":"別紙１_実施計画書!$M$566","v":"- 選択 -"},{"$f":"別紙１_実施計画書!$M$607","v":"- 選択 -"},{"$f":"別紙１_実施計画書!$M$648","v":"- 選択 -"},"*"]
[56,{"$nulls":4},"【規定】低炭素物流","無",{"$f":"別紙１_実施計画書!$Q73","v":"- 選択 -"},{"$f":"別紙１_実施計画書!$Q$115","v":"- 選択 -"},{"$f":"別紙１_実施計画書!$Q$156","v":"- 選択 -"},{"$f":"別紙１_実施計画書!$Q$197","v":"- 選択 -"},{"$f":"別紙１_実施計画書!$Q$238","v":"- 選択 -"},{"$f":"別紙１_実施計画書!$Q$279","v":"- 選択 -"},{"$f":"別紙１_実施計画書!$Q$320","v":"- 選択 -"},{"$f":"別紙１_実施計画書!$Q$361","v":"- 選択 -"},{"$f":"別紙１_実施計画書!$Q$402","v":"- 選択 -"},{"$f":"別紙１_実施計画書!$Q$443","v":"- 選択 -"},{"$f":"別紙１_実施計画書!$Q$484","v":"- 選択 -"},{"$f":"別紙１_実施計画書!$Q$525","v":"- 選択 -"},{"$f":"別紙１_実施計画書!$Q$566","v":"- 選択 -"},{"$f":"別紙１_実施計画書!$Q$607","v":"- 選択 -"},{"$f":"別紙１_実施計画書!$Q$648","v":"- 選択 -"},"*"]
[57,{"$nulls":4},"事業者独自","無",{"$f":"別紙１_実施計画書!$V73","v":"- 選択 -"},{"$f":"別紙１_実施計画書!$V$115","v":"- 選択 -"},{"$f":"別紙１_実施計画書!$V$156","v":"- 選択 -"},{"$f":"別紙１_実施計画書!$V$197","v":"- 選択 -"},{"$f":"別紙１_実施計画書!$V$238","v":"- 選択 -"},{"$f":"別紙１_実施計画書!$V$279","v":"- 選択 -"},{"$f":"別紙１_実施計画書!$V$320","v":"- 選択 -"},{"$f":"別紙１_実施計画書!$V$361","v":"- 選択 -"},{"$f":"別紙１_実施計画書!$V$402","v":"- 選択 -"},{"$f":"別紙１_実施計画書!$V$443","v":"- 選択 -"},{"$f":"別紙１_実施計画書!$V$484","v":"- 選択 -"},{"$f":"別紙１_実施計画書!$V$525","v":"- 選択 -"},{"$f":"別紙１_実施計画書!$V$566","v":"- 選択 -"},{"$f":"別紙１_実施計画書!$V$607","v":"- 選択 -"},{"$f":"別紙１_実施計画書!$V$648","v":"- 選択 -"},"*"]
[58,{"$nulls":4},"内容",null,{"$f":"IF(別紙１_実施計画書!$G74=\"\",\"\",別紙１_実施計画書!$G74)","v":""},{"$f":"IF(別紙１_実施計画書!$G116=\"\",\"\",別紙１_実施計画書!$G116)","v":""},{"$f":"IF(別紙１_実施計画書!$G157=\"\",\"\",別紙１_実施計画書!$G157)","v":""},{"$f":"IF(別紙１_実施計画書!$G198=\"\",\"\",別紙１_実施計画書!$G198)","v":""},{"$f":"IF(別紙１_実施計画書!$G239=\"\",\"\",別紙１_実施計画書!$G239)","v":""},{"$f":"IF(別紙１_実施計画書!$G280=\"\",\"\",別紙１_実施計画書!$G280)","v":""},{"$f":"IF(別紙１_実施計画書!$G321=\"\",\"\",別紙１_実施計画書!$G321)","v":""},{"$f":"IF(別紙１_実施計画書!$G362=\"\",\"\",別紙１_実施計画書!$G362)","v":""},{"$f":"IF(別紙１_実施計画書!$G403=\"\",\"\",別紙１_実施計画書!$G403)","v":""},{"$f":"IF(別紙１_実施計画書!$G444=\"\",\"\",別紙１_実施計画書!$G444)","v":""},{"$f":"IF(別紙１_実施計画書!$G485=\"\",\"\",別紙１_実施計画書!$G485)","v":""},{"$f":"IF(別紙１_実施計画書!$G526=\"\",\"\",別紙１_実施計画書!$G526)","v":""},{"$f":"IF(別紙１_実施計画書!$G567=\"\",\"\",別紙１_実施計画書!$G567)","v":""},{"$f":"IF(別紙１_実施計画書!$G608=\"\",\"\",別紙１_実施計画書!$G608)","v":""},{"$f":"IF(別紙１_実施計画書!$G649=\"\",\"\",別紙１_実施計画書!$G649)","v":""},"*"]
[59,null,"アンケート回収数",null,null,"昨年度実績",{"v":0,"d":"0 "},{"$f":"IF(別紙１_実施計画書!$J75=\"\",\"\",別紙１_実施計画書!$J75)","v":{"v":0,"d":"0 "}},{"$f":"IF(別紙１_実施計画書!$J117=\"\",\"\",別紙１_実施計画書!$J117)","v":{"v":0,"d":"0 "}},{"$f":"IF(別紙１_実施計画書!$J158=\"\",\"\",別紙１_実施計画書!$J158)","v":{"v":0,"d":"0 "}},{"$f":"IF(別紙１_実施計画書!$J199=\"\",\"\",別紙１_実施計画書!$J199)","v":{"v":0,"d":"0 "}},{"$f":"IF(別紙１_実施計画書!$J240=\"\",\"\",別紙１_実施計画書!$J240)","v":{"v":0,"d":"0 "}},{"$f":"IF(別紙１_実施計画書!$J281=\"\",\"\",別紙１_実施計画書!$J281)","v":{"v":0,"d":"0 "}},{"$f":"IF(別紙１_実施計画書!$J322=\"\",\"\",別紙１_実施計画書!$J322)","v":{"v":0,"d":"0 "}},{"$f":"IF(別紙１_実施計画書!$J363=\"\",\"\",別紙１_実施計画書!$J363)","v":{"v":0,"d":"0 "}},{"$f":"IF(別紙１_実施計画書!$J404=\"\",\"\",別紙１_実施計画書!$J404)","v":{"v":0,"d":"0 "}},{"$f":"IF(別紙１_実施計画書!$J445=\"\",\"\",別紙１_実施計画書!$J445)","v":{"v":0,"d":"0 "}},{"$f":"IF(別紙１_実施計画書!$J486=\"\",\"\",別紙１_実施計画書!$J486)","v":{"v":0,"d":"0 "}},{"$f":"IF(別紙１_実施計画書!$J527=\"\",\"\",別紙１_実施計画書!$J527)","v":{"v":0,"d":"0 "}},{"$f":"IF(別紙１_実施計画書!$J568=\"\",\"\",別紙１_実施計画書!$J568)","v":{"v":0,"d":"0 "}},{"$f":"IF(別紙１_実施計画書!$J609=\"\",\"\",別紙１_実施計画書!$J609)","v":{"v":0,"d":"0 "}},{"$f":"IF(別紙１_実施計画書!$J650=\"\",\"\",別紙１_実施計画書!$J650)","v":{"v":0,"d":"0 "}},"*"]
[60,{"$nulls":4},"計画値",{"v":160,"d":"160 "},{"$f":"IF(別紙１_実施計画書!$J76=\"\",\"\",別紙１_実施計画書!$J76)","v":{"v":0,"d":"0 "}},{"$f":"IF(別紙１_実施計画書!$J118=\"\",\"\",別紙１_実施計画書!$J118)","v":{"v":0,"d":"0 "}},{"$f":"IF(別紙１_実施計画書!$J159=\"\",\"\",別紙１_実施計画書!$J159)","v":{"v":0,"d":"0 "}},{"$f":"IF(別紙１_実施計画書!$J200=\"\",\"\",別紙１_実施計画書!$J200)","v":{"v":0,"d":"0 "}},{"$f":"IF(別紙１_実施計画書!$J241=\"\",\"\",別紙１_実施計画書!$J241)","v":{"v":0,"d":"0 "}},{"$f":"IF(別紙１_実施計画書!$J282=\"\",\"\",別紙１_実施計画書!$J282)","v":{"v":0,"d":"0 "}},{"$f":"IF(別紙１_実施計画書!$J323=\"\",\"\",別紙１_実施計画書!$J323)","v":{"v":0,"d":"0 "}},{"$f":"IF(別紙１_実施計画書!$J364=\"\",\"\",別紙１_実施計画書!$J364)","v":{"v":0,"d":"0 "}},{"$f":"IF(別紙１_実施計画書!$J405=\"\",\"\",別紙１_実施計画書!$J405)","v":{"v":0,"d":"0 "}},{"$f":"IF(別紙１_実施計画書!$J446=\"\",\"\",別紙１_実施計画書!$J446)","v":{"v":0,"d":"0 "}},{"$f":"IF(別紙１_実施計画書!$J487=\"\",\"\",別紙１_実施計画書!$J487)","v":{"v":0,"d":"0 "}},{"$f":"IF(別紙１_実施計画書!$J528=\"\",\"\",別紙１_実施計画書!$J528)","v":{"v":0,"d":"0 "}},{"$f":"IF(別紙１_実施計画書!$J569=\"\",\"\",別紙１_実施計画書!$J569)","v":{"v":0,"d":"0 "}},{"$f":"IF(別紙１_実施計画書!$J610=\"\",\"\",別紙１_実施計画書!$J610)","v":{"v":0,"d":"0 "}},{"$f":"IF(別紙１_実施計画書!$J651=\"\",\"\",別紙１_実施計画書!$J651)","v":{"v":0,"d":"0 "}},"*"]
[61,{"$nulls":4},"実績値",{"$nulls":16},"*"]
[62,"事業実施に要した費用実績\n※数値で記入",{"$nulls":4},{"v":400000,"d":"400,000 "},{"$nulls":15},"*"]
["*","*","*","*",null,null,"*","*","*","*","*","*","*","*","*","*","*","*","*","*","*","*","*"]

{"sheet":"【事業終了時】事業全体","index":11,"n_rows":29,"n_cols":8,"rows_kept":29,"merged":[[2,1,2,4],[2,5,2,11],[8,2,8,4],[20,2,26,11],[29,2,35,11]]}
[]
[null,"都道府県",{"$nulls":3},"事業者名"]
[{"$nulls":5},{"$f":"別紙１_実施計画書!E10","v":0}]
[]
[null,"＜事業終了時＞"]
[]
[null,"実績報告"]
[{"$nulls":5},"計画値","実績値","達成率（%）"]
[null,null,"補助金所要額（円）",null,null,{"$f":"【事業開始時】事業全体!$F14","v":0},{"$f":"別紙２_経費所要額積算調書!J35","v":0},"-"]
[null,null,"KPI"]
[{"$nulls":3},"普及啓発人数（リーチ数）",null,{"$f":"【事業開始時】事業全体!F16","v":0},{"$f":"別紙１_実施報告書!G743","v":0},{"$f":"IF(G11=\"\",\"\",G11/F11)","v":{"$error":"#DIV/0!"}}]
[{"$nulls":3},"賛同数",null,"-","-","-"]
[{"$nulls":4},"団体賛同数",{"$f":"【事業開始時】事業全体!F18","v":0},{"$f":"別紙１_実施報告書!G731","v":0},{"$f":"IF(G13=\"\",\"\",G13/F13)","v":{"$error":"#DIV/0!"}}]
[{"$nulls":4},"個人賛同数",{"$f":"【事業開始時】事業全体!F19","v":0},{"$f":"別紙１_実施報告書!G733","v":0},{"$error":"#DIV/0!"}]
[{"$nulls":3},"アンケート回収数",null,{"$f":"【事業開始時】事業全体!$F20","v":0},{"$f":"別紙１_実施報告書!G745","v":0},{"$error":"#DIV/0!"}]
[]
[null,null,"実施した事業の成功要因、課題とその要因"]
[{"$nulls":3},"①実施計画書どおりに事業を実施できたか。できなかった場合、その要因は何か"]
[{"$nulls":3},"②事業全体を通して、普及啓発時に工夫した点は何か"]
[{"$nulls":3},"③KPIの達成率に対する所感"]
{"$rows_empty":8}
[null,null,"上記課題の改善策"]

{"sheet":"（参考）普及啓発テーマ・訴求手法","index":12,"n_rows":21,"n_cols":8,"rows_kept":21,"merged":[[2,2,4,3],[2,4,2,6],[2,7,2,14],[3,4,3,6],[3,7,3,14],[4,4,4,6],[4,7,4,14],[5,2,13,3],[5,4,13,6],[5,7,5,14],[6,7,6,14],[7,7,7,14],[8,7,8,14],[9,7,9,14],[10,7,10,14],[11,7,11,14],[12,7,12,14],[17,2,17,5],[17,6,17,14],[18,6,18,14],[19,6,19,14],[20,6,20,14]]}
[]
[null,"（参考）普及啓発テーマ一覧"]
[null,null,"購買選好の\n変化",null,"省エネ家電買換え",null,null,"①省エネ機器の買換え促進"]
[{"$nulls":4},"省エネ住宅購入",null,null,"②省エネ住宅の普及促進"]
[{"$nulls":4},"エコカー買換え",null,null,"③エコカーの普及促進"]
[null,null,"価値観の変化",null,"エコなライフスタイル選択",null,null,"④クールビズ実施の推進"]
[{"$nulls":7},"⑤ウォームビズ実施の推進"]
[{"$nulls":7},"⑥照明の効率的な利用促進"]
[{"$nulls":7},"⑦エコドライブの推進"]
[{"$nulls":7},"⑧カーシェアリングの利用促進"]
[{"$nulls":7},"⑨公共交通機関の利用促進"]
[{"$nulls":7},"⑩低炭素物流の普及促進（宅配便再配達防止）"]
[{"$nulls":7},"⑪シェアリングエコノミーの普及促進（バイクシェア、コミュニティサイクル）"]
[{"$nulls":7},"⑫地球温暖化防止の取組の必要性"]
[]
[]
[null,"（参考）地域普及啓発事業における訴求手法一覧"]
[null,null,"地域普及啓発事業における\n訴求手法",{"$nulls":3},"定義"]
[null,null,"a) 情報発信型（受動型）事業",{"$nulls":3},"コミュニティFMや新聞広告等を通じ、不特定多数に対して一方向的に情報発信を行うことで普及啓発を行う事業"]
[null,null,"b) 情報発信型（能動型）事業",{"$nulls":3},"講演会やパネル展示等により、対面で一方向的に普及啓発を行う事業"]
[null,null,"c) 双方向体験交流型事業",{"$nulls":3},"交流会、試乗会又は省エネ診断等、参加者との双方向のコミュニケーションを通じて普及啓発を行う事業"]

{"sheet":"【管理者用】","index":13,"n_rows":3,"n_cols":5,"rows_kept":3,"hidden":true}
[]
[null,"年度",{"$f":"様式第１_交付申請書!Q5","v":2019}]
[null,"期間",{"$f":"DATE($C$2,4,1)","v":"2019-04-01"},"～",{"$f":"DATE(C2+1,2,29)","v":"2020-02-29"}]